{"text_format":"1","workbook":"xlsx","n_sheets":14,"sheets":["Раздел0","Раздел1","Раздел2","Раздел3","Раздел4","Раздел5","Раздел6","Раздел7","Раздел8","Раздел9","Раздел10","Раздел11","Раздел12","Раздел13"],"not_rendered":{"charts":0,"images":0,"macros":1,"external_links":0,"defined_names":0,"comments":0,"pivot_tables":0},"unopened":[],"bounds":{"document_bytes":16777216,"sheet_cells":100000,"rows_first":2000,"rows_last":500,"rows_between":2000,"halvings":0,"cell_chars":16384,"cell_head_chars":4096},"cells_cut":0,"cells_raw":0,"read":"whole","date_system":"1900"}

{"sheet":"Раздел0","index":0,"n_rows":38,"n_cols":19,"rows_kept":38,"cut":false,"hidden":false,"merged":[[0,0,0,17],[1,0,38,0],[1,4,1,14],[3,4,3,14],[5,3,5,15],[8,5,8,13],[9,5,9,13],[11,1,11,9],[11,10,11,11],[11,13,11,16],[12,13,12,16],[13,13,13,16],[33,1,33,7],[33,8,33,11],[33,12,33,17],[20,13,20,16],[16,13,16,16],[17,13,17,16],[12,1,29,9],[12,10,29,11],[14,13,14,16],[15,13,15,16],[31,4,31,17],[32,1,32,7],[32,8,32,11],[32,12,32,17],[30,1,30,6],[30,7,30,17],[31,18,32,18],[34,4,34,18],[39,0,39,17],[35,12,35,17],[37,1,37,3],[37,4,37,7],[37,8,37,11],[37,12,37,17],[36,1,36,3],[36,4,36,7],[36,8,36,11],[36,12,36,17],[34,1,35,3],[35,4,35,7],[35,8,35,11],[31,1,31,3]]}
[]
[null,null,null,null,"ФЕДЕРАЛЬНОЕ СТАТИСТИЧЕСКОЕ НАБЛЮДЕНИЕ"]
[]
[null,null,null,null,"КОНФИДЕНЦИАЛЬНОСТЬ ГАРАНТИРУЕТСЯ ПОЛУЧАТЕЛЕМ ИНФОРМАЦИИ"]
[]
[null,null,null,"Нарушение порядка предоставления первичных статистических данных или несвоевременное предоставление этих данных, \nлибо предоставление недостоверных первичных статистических данных влечет ответственность, установленную \nКодексом Российской Федерации об административных правонарушениях"]
[]
[]
[null,null,null,null,null,"СВЕДЕНИЯ ПО ПОДГОТОВКЕ СПОРТИВНОГО РЕЗЕРВА"]
[null,null,null,null,null,"по состоянию на 31 декабря 2021 г."]
[]
[null,"Предоставляют:",null,null,null,null,null,null,null,null,"Сроки предоставления",null,null,"Форма № 5-ФК"]
[null,"юридические лица (кроме субъектов малого и среднего предпринимательства) – \nорганизации, осуществляющие спортивную подготовку или обеспечивающие подготовку спортивного резерва:\n\n      - Министерству спорта Российской Федерации по установленному им адресу \n",null,null,null,null,null,null,null,null,"20 января",null,null,"Приказ Росстата: \nОб утверждении формы \nот __________ № ___\nО внесении изменений (при наличии)  \nот  __________ № ___\nот  __________ № ___"]
[]
[]
[]
[]
[]
[]
[]
[null,null,null,null,null,null,null,null,null,null,null,null,null,"Годовая"]
[]
[]
[]
[]
[]
[]
[]
[]
[]
[null,"Наименование отчитывающейся организации",null,null,null,null,null,"Муниципальное бюджетное учреждение Спортивная школа (МБУ СШ)"]
[null,"Почтовый адрес",null,null,"628383, ХМАО-Югра, г.Пыть-Ях 3 мкр \"Кедровый\" ул. Святослава Федорова д.23",null,null,null,null,null,null,null,null,null,null,null,null,null,"Сельское поселение"]
[null,"Муниципальный район",null,null,null,null,null,null,"Городской округ",null,null,null,"Муниципальный округ"]
[null,null,null,null,null,null,null,null,"Пыть-Ях"]
[null,"Код\nформы\nпо ОКУД",null,null,"Код"]
[null,null,null,null,"отчитывающейся организации по ОКПО \n(для обособленного подразделения юридического лица – идентификационный номер)",null,null,null,null,null,null,null,null,null,null,null,null,null,"Код ОКТМО"]
[null,1,null,null,2,null,null,null,3,null,null,null,4,null,null,null,null,null,5]
[null,"0609403",null,null,"41261830"]

{"sheet":"Раздел1","index":1,"n_rows":29,"n_cols":14,"rows_kept":29,"cut":false,"hidden":false,"merged":[[0,0,16,0],[0,1,0,10],[0,11,16,11],[1,7,1,10],[2,1,3,1],[2,2,3,2],[2,3,3,3],[2,4,2,10],[21,8,21,9],[22,1,24,1],[22,2,24,2],[22,3,22,7],[22,8,23,8],[23,4,23,5],[23,6,23,7],[24,4,24,5],[24,6,24,7],[26,2,27,2],[25,6,25,7],[26,1,28,1],[26,3,27,3],[26,4,27,5],[26,6,27,7],[28,4,28,5],[28,6,28,7]]}
[null,"Раздел I. Число организаций"]
[null,null,null,null,null,null,null,"Код по ОКЕИ: единица – 642"]
[null,"Ведомственная \nпринадлежность","№ стро-ки","Число организаций и структурных подразделений – всего","в том числе по виду организации:"]
[null,null,null,null,"ДЮСШ ","СШ","СШОР","УОР","ЦСП","ЦОП","Другие\nорганизации"]
[null,1,2,3,4,5,6,7,8,9,10]
[null,"Организации в ведении органов управления в сфере физической культуры и спорта","01",{"$f":"SUM(E6:K6)","v":1},null,1,null,null,null,null,null,null,null,{"$f":"SUM(E6:H6,J6:K6)","v":1}]
[null,"Структурные подразделения, реализующие программы спортивной подготовки","02",{"$f":"SUM(E7:K7)","v":0},null,null,null,null,null,null,null,null,null,{"$f":"SUM(E6:K6)","v":1}]
[null,"Обособленные структурные подразделения, реализующие программы спортивной подготовки","03",0,null,null,null,null,null,null,null,null,null,{"$f":"SUM(I18:J18)","v":0}]
[null,"Структурные подразделения, реализующие дополнительные общеобразовательные программы в области физической культуры и спорта ","04",0,null,null,null,null,null,null,null,null,null,{"$f":"SUM(F13,F16)","v":0}]
[null,"Организации в ведении органов управления в сфере образования","05",0,null,null,null,null,null,null,null,null,null,{"$f":"SUM(K7,K9)","v":0}]
[null,"Структурные подразделения, реализующие программы спортивной подготовки","06",0]
[null,"Обособленные структурные подразделения, реализующие программы спортивной подготовки","07",0]
[null,"Организации другой ведомственной принадлежности","08",0]
[null,"Структурные подразделения, реализующие программы спортивной подготовки","09",0]
[null,"Обособленные структурные подразделения, реализующие программы спортивной подготовки","10",0]
[null,"Структурные подразделения, реализующие дополнительные общеобразовательные программы в области физической культуры и спорта","11",{"$f":"SUM(E16:K16)","v":0}]
[null,"Частные организации (из стр. 08)","12",0]
[null,"Итого организаций","13",{"$f":"SUM(E18:K18)","v":1},{"$f":"SUM(E6,E10,E13)","v":0},{"$f":"SUM(F6,F10,F13)","v":1},{"$f":"SUM(G6,G10,G13)","v":0},0,0,0,0]
[null,"Итого обособленных структурных подразделений, реализующих программы спортивной подготовки","14",{"$f":"SUM(E19:K19)","v":0},{"$f":"SUM(E8,E12,E15)","v":0},{"$f":"SUM(F8,F12,F15)","v":0},0,0,0,{"$f":"SUM(J8,J12,J15)","v":0},0]
[]
[null,"ОГРН","15","1028601543178"]
[null,null,null,null,null,null,null,null,"Код по ОКЕИ: единица – 642"]
[null,"Виды правовых образований","16","Публичные правовые образования",null,null,null,null,"Иные правовые образования \n(в том числе частные)"]
[null,null,null,"Российская Федерация","Субъект Российской Федерации",null,"Муниципальное образование"]
[null,null,null,null,null,null,1]
[null,"Код по ОКЕИ: единица – 642",null,null,null,null,"Код по ОКЕИ: единица – 642"]
[null,"Реализация программ спортивной подготовки","№ стро-ки","Не реализуют","Частично",null,"Полностью"]
[]
[null,null,17,null,null,null,1]

{"sheet":"Раздел2","index":2,"n_rows":274,"n_cols":33,"rows_kept":274,"cut":false,"hidden":false,"merged":[[2,1,5,1],[5,16,6,16],[4,16,4,20],[5,3,6,3],[5,8,6,8],[5,9,6,9],[5,10,6,10],[0,0,0,21],[1,21,1,28],[2,0,5,0],[2,2,4,3],[2,4,6,4],[2,5,2,28],[3,5,6,5],[3,6,3,20],[3,21,4,28],[4,6,6,6],[4,7,4,10],[4,11,4,14],[5,11,6,11],[5,19,6,19],[5,20,6,20],[4,15,6,15],[5,23,5,28],[5,2,6,2],[5,7,6,7],[5,17,6,17],[5,18,6,18],[5,21,5,22],[5,12,6,12],[5,13,6,13],[5,14,6,14]]}
["Раздел II. Численность занимающихся"]
[null,null,null,null,null,null,null,null,null,null,null,null,null,null,null,null,null,null,null,null,null,"Коды по ОКЕИ: человек - 792, единица - 642"]
["Виды спорта","№ строки","Число отделений по видам спорта, единица",null,"Базовый вид спорта","Число занимающихся на 31 декабря отчетного года, человек"]
[null,null,null,null,null,"всего","Занимающиеся ",null,null,null,null,null,null,null,null,null,null,null,null,null,null,"Обучающиеся по дополнительным общеобразовательным программам в области физической культуры и спорта"]
[null,null,null,null,null,null,"спортивно-оздоровительный","по этапам спортивной подготовки",null,null,null,"по возрастам",null,null,null,"женщин (из гр. 7-11)","в платных группах (из гр. 7-11)"]
[null,null,"всего","в том числе олимпийские отделения",null,null,null,"начальной подготовки","трениро-вочный","совершен-ствования спортивного мастерства","высшего спортивного мастерства","до 4 лет ","от 5 до 17 лет","от 18 до 22 лет","старше 22 лет",null,"спортивно-оздоровительный","начальной подготовки","трениро-вочный","совершен-ствования спортивного мастерства","высшего спортивного мастерства","по общеразвивающим программам",null,"по предпрофессиональным программам"]
[null,null,null,null,null,null,null,null,null,null,null,null,null,null,null,null,null,null,null,null,null,"всего","в платных группах (из гр. 22)","всего","базовый уровень (из гр. 24)","углубленный уровень (из гр. 24)","в платных группах (из гр. 24)","базовый уровень (из гр. 27)","углубленный уровень (из гр. 27)"]
[1,2,3,4,5,6,7,8,9,10,11,12,13,14,15,16,17,18,19,20,21,22,23,24,25,26,27,28,29]
["Авиамодельный спорт","01",null,null,null,{"$f":"SUM(G9:K9,V9,X9)*IF(C9>0,1,0)","v":0},null,null,null,null,null,null,null,null,null,null,null,null,null,null,null,null,null,{"$f":"SUM(Y9:Z9)","v":0},null,null,{"$f":"SUM(AB9:AC9)","v":0}]
["Автомобильный спорт","02",null,null,null,{"$f":"SUM(G10:K10,V10,X10)*IF(C10>0,1,0)","v":0},null,null,null,null,null,null,null,null,null,null,null,null,null,null,null,null,null,{"$f":"SUM(Y10:Z10)","v":0},null,null,{"$f":"SUM(AB10:AC10)","v":0}]
["Автомодельный спорт","03",null,null,null,0,null,null,null,null,null,null,null,null,null,null,null,null,null,null,null,null,null,0,null,null,0]
["Айкидо","04",1,null,null,30,10,null,20,null,null,null,30,null,null,9,null,null,null,null,null,null,null,0,null,null,0]
["Айсшток","05",null,null,null,0,null,null,null,null,null,null,null,null,null,null,null,null,null,null,null,null,null,0,null,null,0]
["Акробатический рок-н-ролл","06",null,null,null,0,null,null,null,null,null,null,null,null,null,null,null,null,null,null,null,null,null,0,null,null,0,null,null,null,null,{"$f":"Раздел1!F13+Раздел1!F16","v":0}]
["Альпинизм","07",null,null,null,0,null,null,null,null,null,null,null,null,null,null,null,null,null,null,null,null,null,0,null,null,0]
["Американский футбол","08",null,null,null,0,null,null,null,null,null,null,null,null,null,null,null,null,null,null,null,null,null,0,null,null,0]
["Армейский рукопашный бой","09",null,null,null,0,null,null,null,null,null,null,null,null,null,null,null,null,null,null,null,null,null,{"$f":"SUM(Y17:Z17)","v":0},null,null,{"$f":"SUM(AB17:AC17)","v":0}]
["Армейское тактико-стрелковое многоборье",10,null,null,null,0,null,null,null,null,null,null,null,null,null,null,null,null,null,null,null,null,null,0,null,null,0]
["Армрестлинг",11,null,null,null,0,null,null,null,null,null,null,null,null,null,null,null,null,null,null,null,null,null,0,null,null,0]
["Бадминтон",12,null,null,null,0,null,null,null,null,null,null,null,null,null,null,null,null,null,null,null,null,null,0,null,null,0]
["Баскетбол - всего",13,{"$f":"IF(SUM(C22:C24)>=1,1,0)","v":1},{"$f":"IF(SUM(D22:D24)>=1,1,0)","v":0},null,20,{"$f":"SUM(G22:G24)","v":20},{"$f":"SUM(H22:H24)","v":0},0,0,0,0,20,0,0,{"$f":"SUM(P22:P24)","v":10},0,0,0,0,0,0,0,0,0,0,0,0,0]
["в том числе:\nБаскетбол (муж.)",14,1,null,null,10,10,null,null,null,null,null,10,null,null,null,null,null,null,null,null,null,null,0,null,null,0]
["Баскетбол (жен.)",15,1,null,null,10,10,null,null,null,null,null,10,null,null,{"$f":"SUM(G23:K23)","v":10},null,null,null,null,null,null,null,0,null,null,0]
["Баскетбол 3х3",16,null,null,null,0,null,null,null,null,null,null,null,null,null,null,null,null,null,null,null,null,null,0,null,null,0]
["Бейсбол",17,null,null,null,0,null,null,null,null,null,null,null,null,null,null,null,null,null,null,null,null,null,0,null,null,0]
["Биатлон",18,null,null,null,0,null,null,null,null,null,null,null,null,null,null,null,null,null,null,null,null,null,0,null,null,0]
["Бильярдный спорт",19,null,null,null,0,null,null,null,null,null,null,null,null,null,null,null,null,null,null,null,null,null,0,null,null,0]
["Бобслей - всего",20,{"$f":"IF(SUM(C29:C30)>=1,1,0)","v":0},{"$f":"IF(SUM(D29:D30)>=1,1,0)","v":0},null,0,{"$f":"SUM(G29:G30)","v":0},{"$f":"SUM(H29:H30)","v":0},0,0,0,0,0,0,0,0,0,0,0,0,0,0,0,0,0,0,0,0,0]
["в том числе:\nБобслей",21,null,null,null,0,null,null,null,null,null,null,null,null,null,null,null,null,null,null,null,null,null,0,null,null,0]
["Скелетон",22,null,null,null,0,null,null,null,null,null,null,null,null,null,null,null,null,null,null,null,null,null,0,null,null,0]
["Бодибилдинг",23,null,null,null,0,null,null,null,null,null,null,null,null,null,null,null,null,null,null,null,null,null,0,null,null,0]
["Бокс",24,null,null,null,0,null,null,null,null,null,null,null,null,null,null,null,null,null,null,null,null,null,0,null,null,0]
["Борьба на поясах",25,null,null,null,0,null,null,null,null,null,null,null,null,null,null,null,null,null,null,null,null,null,0,null,null,0]
["Боулинг",26,null,null,null,0,null,null,null,null,null,null,null,null,null,null,null,null,null,null,null,null,null,0,null,null,0]
["Боулспорт",27,null,null,null,0,null,null,null,null,null,null,null,null,null,null,null,null,null,null,null,null,null,0,null,null,0]
["Велосипедный спорт - всего",28,{"$f":"IF(SUM(C37:C40)>=1,1,0)","v":0},{"$f":"IF(SUM(D37:D40)>=1,1,0)","v":0},null,0,{"$f":"SUM(G37:G40)","v":0},{"$f":"SUM(H37:H40)","v":0},0,0,0,0,0,0,0,0,0,0,0,0,0,0,0,0,0,0,0,0,0]
["в том числе:\nBMX",29,null,null,null,0,null,null,null,null,null,null,null,null,null,null,null,null,null,null,null,null,null,0,null,null,0]
["Маунтинбайк",30,null,null,null,0,null,null,null,null,null,null,null,null,null,null,null,null,null,null,null,null,null,0,null,null,0]
["Трек",31,null,null,null,0,null,null,null,null,null,null,null,null,null,null,null,null,null,null,null,null,null,0,null,null,0]
["Шоссе",32,null,null,null,0,null,null,null,null,null,null,null,null,null,null,null,null,null,null,null,null,null,0,null,null,0]
["Вертолетный спорт",33,null,null,null,0,null,null,null,null,null,null,null,null,null,null,null,null,null,null,null,null,null,0,null,null,0]
["Водно-моторный спорт",34,null,null,null,0,null,null,null,null,null,null,null,null,null,null,null,null,null,null,null,null,null,0,null,null,0]
["Водно-спасательное многоборье",35,null,null,null,0,null,null,null,null,null,null,null,null,null,null,null,null,null,null,null,null,null,0,null,null,0]
["Водное поло - всего ",36,{"$f":"IF(SUM(C45:C46)>=1,1,0)","v":0},{"$f":"IF(SUM(D45:D46)>=1,1,0)","v":0},null,0,{"$f":"SUM(G45:G46)","v":0},{"$f":"SUM(H45:H46)","v":0},0,0,0,0,0,0,0,0,0,0,0,0,0,0,0,0,0,0,0,0,0]
["в том числе:\nВодное поло (муж.)",37,null,null,null,0,null,null,null,null,null,null,null,null,null,null,null,null,null,null,null,null,null,0,null,null,0]
["Водное поло (жен.)",38,null,null,null,0,null,null,null,null,null,null,null,null,null,{"$f":"SUM(G46:K46)","v":0},null,null,null,null,null,null,null,0,null,null,0]
["Воднолыжный спорт",39,null,null,null,0,null,null,null,null,null,null,null,null,null,null,null,null,null,null,null,null,null,0,null,null,0]
["Военно-прикладной спорт",40,null,null,null,0,null,null,null,null,null,null,null,null,null,null,null,null,null,null,null,null,null,0,null,null,0]
["Военно-спортивное многоборье",41,null,null,null,0,null,null,null,null,null,null,null,null,null,null,null,null,null,null,null,null,null,0,null,null,0]
["Воздухоплавательный спорт",42,null,null,null,0,null,null,null,null,null,null,null,null,null,null,null,null,null,null,null,null,null,0,null,null,0]
["Воздушно-силовая атлетика",43,null,null,null,0,null,null,null,null,null,null,null,null,null,null,null,null,null,null,null,null,null,0,null,null,0]
["Волейбол - всего",44,{"$f":"IF(SUM(C53:C56)>=1,1,0)","v":1},{"$f":"IF(SUM(D53:D56)>=1,1,0)","v":0},null,101,{"$f":"SUM(G53:G56)","v":56},{"$f":"SUM(H53:H56)","v":45},0,0,0,0,101,0,0,42,0,0,0,0,0,0,0,0,0,0,0,0,0]
["в том числе:\nВолейбол (муж.)",45,1,null,null,59,26,33,null,null,null,null,59,null,null,null,null,null,null,null,null,null,null,0,null,null,0]
["Волейбол (жен.)",46,1,null,null,42,30,12,null,null,null,null,42,null,null,{"$f":"SUM(G54:K54)","v":42},null,null,null,null,null,null,null,0,null,null,0]
["Пляжный волейбол (муж.)",47,null,null,null,0,null,null,null,null,null,null,null,null,null,null,null,null,null,null,null,null,null,0,null,null,0]
["Пляжный волейбол (жен.)",48,null,null,null,0,null,null,null,null,null,null,null,null,null,{"$f":"SUM(G56:K56)","v":0},null,null,null,null,null,null,null,0,null,null,0]
["Восточное боевое единоборство",49,null,null,null,0,null,null,null,null,null,null,null,null,null,null,null,null,null,null,null,null,null,0,null,null,0]
["Всестилевое каратэ",50,null,null,null,0,null,null,null,null,null,null,null,null,null,null,null,null,null,null,null,null,null,0,null,null,0]
["Гандбол - всего",51,{"$f":"IF(SUM(C60:C62)>=1,1,0)","v":0},{"$f":"IF(SUM(D60:D62)>=1,1,0)","v":0},null,0,{"$f":"SUM(G60:G62)","v":0},{"$f":"SUM(H60:H62)","v":0},0,0,0,0,0,0,0,0,0,0,0,0,0,0,0,0,0,0,0,0,0]
["в том числе:\nГандбол (муж.)",52,null,null,null,0,null,null,null,null,null,null,null,null,null,null,null,null,null,null,null,null,null,0,null,null,0]
["Гандбол (жен.)",53,null,null,null,0,null,null,null,null,null,null,null,null,null,{"$f":"SUM(G61:K61)","v":0},null,null,null,null,null,null,null,0,null,null,0]
["Пляжный гандбол",54,null,null,null,0,null,null,null,null,null,null,null,null,null,null,null,null,null,null,null,null,null,0,null,null,0]
["Гиревой спорт",55,null,null,null,0,null,null,null,null,null,null,null,null,null,null,null,null,null,null,null,null,null,0,null,null,0]
["Го",56,null,null,null,0,null,null,null,null,null,null,null,null,null,null,null,null,null,null,null,null,null,0,null,null,0]
["Гольф",57,null,null,null,0,null,null,null,null,null,null,null,null,null,null,null,null,null,null,null,null,null,0,null,null,0]
["Гонки на охотничьих лыжах",58,null,null,null,0,null,null,null,null,null,null,null,null,null,null,null,null,null,null,null,null,null,0,null,null,0]
["Гонки с препятствиями",59,null,null,null,0,null,null,null,null,null,null,null,null,null,null,null,null,null,null,null,null,null,0,null,null,0]
["Горнолыжный спорт",60,null,null,null,0,null,null,null,null,null,null,null,null,null,null,null,null,null,null,null,null,null,0,null,null,0]
["Городошный спорт",61,null,null,null,0,null,null,null,null,null,null,null,null,null,null,null,null,null,null,null,null,null,0,null,null,0]
["Гребля на байдарках и каноэ",62,null,null,null,0,null,null,null,null,null,null,null,null,null,null,null,null,null,null,null,null,null,0,null,null,0]
["Гребля на шлюпках",63,null,null,null,0,null,null,null,null,null,null,null,null,null,null,null,null,null,null,null,null,null,0,null,null,0]
["Гребной слалом",64,null,null,null,0,null,null,null,null,null,null,null,null,null,null,null,null,null,null,null,null,null,0,null,null,0]
["Гребной спорт - всего",65,{"$f":"IF(SUM(C74:C77)>=1,1,0)","v":0},{"$f":"IF(SUM(D74:D77)>=1,1,0)","v":0},null,0,{"$f":"SUM(G74:G77)","v":0},{"$f":"SUM(H74:H77)","v":0},0,0,0,0,0,0,0,0,0,0,0,0,0,0,0,0,0,0,0,0,0]
["в том числе:\nАкадемическая гребля",66,null,null,null,{"$f":"SUM(G74:K74,V74,X74)*IF(C74>0,1,0)","v":0},null,null,null,null,null,null,null,null,null,null,null,null,null,null,null,null,null,{"$f":"SUM(Y74:Z74)","v":0},null,null,{"$f":"SUM(AB74:AC74)","v":0}]
["Гребля-индор",67,null,null,null,0,null,null,null,null,null,null,null,null,null,null,null,null,null,null,null,null,null,0,null,null,0]
["Народная гребля",68,null,null,null,0,null,null,null,null,null,null,null,null,null,null,null,null,null,null,null,null,null,0,null,null,0]
["Прибрежная гребля",69,null,null,null,0,null,null,null,null,null,null,null,null,null,null,null,null,null,null,null,null,null,0,null,null,0]
["Гребно-парусное двоеборье",70,null,null,null,0,null,null,null,null,null,null,null,null,null,null,null,null,null,null,null,null,null,0,null,null,0]
["Дартс",71,null,null,null,0,null,null,null,null,null,null,null,null,null,null,null,null,null,null,null,null,null,0,null,null,0]
["Джиу-джитсу",72,null,null,null,0,null,null,null,null,null,null,null,null,null,null,null,null,null,null,null,null,null,0,null,null,0]
["Дзюдо",73,null,null,null,0,null,null,null,null,null,null,null,null,null,null,null,null,null,null,null,null,null,0,null,null,0]
["Ездовой спорт",74,null,null,null,0,null,null,null,null,null,null,null,null,null,null,null,null,null,null,null,null,null,0,null,null,0]
["Капоэйра",75,null,null,null,0,null,null,null,null,null,null,null,null,null,null,null,null,null,null,null,null,null,0,null,null,0]
["Каратэ",76,null,null,null,0,null,null,null,null,null,null,null,null,null,null,null,null,null,null,null,null,null,0,null,null,0]
["Кендо",77,null,null,null,0,null,null,null,null,null,null,null,null,null,null,null,null,null,null,null,null,null,0,null,null,0]
["Керешу",78,null,null,null,0,null,null,null,null,null,null,null,null,null,null,null,null,null,null,null,null,null,0,null,null,0]
["Кёрлинг - всего",79,{"$f":"IF(SUM(C88:C90)>=1,1,0)","v":0},{"$f":"IF(SUM(D88:D90)>=1,1,0)","v":0},null,0,{"$f":"SUM(G88:G90)","v":0},{"$f":"SUM(H88:H90)","v":0},0,0,0,0,0,0,0,0,0,0,0,0,0,0,0,0,0,0,0,0,0]
["в том числе:\nКерлинг (муж.)",80,null,null,null,0,null,null,null,null,null,null,null,null,null,null,null,null,null,null,null,null,null,0,null,null,0]
["Керлинг (жен.)",81,null,null,null,0,null,null,null,null,null,null,null,null,null,{"$f":"SUM(G89:K89)","v":0},null,null,null,null,null,null,null,0,null,null,0]
["Кёрлинг – смешанные пары",82,null,null,null,0,null,null,null,null,null,null,null,null,null,null,null,null,null,null,null,null,null,0,null,null,0]
["Кикбоксинг",83,null,null,null,0,null,null,null,null,null,null,null,null,null,null,null,null,null,null,null,null,null,0,null,null,0]
["Кинологический спорт",84,null,null,null,0,null,null,null,null,null,null,null,null,null,null,null,null,null,null,null,null,null,0,null,null,0]
["Киокусинкай",85,null,null,null,0,null,null,null,null,null,null,null,null,null,null,null,null,null,null,null,null,null,0,null,null,0]
["Комплексное единоборство",86,null,null,null,0,null,null,null,null,null,null,null,null,null,null,null,null,null,null,null,null,null,0,null,null,0]
["Компьютерный спорт",87,null,null,null,0,null,null,null,null,null,null,null,null,null,null,null,null,null,null,null,null,null,0,null,null,0]
["Конный спорт",88,null,null,null,0,null,null,null,null,null,null,null,null,null,null,null,null,null,null,null,null,null,0,null,null,0]
["Конькобежный спорт - всего",89,{"$f":"IF(SUM(C98:C99)>=1,1,0)","v":0},{"$f":"IF(SUM(D98:D99)>=1,1,0)","v":0},null,0,{"$f":"SUM(G98:G99)","v":0},{"$f":"SUM(H98:H99)","v":0},0,0,0,0,0,0,0,0,0,0,0,0,0,0,0,0,0,0,0,0,0]
["в том числе:\nКонькобежный спорт",90,null,null,null,0,null,null,null,null,null,null,null,null,null,null,null,null,null,null,null,null,null,0,null,null,0]
["Шорт-трек",91,null,null,null,0,null,null,null,null,null,null,null,null,null,null,null,null,null,null,null,null,null,0,null,null,0]
["Корэш",92,null,null,null,0,null,null,null,null,null,null,null,null,null,null,null,null,null,null,null,null,null,0,null,null,0]
["Корфбол",93,null,null,null,0,null,null,null,null,null,null,null,null,null,null,null,null,null,null,null,null,null,0,null,null,0]
["Крикет",94,null,null,null,0,null,null,null,null,null,null,null,null,null,null,null,null,null,null,null,null,null,0,null,null,0]
["Кудо",95,null,null,null,0,null,null,null,null,null,null,null,null,null,null,null,null,null,null,null,null,null,0,null,null,0]
["Лапта",96,null,null,null,0,null,null,null,null,null,null,null,null,null,null,null,null,null,null,null,null,null,0,null,null,0]
["Легкая атлетика - всего",97,{"$f":"IF(SUM(C106:C112)>=1,1,0)","v":0},{"$f":"IF(SUM(D106:D112)>=1,1,0)","v":0},null,0,{"$f":"SUM(G106:G112)","v":0},{"$f":"SUM(H106:H112)","v":0},0,0,0,0,0,0,0,0,0,0,0,0,0,0,0,0,0,0,0,0,0]
["в том числе:\nСпринтерский и барьерный бег",98,null,null,null,0,null,null,null,null,null,null,null,null,null,null,null,null,null,null,null,null,null,0,null,null,0]
["Бег на средние дистанции и бег с препятствиями",99,null,null,null,0,null,null,null,null,null,null,null,null,null,null,null,null,null,null,null,null,null,0,null,null,0]
["Бег на длинные и сверхдлинные дистанции",100,null,null,null,0,null,null,null,null,null,null,null,null,null,null,null,null,null,null,null,null,null,0,null,null,0]
["Многоборья",101,null,null,null,0,null,null,null,null,null,null,null,null,null,null,null,null,null,null,null,null,null,0,null,null,0]
["Прыжки",102,null,null,null,0,null,null,null,null,null,null,null,null,null,null,null,null,null,null,null,null,null,0,null,null,0]
["Метания",103,null,null,null,0,null,null,null,null,null,null,null,null,null,null,null,null,null,null,null,null,null,0,null,null,0]
["Спортивная ходьба",104,null,null,null,0,null,null,null,null,null,null,null,null,null,null,null,null,null,null,null,null,null,0,null,null,0]
["Лыжное двоеборье",105,null,null,null,0,null,null,null,null,null,null,null,null,null,null,null,null,null,null,null,null,null,0,null,null,0]
["Лыжные гонки",106,1,null,null,106,34,39,33,null,null,null,106,null,null,40,null,null,null,null,null,null,null,0,null,null,0]
["Мас-рестлинг",107,null,null,null,0,null,null,null,null,null,null,null,null,null,null,null,null,null,null,null,null,null,0,null,null,0]
["Международное военно-спортивное многоборье",108,null,null,null,0,null,null,null,null,null,null,null,null,null,null,null,null,null,null,null,null,null,0,null,null,0]
["Многоборье кинологов",109,null,null,null,0,null,null,null,null,null,null,null,null,null,null,null,null,null,null,null,null,null,0,null,null,0]
["Многоборье спасателей МЧС России",110,null,null,null,0,null,null,null,null,null,null,null,null,null,null,null,null,null,null,null,null,null,0,null,null,0]
["Морское многоборье",111,null,null,null,0,null,null,null,null,null,null,null,null,null,null,null,null,null,null,null,null,null,0,null,null,0]
["Мотоциклетный спорт",112,null,null,null,0,null,null,null,null,null,null,null,null,null,null,null,null,null,null,null,null,null,0,null,null,0]
["Настольный теннис",113,null,null,null,0,null,null,null,null,null,null,null,null,null,null,null,null,null,null,null,null,null,0,null,null,0]
["Падел",114,null,null,null,0,null,null,null,null,null,null,null,null,null,null,null,null,null,null,null,null,null,0,null,null,0]
["Парашютный спорт",115,null,null,null,0,null,null,null,null,null,null,null,null,null,null,null,null,null,null,null,null,null,0,null,null,0]
["Парусный спорт",116,null,null,null,0,null,null,null,null,null,null,null,null,null,null,null,null,null,null,null,null,null,0,null,null,0]
["Пауэрлифтинг",117,1,null,null,110,49,36,21,4,null,null,103,6,1,18,null,null,null,null,null,null,null,0,null,null,0]
["Перетягивание каната",118,null,null,null,0,null,null,null,null,null,null,null,null,null,null,null,null,null,null,null,null,null,0,null,null,0]
["Плавание - всего",119,{"$f":"IF(SUM(C128:C129)>=1,1,0)","v":0},{"$f":"IF(SUM(D128:D129)>=1,1,0)","v":0},null,0,{"$f":"SUM(G128:G129)","v":0},{"$f":"SUM(H128:H129)","v":0},0,0,0,0,0,0,0,0,0,0,0,0,0,0,0,0,0,0,0,0,0]
["в том числе:\nПлавание ",120,null,null,null,0,null,null,null,null,null,null,null,null,null,null,null,null,null,null,null,null,null,0,null,null,0]
["Открытая вода",121,null,null,null,0,null,null,null,null,null,null,null,null,null,null,null,null,null,null,null,null,null,0,null,null,0]
["Планерный спорт",122,null,null,null,0,null,null,null,null,null,null,null,null,null,null,null,null,null,null,null,null,null,0,null,null,0]
["Подводный спорт",123,null,null,null,0,null,null,null,null,null,null,null,null,null,null,null,null,null,null,null,null,null,0,null,null,0]
["Пожарно-спасательный спорт",124,null,null,null,0,null,null,null,null,null,null,null,null,null,null,null,null,null,null,null,null,null,0,null,null,0]
["Полиатлон",125,null,null,null,0,null,null,null,null,null,null,null,null,null,null,null,null,null,null,null,null,null,0,null,null,0]
["Практическая стрельба",126,null,null,null,0,null,null,null,null,null,null,null,null,null,null,null,null,null,null,null,null,null,0,null,null,0]
["Прыжки в воду - всего",127,{"$f":"IF(SUM(C136:C137)>=1,1,0)","v":0},{"$f":"IF(SUM(D136:D137)>=1,1,0)","v":0},null,0,{"$f":"SUM(G136:G137)","v":0},{"$f":"SUM(H136:H137)","v":0},0,0,0,0,0,0,0,0,0,0,0,0,0,0,0,0,0,0,0,0,0]
["в том числе:\nПрыжки в воду",128,null,null,null,0,null,null,null,null,null,null,null,null,null,null,null,null,null,null,null,null,null,0,null,null,0]
["Прыжки в открытый водоем",129,null,null,null,0,null,null,null,null,null,null,null,null,null,null,null,null,null,null,null,null,null,0,null,null,0]
["Прыжки на батуте - всего",130,{"$f":"IF(SUM(C139:C142)>=1,1,0)","v":0},{"$f":"IF(SUM(D139:D142)>=1,1,0)","v":0},null,{"$f":"SUM(G138:K138,V138,X138)*IF(C138>0,1,0)","v":0},{"$f":"SUM(G139:G142)","v":0},{"$f":"SUM(H139:H142)","v":0},0,0,0,0,0,0,0,0,0,0,0,0,0,0,0,0,0,0,0,0,0]
["в том числе:\nАкробатическая дорожка",131,null,null,null,0,null,null,null,null,null,null,null,null,null,null,null,null,null,null,null,null,null,{"$f":"SUM(Y139:Z139)","v":0},null,null,{"$f":"SUM(AB139:AC139)","v":0}]
["Двойной минитрамп",132,null,null,null,0,null,null,null,null,null,null,null,null,null,null,null,null,null,null,null,null,null,0,null,null,0]
["Индивидуальные прыжки",133,null,null,null,0,null,null,null,null,null,null,null,null,null,null,null,null,null,null,null,null,null,0,null,null,0]
["Синхронные прыжки",134,null,null,null,0,null,null,null,null,null,null,null,null,null,null,null,null,null,null,null,null,null,0,null,null,0]
["Прыжки на лыжах с трамплина",135,null,null,null,0,null,null,null,null,null,null,null,null,null,null,null,null,null,null,null,null,null,0,null,null,0]
["Пулевая стрельба - всего",136,{"$f":"IF(SUM(C145:C149)>=1,1,0)","v":0},{"$f":"IF(SUM(D145:D149)>=1,1,0)","v":0},null,0,{"$f":"SUM(G145:G149)","v":0},{"$f":"SUM(H145:H149)","v":0},0,0,0,0,0,0,0,0,0,0,0,0,0,0,0,0,0,0,0,0,0]
["в том числе:\nПневматическая винтовка",137,null,null,null,0,null,null,null,null,null,null,null,null,null,null,null,null,null,null,null,null,null,0,null,null,0]
["Пневматический пистолет",138,null,null,null,0,null,null,null,null,null,null,null,null,null,null,null,null,null,null,null,null,null,0,null,null,0]
["Малокалиберная винтовка",139,null,null,null,0,null,null,null,null,null,null,null,null,null,null,null,null,null,null,null,null,null,0,null,null,0]
["Малокалиберный пистолет",140,null,null,null,0,null,null,null,null,null,null,null,null,null,null,null,null,null,null,null,null,null,0,null,null,0]
["Движущаяся мишень",141,null,null,null,0,null,null,null,null,null,null,null,null,null,null,null,null,null,null,null,null,null,0,null,null,0]
["Пэйнтбол",142,null,null,null,0,null,null,null,null,null,null,null,null,null,null,null,null,null,null,null,null,null,0,null,null,0]
["Радиоспорт",143,null,null,null,0,null,null,null,null,null,null,null,null,null,null,null,null,null,null,null,null,null,0,null,null,0]
["Рафтинг",144,null,null,null,0,null,null,null,null,null,null,null,null,null,null,null,null,null,null,null,null,null,0,null,null,0]
["Регби - всего",145,{"$f":"IF(SUM(C154:C158)>=1,1,0)","v":0},{"$f":"IF(SUM(D154:D158)>=1,1,0)","v":0},null,0,{"$f":"SUM(G154:G158)","v":0},{"$f":"SUM(H154:H158)","v":0},0,0,0,0,0,0,0,0,0,0,0,0,0,0,0,0,0,0,0,0,0]
["в том числе:\nРегби",146,null,null,null,0,null,null,null,null,null,null,null,null,null,null,null,null,null,null,null,null,null,0,null,null,0]
["Регби 7 (муж.)",147,null,null,null,0,null,null,null,null,null,null,null,null,null,null,null,null,null,null,null,null,null,0,null,null,0]
["Регби 7 (жен.)",148,null,null,null,0,null,null,null,null,null,null,null,null,null,{"$f":"SUM(G156:K156)","v":0},null,null,null,null,null,null,null,0,null,null,0]
["Регби - пляжное",149,null,null,null,0,null,null,null,null,null,null,null,null,null,null,null,null,null,null,null,null,null,0,null,null,0]
["Регби на снегу",150,null,null,null,0,null,null,null,null,null,null,null,null,null,null,null,null,null,null,null,null,null,0,null,null,0]
["Регбол",151,null,null,null,0,null,null,null,null,null,null,null,null,null,null,null,null,null,null,null,null,null,0,null,null,0]
["Роллер спорт",152,null,null,null,0,null,null,null,null,null,null,null,null,null,null,null,null,null,null,null,null,null,0,null,null,0]
["Роуп скиппинг (спортивная скакалка)",153,null,null,null,0,null,null,null,null,null,null,null,null,null,null,null,null,null,null,null,null,null,0,null,null,0]
["Рукопашный бой",154,1,null,null,72,30,24,18,null,null,null,69,2,1,4,null,null,null,null,null,null,null,0,null,null,0]
["Рыболовный спорт",155,null,null,null,0,null,null,null,null,null,null,null,null,null,null,null,null,null,null,null,null,null,0,null,null,0]
["Сават",156,null,null,null,0,null,null,null,null,null,null,null,null,null,null,null,null,null,null,null,null,null,0,null,null,0]
["Самбо",157,null,null,null,0,null,null,null,null,null,null,null,null,null,null,null,null,null,null,null,null,null,0,null,null,0]
["Самолетный спорт",158,null,null,null,0,null,null,null,null,null,null,null,null,null,null,null,null,null,null,null,null,null,0,null,null,0]
["Санный спорт",159,null,null,null,0,null,null,null,null,null,null,null,null,null,null,null,null,null,null,null,null,null,0,null,null,0]
["Северное многоборье",160,null,null,null,0,null,null,null,null,null,null,null,null,null,null,null,null,null,null,null,null,null,0,null,null,0]
["Серфинг",161,null,null,null,0,null,null,null,null,null,null,null,null,null,null,null,null,null,null,null,null,null,0,null,null,0]
["Силовой экстрим",162,null,null,null,0,null,null,null,null,null,null,null,null,null,null,null,null,null,null,null,null,null,0,null,null,0]
["Синхронное плавание",163,null,null,null,0,null,null,null,null,null,null,null,null,null,null,null,null,null,null,null,null,null,0,null,null,0]
["Скалолазание",164,null,null,null,0,null,null,null,null,null,null,null,null,null,null,null,null,null,null,null,null,null,0,null,null,0]
["Сквош",165,null,null,null,0,null,null,null,null,null,null,null,null,null,null,null,null,null,null,null,null,null,0,null,null,0]
["Скейтбординг",166,null,null,null,0,null,null,null,null,null,null,null,null,null,null,null,null,null,null,null,null,null,0,null,null,0]
["Служебно-боевая стрельба ",167,null,null,null,0,null,null,null,null,null,null,null,null,null,null,null,null,null,null,null,null,null,0,null,null,0]
["Служебно-прикладной спорт",168,null,null,null,0,null,null,null,null,null,null,null,null,null,null,null,null,null,null,null,null,null,0,null,null,0]
["Служебно-прикладной спорт ФСО России",169,null,null,null,0,null,null,null,null,null,null,null,null,null,null,null,null,null,null,null,null,null,0,null,null,0]
["Служебно-прикладной спорт ФТС России",170,null,null,null,0,null,null,null,null,null,null,null,null,null,null,null,null,null,null,null,null,null,0,null,null,0]
["Служебное двоеборье",171,null,null,null,0,null,null,null,null,null,null,null,null,null,null,null,null,null,null,null,null,null,0,null,null,0]
["Служебное единоборство",172,null,null,null,0,null,null,null,null,null,null,null,null,null,null,null,null,null,null,null,null,null,0,null,null,0]
["Служебное многоборье",173,null,null,null,0,null,null,null,null,null,null,null,null,null,null,null,null,null,null,null,null,null,0,null,null,0]
["Служебный биатлон",174,null,null,null,0,null,null,null,null,null,null,null,null,null,null,null,null,null,null,null,null,null,0,null,null,0]
["Спасательный спорт",175,null,null,null,0,null,null,null,null,null,null,null,null,null,null,null,null,null,null,null,null,null,0,null,null,0]
["Стрельба из боевого ручного стрелкового оружия",176,null,null,null,0,null,null,null,null,null,null,null,null,null,null,null,null,null,null,null,null,null,0,null,null,0]
["Стрельба из штатного или табельного оружия",177,null,null,null,0,null,null,null,null,null,null,null,null,null,null,null,null,null,null,null,null,null,0,null,null,0]
["Смешанное боевое единоборство (ММА)",178,null,null,null,0,null,null,null,null,null,null,null,null,null,null,null,null,null,null,null,null,null,0,null,null,0]
["Сноуборд",179,null,null,null,0,null,null,null,null,null,null,null,null,null,null,null,null,null,null,null,null,null,0,null,null,0]
["Современное пятиборье",180,null,null,null,0,null,null,null,null,null,null,null,null,null,null,null,null,null,null,null,null,null,0,null,null,0]
["Софтбол",181,null,null,null,0,null,null,null,null,null,null,null,null,null,null,null,null,null,null,null,null,null,0,null,null,0]
["Спорт сверхлегкой авиации",182,null,null,null,0,null,null,null,null,null,null,null,null,null,null,null,null,null,null,null,null,null,0,null,null,0]
["Спортивная акробатика",183,null,null,null,0,null,null,null,null,null,null,null,null,null,null,null,null,null,null,null,null,null,0,null,null,0]
["Спортивная аэробика",184,null,null,null,0,null,null,null,null,null,null,null,null,null,null,null,null,null,null,null,null,null,0,null,null,0]
["Спортивная борьба - всего",185,{"$f":"IF(SUM(C194:C198)>=1,1,0)","v":0},{"$f":"IF(SUM(D194:D198)>=1,1,0)","v":0},null,0,{"$f":"SUM(G194:G198)","v":0},{"$f":"SUM(H194:H198)","v":0},0,0,0,0,0,0,0,0,0,0,0,0,0,0,0,0,0,0,0,0,0]
["в том числе:\nВольная борьба",186,null,null,null,0,null,null,null,null,null,null,null,null,null,null,null,null,null,null,null,null,null,0,null,null,0]
["Греко-римская борьба",187,null,null,null,0,null,null,null,null,null,null,null,null,null,null,null,null,null,null,null,null,null,0,null,null,0]
["Грэпплинг",188,null,null,null,0,null,null,null,null,null,null,null,null,null,null,null,null,null,null,null,null,null,0,null,null,0]
["Грэпплинг-ги",189,null,null,null,0,null,null,null,null,null,null,null,null,null,null,null,null,null,null,null,null,null,0,null,null,0]
["Панкратион",190,null,null,null,0,null,null,null,null,null,null,null,null,null,null,null,null,null,null,null,null,null,0,null,null,0]
["Спортивная гимнастика",191,null,null,null,0,null,null,null,null,null,null,null,null,null,null,null,null,null,null,null,null,null,0,null,null,0]
["Спортивная йога",192,null,null,null,0,null,null,null,null,null,null,null,null,null,null,null,null,null,null,null,null,null,0,null,null,0]
["Спортивно-прикладное собаководство",193,null,null,null,0,null,null,null,null,null,null,null,null,null,null,null,null,null,null,null,null,null,0,null,null,0]
["Спортивное метание ножа",194,null,null,null,{"$f":"SUM(G202:K202,V202,X202)*IF(C202>0,1,0)","v":0},null,null,null,null,null,null,null,null,null,null,null,null,null,null,null,null,null,{"$f":"SUM(Y202:Z202)","v":0},null,null,{"$f":"SUM(AB202:AC202)","v":0}]
["Спортивное ориентирование",195,null,null,null,0,null,null,null,null,null,null,null,null,null,null,null,null,null,null,null,null,null,0,null,null,0]
["Спортивный бридж",196,null,null,null,0,null,null,null,null,null,null,null,null,null,null,null,null,null,null,null,null,null,0,null,null,0]
["Спортивный туризм",197,null,null,null,0,null,null,null,null,null,null,null,null,null,null,null,null,null,null,null,null,null,0,null,null,0]
["Стендовая стрельба - всего",198,{"$f":"IF(SUM(C207:C210)>=1,1,0)","v":0},{"$f":"IF(SUM(D207:D210)>=1,1,0)","v":0},null,0,{"$f":"SUM(G207:G210)","v":0},{"$f":"SUM(H207:H210)","v":0},0,0,0,0,0,0,0,0,0,0,0,0,0,0,0,0,0,0,0,0,0]
["в том числе:\nТрап",199,null,null,null,0,null,null,null,null,null,null,null,null,null,null,null,null,null,null,null,null,null,0,null,null,0]
["Скит",200,null,null,null,0,null,null,null,null,null,null,null,null,null,null,null,null,null,null,null,null,null,0,null,null,0]
["Дубль-трап",201,null,null,null,0,null,null,null,null,null,null,null,null,null,null,null,null,null,null,null,null,null,0,null,null,0]
["Спортинг",202,null,null,null,0,null,null,null,null,null,null,null,null,null,null,null,null,null,null,null,null,null,0,null,null,0]
["Страйкбол",203,null,null,null,0,null,null,null,null,null,null,null,null,null,null,null,null,null,null,null,null,null,0,null,null,0]
["Стрельба из арбалета",204,null,null,null,0,null,null,null,null,null,null,null,null,null,null,null,null,null,null,null,null,null,0,null,null,0]
["Стрельба из лука - всего",205,{"$f":"IF(SUM(C214:C216)>=1,1,0)","v":0},{"$f":"IF(SUM(D214:D216)>=1,1,0)","v":0},null,0,{"$f":"SUM(G214:G216)","v":0},{"$f":"SUM(H214:H216)","v":0},0,0,0,0,0,0,0,0,0,0,0,0,0,0,0,0,0,0,0,0,0]
["в том числе:\nКлассический лук",206,null,null,null,0,null,null,null,null,null,null,null,null,null,null,null,null,null,null,null,null,null,0,null,null,0]
["   Блочный лук",207,null,null,null,0,null,null,null,null,null,null,null,null,null,null,null,null,null,null,null,null,null,0,null,null,0]
["   Ачери ",208,null,null,null,0,null,null,null,null,null,null,null,null,null,null,null,null,null,null,null,null,null,0,null,null,0]
["Судомодельный спорт",209,null,null,null,0,null,null,null,null,null,null,null,null,null,null,null,null,null,null,null,null,null,0,null,null,0]
["Сумо",210,null,null,null,0,null,null,null,null,null,null,null,null,null,null,null,null,null,null,null,null,null,0,null,null,0]
["Таврели",211,null,null,null,0,null,null,null,null,null,null,null,null,null,null,null,null,null,null,null,null,null,0,null,null,0]
["Тайский бокс",212,null,null,null,0,null,null,null,null,null,null,null,null,null,null,null,null,null,null,null,null,null,0,null,null,0]
["Танцевальный спорт",213,null,null,null,0,null,null,null,null,null,null,null,null,null,null,null,null,null,null,null,null,null,0,null,null,0]
["Теннис",214,null,null,null,0,null,null,null,null,null,null,null,null,null,null,null,null,null,null,null,null,null,0,null,null,0]
["Триатлон",215,null,null,null,0,null,null,null,null,null,null,null,null,null,null,null,null,null,null,null,null,null,0,null,null,0]
["Тхэквондо (ВТФ)",216,null,null,null,0,null,null,null,null,null,null,null,null,null,null,null,null,null,null,null,null,null,0,null,null,0]
["Тхэквондо ГТФ",217,null,null,null,0,null,null,null,null,null,null,null,null,null,null,null,null,null,null,null,null,null,0,null,null,0]
["Тхэквондо ИТФ",218,null,null,null,0,null,null,null,null,null,null,null,null,null,null,null,null,null,null,null,null,null,0,null,null,0]
["Тхэквондо МФТ",219,null,null,null,0,null,null,null,null,null,null,null,null,null,null,null,null,null,null,null,null,null,0,null,null,0]
["Тяжелая атлетика",220,null,null,null,0,null,null,null,null,null,null,null,null,null,null,null,null,null,null,null,null,null,0,null,null,0]
["Универсальный бой",221,null,null,null,0,null,null,null,null,null,null,null,null,null,null,null,null,null,null,null,null,null,0,null,null,0]
["Ушу",222,null,null,null,0,null,null,null,null,null,null,null,null,null,null,null,null,null,null,null,null,null,0,null,null,0]
["Фехтование - всего",223,{"$f":"IF(SUM(C232:C235)>=1,1,0)","v":0},{"$f":"IF(SUM(D232:D235)>=1,1,0)","v":0},null,0,{"$f":"SUM(G232:G235)","v":0},{"$f":"SUM(H232:H235)","v":0},0,0,0,0,0,0,0,0,0,0,0,0,0,0,0,0,0,0,0,0,0]
["в том числе:\nРапира",224,null,null,null,0,null,null,null,null,null,null,null,null,null,null,null,null,null,null,null,null,null,0,null,null,0]
["Сабля",225,null,null,null,0,null,null,null,null,null,null,null,null,null,null,null,null,null,null,null,null,null,0,null,null,0]
["Шпага",226,null,null,null,0,null,null,null,null,null,null,null,null,null,null,null,null,null,null,null,null,null,0,null,null,0]
["Арт-фехтование",227,null,null,null,0,null,null,null,null,null,null,null,null,null,null,null,null,null,null,null,null,null,0,null,null,0,null,null,null,null,null,"07"]
["Фигурное катание на коньках",228,null,null,null,0,null,null,null,null,null,null,null,null,null,null,null,null,null,null,null,null,null,0,null,null,0]
["Фитнес-аэробика",229,1,null,null,50,22,12,16,null,null,null,50,null,null,50,null,null,null,null,null,null,null,0,null,null,0]
["Флаинг диск",230,null,null,null,0,null,null,null,null,null,null,null,null,null,null,null,null,null,null,null,null,null,0,null,null,0]
["Флорбол",231,null,null,null,0,null,null,null,null,null,null,null,null,null,null,null,null,null,null,null,null,null,0,null,null,0]
["Фристайл - всего",232,{"$f":"IF(SUM(C241:C246)>=1,1,0)","v":0},{"$f":"IF(SUM(D241:D246)>=1,1,0)","v":0},null,0,{"$f":"SUM(G241:G246)","v":0},{"$f":"SUM(H241:H246)","v":0},0,0,0,0,0,0,0,0,0,0,0,0,0,0,0,0,0,0,0,0,0]
["в том числе:\nАкробатика",233,null,null,null,0,null,null,null,null,null,null,null,null,null,null,null,null,null,null,null,null,null,0,null,null,0]
["Биг-эйр",234,null,null,null,0,null,null,null,null,null,null,null,null,null,null,null,null,null,null,null,null,null,0,null,null,0]
["Могул",235,null,null,null,0,null,null,null,null,null,null,null,null,null,null,null,null,null,null,null,null,null,0,null,null,0]
["Ски-кросс",236,null,null,null,0,null,null,null,null,null,null,null,null,null,null,null,null,null,null,null,null,null,0,null,null,0]
["Хаф-пайп",237,null,null,null,0,null,null,null,null,null,null,null,null,null,null,null,null,null,null,null,null,null,0,null,null,0]
["Слоуп-стайл",238,null,null,null,0,null,null,null,null,null,null,null,null,null,null,null,null,null,null,null,null,null,0,null,null,0]
["Функциональное многоборье",239,null,null,null,0,null,null,null,null,null,null,null,null,null,null,null,null,null,null,null,null,null,0,null,null,0]
["Футбол - всего",240,{"$f":"IF(SUM(C249:C254)>=1,1,0)","v":1},{"$f":"IF(SUM(D249:D254)>=1,1,0)","v":0},null,164,{"$f":"SUM(G249:G254)","v":57},{"$f":"SUM(H249:H254)","v":45},62,0,0,0,163,1,0,1,0,0,0,0,0,0,0,0,0,0,0,0,0]
["в том числе:\nФутбол (муж.)",241,null,null,null,0,null,null,null,null,null,null,null,null,null,null,null,null,null,null,null,null,null,0,null,null,0]
["Футбол (жен.)",242,null,null,null,0,null,null,null,null,null,null,null,null,null,{"$f":"SUM(G250:K250)","v":0},null,null,null,null,null,null,null,0,null,null,0]
["Мини-футбол (футзал)",243,1,null,null,164,57,45,62,null,null,null,163,1,null,1,null,null,null,null,null,null,null,0,null,null,0]
["Пляжный футбол",244,null,null,null,0,null,null,null,null,null,null,null,null,null,null,null,null,null,null,null,null,null,0,null,null,0]
["Футбол 6х6, 7х7, 8х8",245,null,null,null,0,null,null,null,null,null,null,null,null,null,null,null,null,null,null,null,null,null,0,null,null,0]
["Интерактивный футбол",246,null,null,null,0,null,null,null,null,null,null,null,null,null,null,null,null,null,null,null,null,null,0,null,null,0]
["Футгольф",247,null,null,null,0,null,null,null,null,null,null,null,null,null,null,null,null,null,null,null,null,null,0,null,null,0]
["Хапкидо",248,null,null,null,0,null,null,null,null,null,null,null,null,null,null,null,null,null,null,null,null,null,0,null,null,0]
["Хапсагай",249,null,null,null,0,null,null,null,null,null,null,null,null,null,null,null,null,null,null,null,null,null,0,null,null,0]
["Хоккей - всего",250,{"$f":"IF(SUM(C259:C260)>=1,1,0)","v":0},{"$f":"IF(SUM(D259:D260)>=1,1,0)","v":0},null,0,{"$f":"SUM(G259:G260)","v":0},{"$f":"SUM(H259:H260)","v":0},0,0,0,0,0,0,0,0,0,0,0,0,0,0,0,0,0,0,0,0,0]
["в том числе:\nХоккей (муж.)",251,null,null,null,0,null,null,null,null,null,null,null,null,null,null,null,null,null,null,null,null,null,0,null,null,0]
["Хоккей (жен.)",252,null,null,null,0,null,null,null,null,null,null,null,null,null,{"$f":"SUM(G260:K260)","v":0},null,null,null,null,null,null,null,0,null,null,0]
["Хоккей на траве - всего",253,{"$f":"IF(SUM(C262:C264)>=1,1,0)","v":0},{"$f":"IF(SUM(D262:D264)>=1,1,0)","v":0},null,{"$f":"SUM(G261:K261,V261,X261)*IF(C261>0,1,0)","v":0},{"$f":"SUM(G262:G264)","v":0},{"$f":"SUM(H262:H264)","v":0},0,0,0,0,0,0,0,0,0,0,0,0,0,0,0,0,0,0,0,0,0]
["в том числе:\nХоккей на траве (муж.)",254,null,null,null,0,null,null,null,null,null,null,null,null,null,null,null,null,null,null,null,null,null,0,null,null,0]
["Хоккей на траве (жен.)",255,null,null,null,0,null,null,null,null,null,null,null,null,null,{"$f":"SUM(G263:K263)","v":0},null,null,null,null,null,null,null,0,null,null,0]
["Индорхоккей",256,null,null,null,0,null,null,null,null,null,null,null,null,null,null,null,null,null,null,null,null,null,0,null,null,0]
["Хоккей с мячом",257,null,null,null,0,null,null,null,null,null,null,null,null,null,null,null,null,null,null,null,null,null,0,null,null,0]
["Художественная гимнастика",258,null,null,null,{"$f":"SUM(G266:K266,V266,X266)*IF(C266>0,1,0)","v":0},null,null,null,null,null,null,null,null,null,null,null,null,null,null,null,null,null,{"$f":"SUM(Y266:Z266)","v":0},null,null,{"$f":"SUM(AB266:AC266)","v":0}]
["Хуреш",259,null,null,null,0,null,null,null,null,null,null,null,null,null,null,null,null,null,null,null,null,null,0,null,null,0]
["Чир спорт",260,null,null,null,0,null,null,null,null,null,null,null,null,null,null,null,null,null,null,null,null,null,0,null,null,0]
["Шахматы",261,null,null,null,0,null,null,null,null,null,null,null,null,null,null,null,null,null,null,null,null,null,0,null,null,0]
["Шашки",262,null,null,null,0,null,null,null,null,null,null,null,null,null,null,null,null,null,null,null,null,null,0,null,null,0]
["Шодсанлат",263,null,null,null,0,null,null,null,null,null,null,null,null,null,null,null,null,null,null,null,null,null,0,null,null,0]
["Эстетическая гимнастика",264,null,null,null,0,null,null,null,null,null,null,null,null,null,null,null,null,null,null,null,null,null,0,null,null,0]
["Якутские национальные прыжки",265,null,null,null,0,null,null,null,null,null,null,null,null,null,null,null,null,null,null,null,null,null,0,null,null,0]
["ИТОГО",266,{"$f":"SUM(C9:C21,C25:C28,C31:C36,C47:C52,C57:C59,C41:C44,C63:C73,C78:C87,C91:C97,C100:C105,C113:C118,C119:C127,C130:C135,C138,C143:C144,C150:C153,C159:C165,C166:C180,C181:C193,C199:C206,C211:C213,C217:C221,C222:C231,C236:C240,C247:C248,C255:C258,C261,C265:C273)","v":8},{"$f":"SUM(D9:D21,D25:D28,D31:D36,D47:D52,D57:D59,D41:D44,D63:D73,D78:D87,D91:D97,D100:D105,D113:D118,D119:D127,D130:D135,D138,D143:D144,D150:D153,D159:D165,D166:D180,D181:D193,D199:D206,D211:D213,D217:D221,D222:D231,D236:D240,D247:D248,D255:D258,D261,D265:D273)","v":0},null,{"$f":"SUM(F9:F21,F25:F28,F31:F36,F47:F52,F57:F59,F41:F44,F63:F73,F78:F87,F91:F97,F100:F105,F113:F118,F119:F127,F130:F135,F138,F143:F144,F150:F153,F159:F165,F166:F180,F181:F193,F199:F206,F211:F213,F217:F221,F222:F231,F236:F240,F247:F248,F255:F258,F261,F265:F273)","v":653},278,201,170,4,0,0,642,9,2,174,0,0,0,0,0,0,0,0,0,0,0,0,0]

{"sheet":"Раздел3","index":3,"n_rows":273,"n_cols":41,"rows_kept":273,"cut":false,"hidden":false,"merged":[[4,11,4,15],[4,16,4,20],[0,0,0,30],[1,26,1,30],[2,0,5,0],[3,3,3,20],[3,21,5,21],[3,22,4,25],[2,2,2,20],[2,21,2,25],[2,26,2,30],[3,2,5,2],[2,1,5,1],[3,26,5,26],[3,27,4,30],[4,3,4,5],[4,6,4,10]]}
["Раздел III. Численность занимающихся по программам спортивной подготовки"]
[null,null,null,null,null,null,null,null,null,null,null,null,null,null,null,null,null,null,null,null,null,null,null,null,null,null,"Код по ОКЕИ: человек – 792"]
["Виды спорта","№ строки","Число занимающихся по программам спортивной подготовки на 31 декабря отчетного года (из гр. 8-11 раздела II)",null,null,null,null,null,null,null,null,null,null,null,null,null,null,null,null,null,null,"Число занимающихся, зачисленных на программы \nспортивной подготовки в отчетном году",null,null,null,null,"Число занимающихся, отчисленных с программ \nспортивной подготовки в отчетном году"]
[null,null,"всего","в том числе по этапам и годам подготовки",null,null,null,null,null,null,null,null,null,null,null,null,null,null,null,null,null,"всего","в том числе по этапам подготовки",null,null,null,"всего","в том числе по этапам подготовки"]
[null,null,null,"начальной подготовки",null,null,"тренировочный",null,null,null,null,"совершенствования спортивного мастерства",null,null,null,null,"высшего спортивного мастерства"]
[null,null,null,1,2,"более 2",1,2,3,4,5,1,2,3,4,"более 4",1,2,3,4,"более 4",null,"начальной подготовки","трениро-вочный","совершен-ствования спортивного мастерства","высшего спортивного мастерства",null,"начальной подготовки","трениро-вочный","совершен-ствования спортивного мастерства","высшего спортивного мастерства"]
[1,2,3,4,5,6,7,8,9,10,11,12,13,14,15,16,17,18,19,20,21,22,23,24,25,26,27,28,29,30,31,"2р","нп","тр","сов","выс",null,null,null,null,"1р"]
["Авиамодельный спорт","01",{"$f":"SUM(D8:U8)","v":0},null,null,null,null,null,null,null,null,null,null,null,null,null,null,null,null,null,null,{"$f":"SUM(W8:Z8)","v":0},null,null,null,null,{"$f":"SUM(AB8:AE8)","v":0},null,null,null,null,{"$f":"Раздел2!C9","v":0},{"$f":"Раздел2!H9","v":0},{"$f":"Раздел2!I9","v":0},{"$f":"Раздел2!J9","v":0},{"$f":"Раздел2!K9","v":0},null,null,null,null,{"$f":"Раздел1!D29","v":0}]
["Автомобильный спорт","02",{"$f":"SUM(D9:U9)","v":0},null,null,null,null,null,null,null,null,null,null,null,null,null,null,null,null,null,null,{"$f":"SUM(W9:Z9)","v":0},null,null,null,null,{"$f":"SUM(AB9:AE9)","v":0},null,null,null,null,{"$f":"Раздел2!C10","v":0},{"$f":"Раздел2!H10","v":0},{"$f":"Раздел2!I10","v":0},{"$f":"Раздел2!J10","v":0},{"$f":"Раздел2!K10","v":0}]
["Автомодельный спорт","03",0,null,null,null,null,null,null,null,null,null,null,null,null,null,null,null,null,null,null,0,null,null,null,null,0,null,null,null,null,{"$f":"Раздел2!C11","v":0},{"$f":"Раздел2!H11","v":0},{"$f":"Раздел2!I11","v":0},{"$f":"Раздел2!J11","v":0},{"$f":"Раздел2!K11","v":0}]
["Айкидо","04",20,null,null,null,20,null,null,null,null,null,null,null,null,null,null,null,null,null,null,0,null,null,null,null,10,10,null,null,null,{"$f":"Раздел2!C12","v":1},{"$f":"Раздел2!H12","v":0},{"$f":"Раздел2!I12","v":20},{"$f":"Раздел2!J12","v":0},{"$f":"Раздел2!K12","v":0}]
["Айсшток","05",0,null,null,null,null,null,null,null,null,null,null,null,null,null,null,null,null,null,null,0,null,null,null,null,0,null,null,null,null,{"$f":"Раздел2!C13","v":0},{"$f":"Раздел2!H13","v":0},{"$f":"Раздел2!I13","v":0},{"$f":"Раздел2!J13","v":0},{"$f":"Раздел2!K13","v":0},null,null,null,null,{"$f":"SUM(Раздел1!E10:J10)","v":0}]
["Акробатический рок-н-ролл","06",0,null,null,null,null,null,null,null,null,null,null,null,null,null,null,null,null,null,null,0,null,null,null,null,0,null,null,null,null,{"$f":"Раздел2!C14","v":0},{"$f":"Раздел2!H14","v":0},{"$f":"Раздел2!I14","v":0},{"$f":"Раздел2!J14","v":0},{"$f":"Раздел2!K14","v":0},null,null,null,null,{"$f":"SUM(Раздел1!E11:J11)","v":0}]
["Альпинизм","07",0,null,null,null,null,null,null,null,null,null,null,null,null,null,null,null,null,null,null,0,null,null,null,null,0,null,null,null,null,{"$f":"Раздел2!C15","v":0},{"$f":"Раздел2!H15","v":0},{"$f":"Раздел2!I15","v":0},{"$f":"Раздел2!J15","v":0},{"$f":"Раздел2!K15","v":0},null,null,null,null,{"$f":"SUM(Раздел1!E13:J13)","v":0}]
["Американский футбол","08",0,null,null,null,null,null,null,null,null,null,null,null,null,null,null,null,null,null,null,0,null,null,null,null,0,null,null,null,null,{"$f":"Раздел2!C16","v":0},{"$f":"Раздел2!H16","v":0},{"$f":"Раздел2!I16","v":0},{"$f":"Раздел2!J16","v":0},{"$f":"Раздел2!K16","v":0},null,null,null,null,{"$f":"SUM(Раздел1!E14:J14)","v":0}]
["Армейский рукопашный бой","09",0,null,null,null,null,null,null,null,null,null,null,null,null,null,null,null,null,null,null,0,null,null,null,null,0,null,null,null,null,{"$f":"Раздел2!C17","v":0},{"$f":"Раздел2!H17","v":0},{"$f":"Раздел2!I17","v":0},{"$f":"Раздел2!J17","v":0},{"$f":"Раздел2!K17","v":0}]
["Армейское тактико-стрелковое многоборье","10",0,null,null,null,null,null,null,null,null,null,null,null,null,null,null,null,null,null,null,0,null,null,null,null,0,null,null,null,null,{"$f":"Раздел2!C18","v":0},{"$f":"Раздел2!H18","v":0},{"$f":"Раздел2!I18","v":0},{"$f":"Раздел2!J18","v":0},{"$f":"Раздел2!K18","v":0}]
["Армрестлинг","11",0,null,null,null,null,null,null,null,null,null,null,null,null,null,null,null,null,null,null,0,null,null,null,null,0,null,null,null,null,{"$f":"Раздел2!C19","v":0},{"$f":"Раздел2!H19","v":0},{"$f":"Раздел2!I19","v":0},{"$f":"Раздел2!J19","v":0},{"$f":"Раздел2!K19","v":0}]
["Бадминтон","12",0,null,null,null,null,null,null,null,null,null,null,null,null,null,null,null,null,null,null,0,null,null,null,null,0,null,null,null,null,{"$f":"Раздел2!C20","v":0},{"$f":"Раздел2!H20","v":0},{"$f":"Раздел2!I20","v":0},{"$f":"Раздел2!J20","v":0},{"$f":"Раздел2!K20","v":0}]
["Баскетбол - всего","13",0,{"$f":"SUM(D21:D23)","v":0},{"$f":"SUM(E21:E23)","v":0},0,0,0,0,0,0,0,0,0,0,0,0,0,0,0,0,0,0,0,0,0,0,0,0,0,0,{"$f":"Раздел2!C21","v":1},{"$f":"Раздел2!H21","v":0},{"$f":"Раздел2!I21","v":0},{"$f":"Раздел2!J21","v":0},{"$f":"Раздел2!K21","v":0}]
["в том числе:\nБаскетбол (муж.)","14",0,null,null,null,null,null,null,null,null,null,null,null,null,null,null,null,null,null,null,0,null,null,null,null,0,null,null,null,null,{"$f":"Раздел2!C22","v":1},{"$f":"Раздел2!H22","v":0},{"$f":"Раздел2!I22","v":0},{"$f":"Раздел2!J22","v":0},{"$f":"Раздел2!K22","v":0}]
["Баскетбол (жен.)","15",0,null,null,null,null,null,null,null,null,null,null,null,null,null,null,null,null,null,null,0,null,null,null,null,0,null,null,null,null,{"$f":"Раздел2!C23","v":1},{"$f":"Раздел2!H23","v":0},{"$f":"Раздел2!I23","v":0},{"$f":"Раздел2!J23","v":0},{"$f":"Раздел2!K23","v":0}]
["Баскетбол 3х3","16",0,null,null,null,null,null,null,null,null,null,null,null,null,null,null,null,null,null,null,0,null,null,null,null,0,null,null,null,null,{"$f":"Раздел2!C24","v":0},{"$f":"Раздел2!H24","v":0},{"$f":"Раздел2!I24","v":0},{"$f":"Раздел2!J24","v":0},{"$f":"Раздел2!K24","v":0}]
["Бейсбол","17",0,null,null,null,null,null,null,null,null,null,null,null,null,null,null,null,null,null,null,0,null,null,null,null,0,null,null,null,null,{"$f":"Раздел2!C25","v":0},{"$f":"Раздел2!H25","v":0},{"$f":"Раздел2!I25","v":0},{"$f":"Раздел2!J25","v":0},{"$f":"Раздел2!K25","v":0}]
["Биатлон","18",0,null,null,null,null,null,null,null,null,null,null,null,null,null,null,null,null,null,null,0,null,null,null,null,0,null,null,null,null,{"$f":"Раздел2!C26","v":0},{"$f":"Раздел2!H26","v":0},{"$f":"Раздел2!I26","v":0},{"$f":"Раздел2!J26","v":0},{"$f":"Раздел2!K26","v":0}]
["Бильярдный спорт","19",0,null,null,null,null,null,null,null,null,null,null,null,null,null,null,null,null,null,null,0,null,null,null,null,0,null,null,null,null,{"$f":"Раздел2!C27","v":0},{"$f":"Раздел2!H27","v":0},{"$f":"Раздел2!I27","v":0},{"$f":"Раздел2!J27","v":0},{"$f":"Раздел2!K27","v":0}]
["Бобслей - всего","20",0,{"$f":"SUM(D28:D29)","v":0},{"$f":"SUM(E28:E29)","v":0},0,0,0,0,0,0,0,0,0,0,0,0,0,0,0,0,0,0,0,0,0,0,0,0,0,0,{"$f":"Раздел2!C28","v":0},{"$f":"Раздел2!H28","v":0},{"$f":"Раздел2!I28","v":0},{"$f":"Раздел2!J28","v":0},{"$f":"Раздел2!K28","v":0}]
["в том числе:\nБобслей","21",0,null,null,null,null,null,null,null,null,null,null,null,null,null,null,null,null,null,null,0,null,null,null,null,0,null,null,null,null,{"$f":"Раздел2!C29","v":0},{"$f":"Раздел2!H29","v":0},{"$f":"Раздел2!I29","v":0},{"$f":"Раздел2!J29","v":0},{"$f":"Раздел2!K29","v":0}]
["Скелетон","22",0,null,null,null,null,null,null,null,null,null,null,null,null,null,null,null,null,null,null,0,null,null,null,null,0,null,null,null,null,{"$f":"Раздел2!C30","v":0},{"$f":"Раздел2!H30","v":0},{"$f":"Раздел2!I30","v":0},{"$f":"Раздел2!J30","v":0},{"$f":"Раздел2!K30","v":0}]
["Бодибилдинг","23",0,null,null,null,null,null,null,null,null,null,null,null,null,null,null,null,null,null,null,0,null,null,null,null,0,null,null,null,null,{"$f":"Раздел2!C31","v":0},{"$f":"Раздел2!H31","v":0},{"$f":"Раздел2!I31","v":0},{"$f":"Раздел2!J31","v":0},{"$f":"Раздел2!K31","v":0}]
["Бокс","24",0,null,null,null,null,null,null,null,null,null,null,null,null,null,null,null,null,null,null,0,null,null,null,null,0,null,null,null,null,{"$f":"Раздел2!C32","v":0},{"$f":"Раздел2!H32","v":0},{"$f":"Раздел2!I32","v":0},{"$f":"Раздел2!J32","v":0},{"$f":"Раздел2!K32","v":0}]
["Борьба на поясах","25",0,null,null,null,null,null,null,null,null,null,null,null,null,null,null,null,null,null,null,0,null,null,null,null,0,null,null,null,null,{"$f":"Раздел2!C33","v":0},{"$f":"Раздел2!H33","v":0},{"$f":"Раздел2!I33","v":0},{"$f":"Раздел2!J33","v":0},{"$f":"Раздел2!K33","v":0}]
["Боулинг","26",0,null,null,null,null,null,null,null,null,null,null,null,null,null,null,null,null,null,null,0,null,null,null,null,0,null,null,null,null,{"$f":"Раздел2!C34","v":0},{"$f":"Раздел2!H34","v":0},{"$f":"Раздел2!I34","v":0},{"$f":"Раздел2!J34","v":0},{"$f":"Раздел2!K34","v":0}]
["Боулспорт","27",0,null,null,null,null,null,null,null,null,null,null,null,null,null,null,null,null,null,null,0,null,null,null,null,0,null,null,null,null,{"$f":"Раздел2!C35","v":0},{"$f":"Раздел2!H35","v":0},{"$f":"Раздел2!I35","v":0},{"$f":"Раздел2!J35","v":0},{"$f":"Раздел2!K35","v":0}]
["Велосипедный спорт - всего","28",0,{"$f":"SUM(D36:D39)","v":0},{"$f":"SUM(E36:E39)","v":0},0,0,0,0,0,0,0,0,0,0,0,0,0,0,0,0,0,0,0,0,0,0,0,0,0,0,{"$f":"Раздел2!C36","v":0},{"$f":"Раздел2!H36","v":0},{"$f":"Раздел2!I36","v":0},{"$f":"Раздел2!J36","v":0},{"$f":"Раздел2!K36","v":0}]
["в том числе:\nBMX","29",0,null,null,null,null,null,null,null,null,null,null,null,null,null,null,null,null,null,null,0,null,null,null,null,0,null,null,null,null,{"$f":"Раздел2!C37","v":0},{"$f":"Раздел2!H37","v":0},{"$f":"Раздел2!I37","v":0},{"$f":"Раздел2!J37","v":0},{"$f":"Раздел2!K37","v":0}]
["Маунтинбайк","30",0,null,null,null,null,null,null,null,null,null,null,null,null,null,null,null,null,null,null,0,null,null,null,null,0,null,null,null,null,{"$f":"Раздел2!C38","v":0},{"$f":"Раздел2!H38","v":0},{"$f":"Раздел2!I38","v":0},{"$f":"Раздел2!J38","v":0},{"$f":"Раздел2!K38","v":0}]
["Трек","31",0,null,null,null,null,null,null,null,null,null,null,null,null,null,null,null,null,null,null,0,null,null,null,null,0,null,null,null,null,{"$f":"Раздел2!C39","v":0},{"$f":"Раздел2!H39","v":0},{"$f":"Раздел2!I39","v":0},{"$f":"Раздел2!J39","v":0},{"$f":"Раздел2!K39","v":0}]
["Шоссе","32",0,null,null,null,null,null,null,null,null,null,null,null,null,null,null,null,null,null,null,0,null,null,null,null,0,null,null,null,null,{"$f":"Раздел2!C40","v":0},{"$f":"Раздел2!H40","v":0},{"$f":"Раздел2!I40","v":0},{"$f":"Раздел2!J40","v":0},{"$f":"Раздел2!K40","v":0}]
["Вертолетный спорт","33",0,null,null,null,null,null,null,null,null,null,null,null,null,null,null,null,null,null,null,0,null,null,null,null,0,null,null,null,null,{"$f":"Раздел2!C41","v":0},{"$f":"Раздел2!H41","v":0},{"$f":"Раздел2!I41","v":0},{"$f":"Раздел2!J41","v":0},{"$f":"Раздел2!K41","v":0}]
["Водно-моторный спорт","34",0,null,null,null,null,null,null,null,null,null,null,null,null,null,null,null,null,null,null,0,null,null,null,null,0,null,null,null,null,{"$f":"Раздел2!C42","v":0},{"$f":"Раздел2!H42","v":0},{"$f":"Раздел2!I42","v":0},{"$f":"Раздел2!J42","v":0},{"$f":"Раздел2!K42","v":0}]
["Водно-спасательное многоборье","35",0,null,null,null,null,null,null,null,null,null,null,null,null,null,null,null,null,null,null,0,null,null,null,null,0,null,null,null,null,{"$f":"Раздел2!C43","v":0},{"$f":"Раздел2!H43","v":0},{"$f":"Раздел2!I43","v":0},{"$f":"Раздел2!J43","v":0},{"$f":"Раздел2!K43","v":0}]
["Водное поло - всего ","36",0,{"$f":"SUM(D44:D45)","v":0},{"$f":"SUM(E44:E45)","v":0},0,0,0,0,0,0,0,0,0,0,0,0,0,0,0,0,0,0,0,0,0,0,0,0,0,0,{"$f":"Раздел2!C44","v":0},{"$f":"Раздел2!H44","v":0},{"$f":"Раздел2!I44","v":0},{"$f":"Раздел2!J44","v":0},{"$f":"Раздел2!K44","v":0}]
["в том числе:\nВодное поло (муж.)","37",0,null,null,null,null,null,null,null,null,null,null,null,null,null,null,null,null,null,null,0,null,null,null,null,0,null,null,null,null,{"$f":"Раздел2!C45","v":0},{"$f":"Раздел2!H45","v":0},{"$f":"Раздел2!I45","v":0},{"$f":"Раздел2!J45","v":0},{"$f":"Раздел2!K45","v":0}]
["Водное поло (жен.)","38",0,null,null,null,null,null,null,null,null,null,null,null,null,null,null,null,null,null,null,0,null,null,null,null,0,null,null,null,null,{"$f":"Раздел2!C46","v":0},{"$f":"Раздел2!H46","v":0},{"$f":"Раздел2!I46","v":0},{"$f":"Раздел2!J46","v":0},{"$f":"Раздел2!K46","v":0}]
["Воднолыжный спорт","39",0,null,null,null,null,null,null,null,null,null,null,null,null,null,null,null,null,null,null,0,null,null,null,null,0,null,null,null,null,{"$f":"Раздел2!C47","v":0},{"$f":"Раздел2!H47","v":0},{"$f":"Раздел2!I47","v":0},{"$f":"Раздел2!J47","v":0},{"$f":"Раздел2!K47","v":0}]
["Военно-прикладной спорт","40",0,null,null,null,null,null,null,null,null,null,null,null,null,null,null,null,null,null,null,0,null,null,null,null,0,null,null,null,null,{"$f":"Раздел2!C48","v":0},{"$f":"Раздел2!H48","v":0},{"$f":"Раздел2!I48","v":0},{"$f":"Раздел2!J48","v":0},{"$f":"Раздел2!K48","v":0}]
["Военно-спортивное многоборье","41",0,null,null,null,null,null,null,null,null,null,null,null,null,null,null,null,null,null,null,0,null,null,null,null,0,null,null,null,null,{"$f":"Раздел2!C49","v":0},{"$f":"Раздел2!H49","v":0},{"$f":"Раздел2!I49","v":0},{"$f":"Раздел2!J49","v":0},{"$f":"Раздел2!K49","v":0}]
["Воздухоплавательный спорт","42",0,null,null,null,null,null,null,null,null,null,null,null,null,null,null,null,null,null,null,0,null,null,null,null,0,null,null,null,null,{"$f":"Раздел2!C50","v":0},{"$f":"Раздел2!H50","v":0},{"$f":"Раздел2!I50","v":0},{"$f":"Раздел2!J50","v":0},{"$f":"Раздел2!K50","v":0}]
["Воздушно-силовая атлетика","43",0,null,null,null,null,null,null,null,null,null,null,null,null,null,null,null,null,null,null,0,null,null,null,null,0,null,null,null,null,{"$f":"Раздел2!C51","v":0},{"$f":"Раздел2!H51","v":0},{"$f":"Раздел2!I51","v":0},{"$f":"Раздел2!J51","v":0},{"$f":"Раздел2!K51","v":0}]
["Волейбол - всего","44",45,{"$f":"SUM(D52:D55)","v":31},{"$f":"SUM(E52:E55)","v":0},14,0,0,0,0,0,0,0,0,0,0,0,0,0,0,0,34,34,0,0,0,15,3,12,0,0,{"$f":"Раздел2!C52","v":1},{"$f":"Раздел2!H52","v":45},{"$f":"Раздел2!I52","v":0},{"$f":"Раздел2!J52","v":0},{"$f":"Раздел2!K52","v":0}]
["в том числе:\nВолейбол (муж.)","45",33,19,null,14,null,null,null,null,null,null,null,null,null,null,null,null,null,null,null,22,22,null,null,null,15,3,12,null,null,{"$f":"Раздел2!C53","v":1},{"$f":"Раздел2!H53","v":33},{"$f":"Раздел2!I53","v":0},{"$f":"Раздел2!J53","v":0},{"$f":"Раздел2!K53","v":0}]
["Волейбол (жен.)","46",12,12,null,null,null,null,null,null,null,null,null,null,null,null,null,null,null,null,null,12,12,null,null,null,0,null,null,null,null,{"$f":"Раздел2!C54","v":1},{"$f":"Раздел2!H54","v":12},{"$f":"Раздел2!I54","v":0},{"$f":"Раздел2!J54","v":0},{"$f":"Раздел2!K54","v":0}]
["Пляжный волейбол (муж.)","47",0,null,null,null,null,null,null,null,null,null,null,null,null,null,null,null,null,null,null,0,null,null,null,null,0,null,null,null,null,{"$f":"Раздел2!C55","v":0},{"$f":"Раздел2!H55","v":0},{"$f":"Раздел2!I55","v":0},{"$f":"Раздел2!J55","v":0},{"$f":"Раздел2!K55","v":0}]
["Пляжный волейбол (жен.)","48",0,null,null,null,null,null,null,null,null,null,null,null,null,null,null,null,null,null,null,0,null,null,null,null,0,null,null,null,null,{"$f":"Раздел2!C56","v":0},{"$f":"Раздел2!H56","v":0},{"$f":"Раздел2!I56","v":0},{"$f":"Раздел2!J56","v":0},{"$f":"Раздел2!K56","v":0}]
["Восточное боевое единоборство","49",0,null,null,null,null,null,null,null,null,null,null,null,null,null,null,null,null,null,null,0,null,null,null,null,0,null,null,null,null,{"$f":"Раздел2!C57","v":0},{"$f":"Раздел2!H57","v":0},{"$f":"Раздел2!I57","v":0},{"$f":"Раздел2!J57","v":0},{"$f":"Раздел2!K57","v":0}]
["Всестилевое каратэ","50",0,null,null,null,null,null,null,null,null,null,null,null,null,null,null,null,null,null,null,0,null,null,null,null,0,null,null,null,null,{"$f":"Раздел2!C58","v":0},{"$f":"Раздел2!H58","v":0},{"$f":"Раздел2!I58","v":0},{"$f":"Раздел2!J58","v":0},{"$f":"Раздел2!K58","v":0}]
["Гандбол - всего","51",0,{"$f":"SUM(D59:D61)","v":0},{"$f":"SUM(E59:E61)","v":0},0,0,0,0,0,0,0,0,0,0,0,0,0,0,0,0,0,0,0,0,0,0,0,0,0,0,{"$f":"Раздел2!C59","v":0},{"$f":"Раздел2!H59","v":0},{"$f":"Раздел2!I59","v":0},{"$f":"Раздел2!J59","v":0},{"$f":"Раздел2!K59","v":0}]
["в том числе:\nГандбол (муж.)","52",0,null,null,null,null,null,null,null,null,null,null,null,null,null,null,null,null,null,null,0,null,null,null,null,0,null,null,null,null,{"$f":"Раздел2!C60","v":0},{"$f":"Раздел2!H60","v":0},{"$f":"Раздел2!I60","v":0},{"$f":"Раздел2!J60","v":0},{"$f":"Раздел2!K60","v":0}]
["Гандбол (жен.)","53",0,null,null,null,null,null,null,null,null,null,null,null,null,null,null,null,null,null,null,0,null,null,null,null,0,null,null,null,null,{"$f":"Раздел2!C61","v":0},{"$f":"Раздел2!H61","v":0},{"$f":"Раздел2!I61","v":0},{"$f":"Раздел2!J61","v":0},{"$f":"Раздел2!K61","v":0}]
["Пляжный гандбол","54",0,null,null,null,null,null,null,null,null,null,null,null,null,null,null,null,null,null,null,0,null,null,null,null,0,null,null,null,null,{"$f":"Раздел2!C62","v":0},{"$f":"Раздел2!H62","v":0},{"$f":"Раздел2!I62","v":0},{"$f":"Раздел2!J62","v":0},{"$f":"Раздел2!K62","v":0}]
["Гиревой спорт","55",0,null,null,null,null,null,null,null,null,null,null,null,null,null,null,null,null,null,null,0,null,null,null,null,0,null,null,null,null,{"$f":"Раздел2!C63","v":0},{"$f":"Раздел2!H63","v":0},{"$f":"Раздел2!I63","v":0},{"$f":"Раздел2!J63","v":0},{"$f":"Раздел2!K63","v":0}]
["Го","56",0,null,null,null,null,null,null,null,null,null,null,null,null,null,null,null,null,null,null,0,null,null,null,null,0,null,null,null,null,{"$f":"Раздел2!C64","v":0},{"$f":"Раздел2!H64","v":0},{"$f":"Раздел2!I64","v":0},{"$f":"Раздел2!J64","v":0},{"$f":"Раздел2!K64","v":0}]
["Гольф","57",0,null,null,null,null,null,null,null,null,null,null,null,null,null,null,null,null,null,null,0,null,null,null,null,0,null,null,null,null,{"$f":"Раздел2!C65","v":0},{"$f":"Раздел2!H65","v":0},{"$f":"Раздел2!I65","v":0},{"$f":"Раздел2!J65","v":0},{"$f":"Раздел2!K65","v":0}]
["Гонки на охотничьих лыжах","58",0,null,null,null,null,null,null,null,null,null,null,null,null,null,null,null,null,null,null,0,null,null,null,null,0,null,null,null,null,{"$f":"Раздел2!C66","v":0},{"$f":"Раздел2!H66","v":0},{"$f":"Раздел2!I66","v":0},{"$f":"Раздел2!J66","v":0},{"$f":"Раздел2!K66","v":0}]
["Гонки с препятствиями","59",0,null,null,null,null,null,null,null,null,null,null,null,null,null,null,null,null,null,null,0,null,null,null,null,0,null,null,null,null,{"$f":"Раздел2!C67","v":0},{"$f":"Раздел2!H67","v":0},{"$f":"Раздел2!I67","v":0},{"$f":"Раздел2!J67","v":0},{"$f":"Раздел2!K67","v":0}]
["Горнолыжный спорт","60",0,null,null,null,null,null,null,null,null,null,null,null,null,null,null,null,null,null,null,0,null,null,null,null,0,null,null,null,null,{"$f":"Раздел2!C68","v":0},{"$f":"Раздел2!H68","v":0},{"$f":"Раздел2!I68","v":0},{"$f":"Раздел2!J68","v":0},{"$f":"Раздел2!K68","v":0}]
["Городошный спорт","61",0,null,null,null,null,null,null,null,null,null,null,null,null,null,null,null,null,null,null,0,null,null,null,null,0,null,null,null,null,{"$f":"Раздел2!C69","v":0},{"$f":"Раздел2!H69","v":0},{"$f":"Раздел2!I69","v":0},{"$f":"Раздел2!J69","v":0},{"$f":"Раздел2!K69","v":0}]
["Гребля на байдарках и каноэ","62",0,null,null,null,null,null,null,null,null,null,null,null,null,null,null,null,null,null,null,0,null,null,null,null,0,null,null,null,null,{"$f":"Раздел2!C70","v":0},{"$f":"Раздел2!H70","v":0},{"$f":"Раздел2!I70","v":0},{"$f":"Раздел2!J70","v":0},{"$f":"Раздел2!K70","v":0}]
["Гребля на шлюпках","63",0,null,null,null,null,null,null,null,null,null,null,null,null,null,null,null,null,null,null,0,null,null,null,null,0,null,null,null,null,{"$f":"Раздел2!C71","v":0},{"$f":"Раздел2!H71","v":0},{"$f":"Раздел2!I71","v":0},{"$f":"Раздел2!J71","v":0},{"$f":"Раздел2!K71","v":0}]
["Гребной слалом","64",0,null,null,null,null,null,null,null,null,null,null,null,null,null,null,null,null,null,null,0,null,null,null,null,0,null,null,null,null,{"$f":"Раздел2!C72","v":0},{"$f":"Раздел2!H72","v":0},{"$f":"Раздел2!I72","v":0},{"$f":"Раздел2!J72","v":0},{"$f":"Раздел2!K72","v":0}]
["Гребной спорт - всего","65",0,{"$f":"SUM(D73:D76)","v":0},{"$f":"SUM(E73:E76)","v":0},0,0,0,0,0,0,0,0,0,0,0,0,0,0,0,0,0,0,0,0,0,0,0,0,0,0,{"$f":"Раздел2!C73","v":0},{"$f":"Раздел2!H73","v":0},{"$f":"Раздел2!I73","v":0},{"$f":"Раздел2!J73","v":0},{"$f":"Раздел2!K73","v":0}]
["в том числе:\nАкадемическая гребля","66",{"$f":"SUM(D73:U73)","v":0},null,null,null,null,null,null,null,null,null,null,null,null,null,null,null,null,null,null,{"$f":"SUM(W73:Z73)","v":0},null,null,null,null,{"$f":"SUM(AB73:AE73)","v":0},null,null,null,null,{"$f":"Раздел2!C74","v":0},{"$f":"Раздел2!H74","v":0},{"$f":"Раздел2!I74","v":0},{"$f":"Раздел2!J74","v":0},{"$f":"Раздел2!K74","v":0}]
["Гребля-индор","67",0,null,null,null,null,null,null,null,null,null,null,null,null,null,null,null,null,null,null,0,null,null,null,null,0,null,null,null,null,{"$f":"Раздел2!C75","v":0},{"$f":"Раздел2!H75","v":0},{"$f":"Раздел2!I75","v":0},{"$f":"Раздел2!J75","v":0},{"$f":"Раздел2!K75","v":0}]
["Народная гребля","68",0,null,null,null,null,null,null,null,null,null,null,null,null,null,null,null,null,null,null,0,null,null,null,null,0,null,null,null,null,{"$f":"Раздел2!C76","v":0},{"$f":"Раздел2!H76","v":0},{"$f":"Раздел2!I76","v":0},{"$f":"Раздел2!J76","v":0},{"$f":"Раздел2!K76","v":0}]
["Прибрежная гребля","69",0,null,null,null,null,null,null,null,null,null,null,null,null,null,null,null,null,null,null,0,null,null,null,null,0,null,null,null,null,{"$f":"Раздел2!C77","v":0},{"$f":"Раздел2!H77","v":0},{"$f":"Раздел2!I77","v":0},{"$f":"Раздел2!J77","v":0},{"$f":"Раздел2!K77","v":0}]
["Гребно-парусное двоеборье","70",0,null,null,null,null,null,null,null,null,null,null,null,null,null,null,null,null,null,null,0,null,null,null,null,0,null,null,null,null,{"$f":"Раздел2!C78","v":0},{"$f":"Раздел2!H78","v":0},{"$f":"Раздел2!I78","v":0},{"$f":"Раздел2!J78","v":0},{"$f":"Раздел2!K78","v":0}]
["Дартс","71",0,null,null,null,null,null,null,null,null,null,null,null,null,null,null,null,null,null,null,0,null,null,null,null,0,null,null,null,null,{"$f":"Раздел2!C79","v":0},{"$f":"Раздел2!H79","v":0},{"$f":"Раздел2!I79","v":0},{"$f":"Раздел2!J79","v":0},{"$f":"Раздел2!K79","v":0}]
["Джиу-джитсу","72",0,null,null,null,null,null,null,null,null,null,null,null,null,null,null,null,null,null,null,0,null,null,null,null,0,null,null,null,null,{"$f":"Раздел2!C80","v":0},{"$f":"Раздел2!H80","v":0},{"$f":"Раздел2!I80","v":0},{"$f":"Раздел2!J80","v":0},{"$f":"Раздел2!K80","v":0}]
["Дзюдо","73",0,null,null,null,null,null,null,null,null,null,null,null,null,null,null,null,null,null,null,0,null,null,null,null,0,null,null,null,null,{"$f":"Раздел2!C81","v":0},{"$f":"Раздел2!H81","v":0},{"$f":"Раздел2!I81","v":0},{"$f":"Раздел2!J81","v":0},{"$f":"Раздел2!K81","v":0}]
["Ездовой спорт","74",0,null,null,null,null,null,null,null,null,null,null,null,null,null,null,null,null,null,null,0,null,null,null,null,0,null,null,null,null,{"$f":"Раздел2!C82","v":0},{"$f":"Раздел2!H82","v":0},{"$f":"Раздел2!I82","v":0},{"$f":"Раздел2!J82","v":0},{"$f":"Раздел2!K82","v":0}]
["Капоэйра","75",0,null,null,null,null,null,null,null,null,null,null,null,null,null,null,null,null,null,null,0,null,null,null,null,0,null,null,null,null,{"$f":"Раздел2!C83","v":0},{"$f":"Раздел2!H83","v":0},{"$f":"Раздел2!I83","v":0},{"$f":"Раздел2!J83","v":0},{"$f":"Раздел2!K83","v":0}]
["Каратэ","76",0,null,null,null,null,null,null,null,null,null,null,null,null,null,null,null,null,null,null,0,null,null,null,null,0,null,null,null,null,{"$f":"Раздел2!C84","v":0},{"$f":"Раздел2!H84","v":0},{"$f":"Раздел2!I84","v":0},{"$f":"Раздел2!J84","v":0},{"$f":"Раздел2!K84","v":0}]
["Кендо","77",0,null,null,null,null,null,null,null,null,null,null,null,null,null,null,null,null,null,null,0,null,null,null,null,0,null,null,null,null,{"$f":"Раздел2!C85","v":0},{"$f":"Раздел2!H85","v":0},{"$f":"Раздел2!I85","v":0},{"$f":"Раздел2!J85","v":0},{"$f":"Раздел2!K85","v":0}]
["Керешу","78",0,null,null,null,null,null,null,null,null,null,null,null,null,null,null,null,null,null,null,0,null,null,null,null,0,null,null,null,null,{"$f":"Раздел2!C86","v":0},{"$f":"Раздел2!H86","v":0},{"$f":"Раздел2!I86","v":0},{"$f":"Раздел2!J86","v":0},{"$f":"Раздел2!K86","v":0}]
["Кёрлинг - всего","79",0,{"$f":"SUM(D87:D89)","v":0},{"$f":"SUM(E87:E89)","v":0},0,0,0,0,0,0,0,0,0,0,0,0,0,0,0,0,0,0,0,0,0,0,0,0,0,0,{"$f":"Раздел2!C87","v":0},{"$f":"Раздел2!H87","v":0},{"$f":"Раздел2!I87","v":0},{"$f":"Раздел2!J87","v":0},{"$f":"Раздел2!K87","v":0}]
["в том числе:\nКерлинг (муж.)","80",0,null,null,null,null,null,null,null,null,null,null,null,null,null,null,null,null,null,null,0,null,null,null,null,0,null,null,null,null,{"$f":"Раздел2!C88","v":0},{"$f":"Раздел2!H88","v":0},{"$f":"Раздел2!I88","v":0},{"$f":"Раздел2!J88","v":0},{"$f":"Раздел2!K88","v":0}]
["Керлинг (жен.)","81",0,null,null,null,null,null,null,null,null,null,null,null,null,null,null,null,null,null,null,0,null,null,null,null,0,null,null,null,null,{"$f":"Раздел2!C89","v":0},{"$f":"Раздел2!H89","v":0},{"$f":"Раздел2!I89","v":0},{"$f":"Раздел2!J89","v":0},{"$f":"Раздел2!K89","v":0}]
["Кёрлинг – смешанные пары","82",0,null,null,null,null,null,null,null,null,null,null,null,null,null,null,null,null,null,null,0,null,null,null,null,0,null,null,null,null,{"$f":"Раздел2!C90","v":0},{"$f":"Раздел2!H90","v":0},{"$f":"Раздел2!I90","v":0},{"$f":"Раздел2!J90","v":0},{"$f":"Раздел2!K90","v":0}]
["Кикбоксинг","83",0,null,null,null,null,null,null,null,null,null,null,null,null,null,null,null,null,null,null,0,null,null,null,null,0,null,null,null,null,{"$f":"Раздел2!C91","v":0},{"$f":"Раздел2!H91","v":0},{"$f":"Раздел2!I91","v":0},{"$f":"Раздел2!J91","v":0},{"$f":"Раздел2!K91","v":0}]
["Кинологический спорт","84",0,null,null,null,null,null,null,null,null,null,null,null,null,null,null,null,null,null,null,0,null,null,null,null,0,null,null,null,null,{"$f":"Раздел2!C92","v":0},{"$f":"Раздел2!H92","v":0},{"$f":"Раздел2!I92","v":0},{"$f":"Раздел2!J92","v":0},{"$f":"Раздел2!K92","v":0}]
["Киокусинкай","85",0,null,null,null,null,null,null,null,null,null,null,null,null,null,null,null,null,null,null,0,null,null,null,null,0,null,null,null,null,{"$f":"Раздел2!C93","v":0},{"$f":"Раздел2!H93","v":0},{"$f":"Раздел2!I93","v":0},{"$f":"Раздел2!J93","v":0},{"$f":"Раздел2!K93","v":0}]
["Комплексное единоборство","86",0,null,null,null,null,null,null,null,null,null,null,null,null,null,null,null,null,null,null,0,null,null,null,null,0,null,null,null,null,{"$f":"Раздел2!C94","v":0},{"$f":"Раздел2!H94","v":0},{"$f":"Раздел2!I94","v":0},{"$f":"Раздел2!J94","v":0},{"$f":"Раздел2!K94","v":0}]
["Компьютерный спорт","87",0,null,null,null,null,null,null,null,null,null,null,null,null,null,null,null,null,null,null,0,null,null,null,null,0,null,null,null,null,{"$f":"Раздел2!C95","v":0},{"$f":"Раздел2!H95","v":0},{"$f":"Раздел2!I95","v":0},{"$f":"Раздел2!J95","v":0},{"$f":"Раздел2!K95","v":0}]
["Конный спорт","88",0,null,null,null,null,null,null,null,null,null,null,null,null,null,null,null,null,null,null,0,null,null,null,null,0,null,null,null,null,{"$f":"Раздел2!C96","v":0},{"$f":"Раздел2!H96","v":0},{"$f":"Раздел2!I96","v":0},{"$f":"Раздел2!J96","v":0},{"$f":"Раздел2!K96","v":0}]
["Конькобежный спорт - всего","89",0,{"$f":"SUM(D97:D98)","v":0},{"$f":"SUM(E97:E98)","v":0},0,0,0,0,0,0,0,0,0,0,0,0,0,0,0,0,0,0,0,0,0,0,0,0,0,0,{"$f":"Раздел2!C97","v":0},{"$f":"Раздел2!H97","v":0},{"$f":"Раздел2!I97","v":0},{"$f":"Раздел2!J97","v":0},{"$f":"Раздел2!K97","v":0}]
["в том числе:\nКонькобежный спорт","90",0,null,null,null,null,null,null,null,null,null,null,null,null,null,null,null,null,null,null,0,null,null,null,null,0,null,null,null,null,{"$f":"Раздел2!C98","v":0},{"$f":"Раздел2!H98","v":0},{"$f":"Раздел2!I98","v":0},{"$f":"Раздел2!J98","v":0},{"$f":"Раздел2!K98","v":0}]
["Шорт-трек","91",0,null,null,null,null,null,null,null,null,null,null,null,null,null,null,null,null,null,null,0,null,null,null,null,0,null,null,null,null,{"$f":"Раздел2!C99","v":0},{"$f":"Раздел2!H99","v":0},{"$f":"Раздел2!I99","v":0},{"$f":"Раздел2!J99","v":0},{"$f":"Раздел2!K99","v":0}]
["Корэш","92",0,null,null,null,null,null,null,null,null,null,null,null,null,null,null,null,null,null,null,0,null,null,null,null,0,null,null,null,null,{"$f":"Раздел2!C100","v":0},{"$f":"Раздел2!H100","v":0},{"$f":"Раздел2!I100","v":0},{"$f":"Раздел2!J100","v":0},{"$f":"Раздел2!K100","v":0}]
["Корфбол","93",0,null,null,null,null,null,null,null,null,null,null,null,null,null,null,null,null,null,null,0,null,null,null,null,0,null,null,null,null,{"$f":"Раздел2!C101","v":0},{"$f":"Раздел2!H101","v":0},{"$f":"Раздел2!I101","v":0},{"$f":"Раздел2!J101","v":0},{"$f":"Раздел2!K101","v":0}]
["Крикет","94",0,null,null,null,null,null,null,null,null,null,null,null,null,null,null,null,null,null,null,0,null,null,null,null,0,null,null,null,null,{"$f":"Раздел2!C102","v":0},{"$f":"Раздел2!H102","v":0},{"$f":"Раздел2!I102","v":0},{"$f":"Раздел2!J102","v":0},{"$f":"Раздел2!K102","v":0}]
["Кудо","95",0,null,null,null,null,null,null,null,null,null,null,null,null,null,null,null,null,null,null,0,null,null,null,null,0,null,null,null,null,{"$f":"Раздел2!C103","v":0},{"$f":"Раздел2!H103","v":0},{"$f":"Раздел2!I103","v":0},{"$f":"Раздел2!J103","v":0},{"$f":"Раздел2!K103","v":0}]
["Лапта","96",0,null,null,null,null,null,null,null,null,null,null,null,null,null,null,null,null,null,null,0,null,null,null,null,0,null,null,null,null,{"$f":"Раздел2!C104","v":0},{"$f":"Раздел2!H104","v":0},{"$f":"Раздел2!I104","v":0},{"$f":"Раздел2!J104","v":0},{"$f":"Раздел2!K104","v":0}]
["Легкая атлетика - всего","97",{"$f":"SUM(D104:U104)","v":0},{"$f":"SUM(D105:D111)","v":0},{"$f":"SUM(E105:E111)","v":0},0,0,0,0,0,0,0,0,0,0,0,0,0,0,0,0,0,0,0,0,0,0,0,0,0,0,{"$f":"Раздел2!C105","v":0},{"$f":"Раздел2!H105","v":0},{"$f":"Раздел2!I105","v":0},{"$f":"Раздел2!J105","v":0},{"$f":"Раздел2!K105","v":0}]
["в том числе:\nСпринтерский и барьерный бег","98",0,null,null,null,null,null,null,null,null,null,null,null,null,null,null,null,null,null,null,0,null,null,null,null,0,null,null,null,null,{"$f":"Раздел2!C106","v":0},{"$f":"Раздел2!H106","v":0},{"$f":"Раздел2!I106","v":0},{"$f":"Раздел2!J106","v":0},{"$f":"Раздел2!K106","v":0}]
["Бег на средние дистанции и бег с препятствиями","99",0,null,null,null,null,null,null,null,null,null,null,null,null,null,null,null,null,null,null,0,null,null,null,null,0,null,null,null,null,{"$f":"Раздел2!C107","v":0},{"$f":"Раздел2!H107","v":0},{"$f":"Раздел2!I107","v":0},{"$f":"Раздел2!J107","v":0},{"$f":"Раздел2!K107","v":0}]
["Бег на длинные и сверхдлинные дистанции","100",0,null,null,null,null,null,null,null,null,null,null,null,null,null,null,null,null,null,null,0,null,null,null,null,0,null,null,null,null,{"$f":"Раздел2!C108","v":0},{"$f":"Раздел2!H108","v":0},{"$f":"Раздел2!I108","v":0},{"$f":"Раздел2!J108","v":0},{"$f":"Раздел2!K108","v":0}]
["Многоборья","101",0,null,null,null,null,null,null,null,null,null,null,null,null,null,null,null,null,null,null,0,null,null,null,null,0,null,null,null,null,{"$f":"Раздел2!C109","v":0},{"$f":"Раздел2!H109","v":0},{"$f":"Раздел2!I109","v":0},{"$f":"Раздел2!J109","v":0},{"$f":"Раздел2!K109","v":0}]
["Прыжки","102",0,null,null,null,null,null,null,null,null,null,null,null,null,null,null,null,null,null,null,0,null,null,null,null,0,null,null,null,null,{"$f":"Раздел2!C110","v":0},{"$f":"Раздел2!H110","v":0},{"$f":"Раздел2!I110","v":0},{"$f":"Раздел2!J110","v":0},{"$f":"Раздел2!K110","v":0}]
["Метания","103",0,null,null,null,null,null,null,null,null,null,null,null,null,null,null,null,null,null,null,0,null,null,null,null,0,null,null,null,null,{"$f":"Раздел2!C111","v":0},{"$f":"Раздел2!H111","v":0},{"$f":"Раздел2!I111","v":0},{"$f":"Раздел2!J111","v":0},{"$f":"Раздел2!K111","v":0}]
["Спортивная ходьба","104",0,null,null,null,null,null,null,null,null,null,null,null,null,null,null,null,null,null,null,0,null,null,null,null,0,null,null,null,null,{"$f":"Раздел2!C112","v":0},{"$f":"Раздел2!H112","v":0},{"$f":"Раздел2!I112","v":0},{"$f":"Раздел2!J112","v":0},{"$f":"Раздел2!K112","v":0}]
["Лыжное двоеборье","105",0,null,null,null,null,null,null,null,null,null,null,null,null,null,null,null,null,null,null,0,null,null,null,null,0,null,null,null,null,{"$f":"Раздел2!C113","v":0},{"$f":"Раздел2!H113","v":0},{"$f":"Раздел2!I113","v":0},{"$f":"Раздел2!J113","v":0},{"$f":"Раздел2!K113","v":0}]
["Лыжные гонки","106",72,27,null,12,null,19,null,14,null,null,null,null,null,null,null,null,null,null,null,38,30,8,null,null,9,5,4,null,null,{"$f":"Раздел2!C114","v":1},{"$f":"Раздел2!H114","v":39},{"$f":"Раздел2!I114","v":33},{"$f":"Раздел2!J114","v":0},{"$f":"Раздел2!K114","v":0}]
["Мас-рестлинг","107",0,null,null,null,null,null,null,null,null,null,null,null,null,null,null,null,null,null,null,0,null,null,null,null,0,null,null,null,null,{"$f":"Раздел2!C115","v":0},{"$f":"Раздел2!H115","v":0},{"$f":"Раздел2!I115","v":0},{"$f":"Раздел2!J115","v":0},{"$f":"Раздел2!K115","v":0}]
["Международное военно-спортивное многоборье","108",0,null,null,null,null,null,null,null,null,null,null,null,null,null,null,null,null,null,null,0,null,null,null,null,0,null,null,null,null,{"$f":"Раздел2!C116","v":0},{"$f":"Раздел2!H116","v":0},{"$f":"Раздел2!I116","v":0},{"$f":"Раздел2!J116","v":0},{"$f":"Раздел2!K116","v":0}]
["Многоборье кинологов","109",0,null,null,null,null,null,null,null,null,null,null,null,null,null,null,null,null,null,null,0,null,null,null,null,0,null,null,null,null,{"$f":"Раздел2!C117","v":0},{"$f":"Раздел2!H117","v":0},{"$f":"Раздел2!I117","v":0},{"$f":"Раздел2!J117","v":0},{"$f":"Раздел2!K117","v":0}]
["Многоборье спасателей МЧС России","110",0,null,null,null,null,null,null,null,null,null,null,null,null,null,null,null,null,null,null,0,null,null,null,null,0,null,null,null,null,{"$f":"Раздел2!C118","v":0},{"$f":"Раздел2!H118","v":0},{"$f":"Раздел2!I118","v":0},{"$f":"Раздел2!J118","v":0},{"$f":"Раздел2!K118","v":0}]
["Морское многоборье","111",0,null,null,null,null,null,null,null,null,null,null,null,null,null,null,null,null,null,null,0,null,null,null,null,0,null,null,null,null,{"$f":"Раздел2!C119","v":0},{"$f":"Раздел2!H119","v":0},{"$f":"Раздел2!I119","v":0},{"$f":"Раздел2!J119","v":0},{"$f":"Раздел2!K119","v":0}]
["Мотоциклетный спорт","112",0,null,null,null,null,null,null,null,null,null,null,null,null,null,null,null,null,null,null,0,null,null,null,null,0,null,null,null,null,{"$f":"Раздел2!C120","v":0},{"$f":"Раздел2!H120","v":0},{"$f":"Раздел2!I120","v":0},{"$f":"Раздел2!J120","v":0},{"$f":"Раздел2!K120","v":0}]
["Настольный теннис","113",0,null,null,null,null,null,null,null,null,null,null,null,null,null,null,null,null,null,null,0,null,null,null,null,0,null,null,null,null,{"$f":"Раздел2!C121","v":0},{"$f":"Раздел2!H121","v":0},{"$f":"Раздел2!I121","v":0},{"$f":"Раздел2!J121","v":0},{"$f":"Раздел2!K121","v":0}]
["Падел","114",0,null,null,null,null,null,null,null,null,null,null,null,null,null,null,null,null,null,null,0,null,null,null,null,0,null,null,null,null,{"$f":"Раздел2!C122","v":0},{"$f":"Раздел2!H122","v":0},{"$f":"Раздел2!I122","v":0},{"$f":"Раздел2!J122","v":0},{"$f":"Раздел2!K122","v":0}]
["Парашютный спорт","115",0,null,null,null,null,null,null,null,null,null,null,null,null,null,null,null,null,null,null,0,null,null,null,null,0,null,null,null,null,{"$f":"Раздел2!C123","v":0},{"$f":"Раздел2!H123","v":0},{"$f":"Раздел2!I123","v":0},{"$f":"Раздел2!J123","v":0},{"$f":"Раздел2!K123","v":0}]
["Парусный спорт","116",0,null,null,null,null,null,null,null,null,null,null,null,null,null,null,null,null,null,null,0,null,null,null,null,0,null,null,null,null,{"$f":"Раздел2!C124","v":0},{"$f":"Раздел2!H124","v":0},{"$f":"Раздел2!I124","v":0},{"$f":"Раздел2!J124","v":0},{"$f":"Раздел2!K124","v":0}]
["Пауэрлифтинг","117",61,36,null,null,7,null,null,14,null,4,null,null,null,null,null,null,null,null,null,42,36,4,2,null,25,14,11,null,null,{"$f":"Раздел2!C125","v":1},{"$f":"Раздел2!H125","v":36},{"$f":"Раздел2!I125","v":21},{"$f":"Раздел2!J125","v":4},{"$f":"Раздел2!K125","v":0}]
["Перетягивание каната","118",0,null,null,null,null,null,null,null,null,null,null,null,null,null,null,null,null,null,null,0,null,null,null,null,0,null,null,null,null,{"$f":"Раздел2!C126","v":0},{"$f":"Раздел2!H126","v":0},{"$f":"Раздел2!I126","v":0},{"$f":"Раздел2!J126","v":0},{"$f":"Раздел2!K126","v":0}]
["Плавание - всего","119",0,{"$f":"SUM(D127:D128)","v":0},{"$f":"SUM(E127:E128)","v":0},0,0,0,0,0,0,0,0,0,0,0,0,0,0,0,0,0,0,0,0,0,0,0,0,0,0,{"$f":"Раздел2!C127","v":0},{"$f":"Раздел2!H127","v":0},{"$f":"Раздел2!I127","v":0},{"$f":"Раздел2!J127","v":0},{"$f":"Раздел2!K127","v":0}]
["в том числе:\nПлавание ","120",0,null,null,null,null,null,null,null,null,null,null,null,null,null,null,null,null,null,null,0,null,null,null,null,0,null,null,null,null,{"$f":"Раздел2!C128","v":0},{"$f":"Раздел2!H128","v":0},{"$f":"Раздел2!I128","v":0},{"$f":"Раздел2!J128","v":0},{"$f":"Раздел2!K128","v":0}]
["Открытая вода","121",0,null,null,null,null,null,null,null,null,null,null,null,null,null,null,null,null,null,null,0,null,null,null,null,0,null,null,null,null,{"$f":"Раздел2!C129","v":0},{"$f":"Раздел2!H129","v":0},{"$f":"Раздел2!I129","v":0},{"$f":"Раздел2!J129","v":0},{"$f":"Раздел2!K129","v":0}]
["Планерный спорт","122",0,null,null,null,null,null,null,null,null,null,null,null,null,null,null,null,null,null,null,0,null,null,null,null,0,null,null,null,null,{"$f":"Раздел2!C130","v":0},{"$f":"Раздел2!H130","v":0},{"$f":"Раздел2!I130","v":0},{"$f":"Раздел2!J130","v":0},{"$f":"Раздел2!K130","v":0}]
["Подводный спорт","123",0,null,null,null,null,null,null,null,null,null,null,null,null,null,null,null,null,null,null,0,null,null,null,null,0,null,null,null,null,{"$f":"Раздел2!C131","v":0},{"$f":"Раздел2!H131","v":0},{"$f":"Раздел2!I131","v":0},{"$f":"Раздел2!J131","v":0},{"$f":"Раздел2!K131","v":0}]
["Пожарно-спасательный спорт","124",0,null,null,null,null,null,null,null,null,null,null,null,null,null,null,null,null,null,null,0,null,null,null,null,0,null,null,null,null,{"$f":"Раздел2!C132","v":0},{"$f":"Раздел2!H132","v":0},{"$f":"Раздел2!I132","v":0},{"$f":"Раздел2!J132","v":0},{"$f":"Раздел2!K132","v":0}]
["Полиатлон","125",0,null,null,null,null,null,null,null,null,null,null,null,null,null,null,null,null,null,null,0,null,null,null,null,0,null,null,null,null,{"$f":"Раздел2!C133","v":0},{"$f":"Раздел2!H133","v":0},{"$f":"Раздел2!I133","v":0},{"$f":"Раздел2!J133","v":0},{"$f":"Раздел2!K133","v":0}]
["Практическая стрельба","126",0,null,null,null,null,null,null,null,null,null,null,null,null,null,null,null,null,null,null,0,null,null,null,null,0,null,null,null,null,{"$f":"Раздел2!C134","v":0},{"$f":"Раздел2!H134","v":0},{"$f":"Раздел2!I134","v":0},{"$f":"Раздел2!J134","v":0},{"$f":"Раздел2!K134","v":0}]
["Прыжки в воду - всего","127",0,{"$f":"SUM(D135:D136)","v":0},{"$f":"SUM(E135:E136)","v":0},0,0,0,0,0,0,0,0,0,0,0,0,0,0,0,0,0,0,0,0,0,0,0,0,0,0,{"$f":"Раздел2!C135","v":0},{"$f":"Раздел2!H135","v":0},{"$f":"Раздел2!I135","v":0},{"$f":"Раздел2!J135","v":0},{"$f":"Раздел2!K135","v":0}]
["в том числе:\nПрыжки в воду","128",0,null,null,null,null,null,null,null,null,null,null,null,null,null,null,null,null,null,null,0,null,null,null,null,0,null,null,null,null,{"$f":"Раздел2!C136","v":0},{"$f":"Раздел2!H136","v":0},{"$f":"Раздел2!I136","v":0},{"$f":"Раздел2!J136","v":0},{"$f":"Раздел2!K136","v":0}]
["Прыжки в открытый водоем","129",0,null,null,null,null,null,null,null,null,null,null,null,null,null,null,null,null,null,null,0,null,null,null,null,0,null,null,null,null,{"$f":"Раздел2!C137","v":0},{"$f":"Раздел2!H137","v":0},{"$f":"Раздел2!I137","v":0},{"$f":"Раздел2!J137","v":0},{"$f":"Раздел2!K137","v":0}]
["Прыжки на батуте - всего","130",{"$f":"SUM(D137:U137)","v":0},{"$f":"SUM(D138:D141)","v":0},{"$f":"SUM(E138:E141)","v":0},0,0,0,0,0,0,0,0,0,0,0,0,0,0,0,0,0,0,0,0,0,0,0,0,0,0,{"$f":"Раздел2!C138","v":0},{"$f":"Раздел2!H138","v":0},{"$f":"Раздел2!I138","v":0},{"$f":"Раздел2!J138","v":0},{"$f":"Раздел2!K138","v":0}]
["в том числе:\nАкробатическая дорожка","131",0,null,null,null,null,null,null,null,null,null,null,null,null,null,null,null,null,null,null,{"$f":"SUM(W138:Z138)","v":0},null,null,null,null,{"$f":"SUM(AB138:AE138)","v":0},null,null,null,null,{"$f":"Раздел2!C139","v":0},{"$f":"Раздел2!H139","v":0},{"$f":"Раздел2!I139","v":0},{"$f":"Раздел2!J139","v":0},{"$f":"Раздел2!K139","v":0}]
["Двойной минитрамп","132",0,null,null,null,null,null,null,null,null,null,null,null,null,null,null,null,null,null,null,0,null,null,null,null,0,null,null,null,null,{"$f":"Раздел2!C140","v":0},{"$f":"Раздел2!H140","v":0},{"$f":"Раздел2!I140","v":0},{"$f":"Раздел2!J140","v":0},{"$f":"Раздел2!K140","v":0}]
["Индивидуальные прыжки","133",0,null,null,null,null,null,null,null,null,null,null,null,null,null,null,null,null,null,null,0,null,null,null,null,0,null,null,null,null,{"$f":"Раздел2!C141","v":0},{"$f":"Раздел2!H141","v":0},{"$f":"Раздел2!I141","v":0},{"$f":"Раздел2!J141","v":0},{"$f":"Раздел2!K141","v":0}]
["Синхронные прыжки","134",0,null,null,null,null,null,null,null,null,null,null,null,null,null,null,null,null,null,null,0,null,null,null,null,0,null,null,null,null,{"$f":"Раздел2!C142","v":0},{"$f":"Раздел2!H142","v":0},{"$f":"Раздел2!I142","v":0},{"$f":"Раздел2!J142","v":0},{"$f":"Раздел2!K142","v":0}]
["Прыжки на лыжах с трамплина","135",0,null,null,null,null,null,null,null,null,null,null,null,null,null,null,null,null,null,null,0,null,null,null,null,0,null,null,null,null,{"$f":"Раздел2!C143","v":0},{"$f":"Раздел2!H143","v":0},{"$f":"Раздел2!I143","v":0},{"$f":"Раздел2!J143","v":0},{"$f":"Раздел2!K143","v":0}]
["Пулевая стрельба - всего","136",0,{"$f":"SUM(D144:D148)","v":0},{"$f":"SUM(E144:E148)","v":0},0,0,0,0,0,0,0,0,0,0,0,0,0,0,0,0,0,0,0,0,0,0,0,0,0,0,{"$f":"Раздел2!C144","v":0},{"$f":"Раздел2!H144","v":0},{"$f":"Раздел2!I144","v":0},{"$f":"Раздел2!J144","v":0},{"$f":"Раздел2!K144","v":0}]
["в том числе:\nПневматическая винтовка","137",0,null,null,null,null,null,null,null,null,null,null,null,null,null,null,null,null,null,null,0,null,null,null,null,0,null,null,null,null,{"$f":"Раздел2!C145","v":0},{"$f":"Раздел2!H145","v":0},{"$f":"Раздел2!I145","v":0},{"$f":"Раздел2!J145","v":0},{"$f":"Раздел2!K145","v":0}]
["Пневматический пистолет","138",0,null,null,null,null,null,null,null,null,null,null,null,null,null,null,null,null,null,null,0,null,null,null,null,0,null,null,null,null,{"$f":"Раздел2!C146","v":0},{"$f":"Раздел2!H146","v":0},{"$f":"Раздел2!I146","v":0},{"$f":"Раздел2!J146","v":0},{"$f":"Раздел2!K146","v":0}]
["Малокалиберная винтовка","139",0,null,null,null,null,null,null,null,null,null,null,null,null,null,null,null,null,null,null,0,null,null,null,null,0,null,null,null,null,{"$f":"Раздел2!C147","v":0},{"$f":"Раздел2!H147","v":0},{"$f":"Раздел2!I147","v":0},{"$f":"Раздел2!J147","v":0},{"$f":"Раздел2!K147","v":0}]
["Малокалиберный пистолет","140",0,null,null,null,null,null,null,null,null,null,null,null,null,null,null,null,null,null,null,0,null,null,null,null,0,null,null,null,null,{"$f":"Раздел2!C148","v":0},{"$f":"Раздел2!H148","v":0},{"$f":"Раздел2!I148","v":0},{"$f":"Раздел2!J148","v":0},{"$f":"Раздел2!K148","v":0}]
["Движущаяся мишень","141",0,null,null,null,null,null,null,null,null,null,null,null,null,null,null,null,null,null,null,0,null,null,null,null,0,null,null,null,null,{"$f":"Раздел2!C149","v":0},{"$f":"Раздел2!H149","v":0},{"$f":"Раздел2!I149","v":0},{"$f":"Раздел2!J149","v":0},{"$f":"Раздел2!K149","v":0}]
["Пэйнтбол","142",0,null,null,null,null,null,null,null,null,null,null,null,null,null,null,null,null,null,null,0,null,null,null,null,0,null,null,null,null,{"$f":"Раздел2!C150","v":0},{"$f":"Раздел2!H150","v":0},{"$f":"Раздел2!I150","v":0},{"$f":"Раздел2!J150","v":0},{"$f":"Раздел2!K150","v":0}]
["Радиоспорт","143",0,null,null,null,null,null,null,null,null,null,null,null,null,null,null,null,null,null,null,0,null,null,null,null,0,null,null,null,null,{"$f":"Раздел2!C151","v":0},{"$f":"Раздел2!H151","v":0},{"$f":"Раздел2!I151","v":0},{"$f":"Раздел2!J151","v":0},{"$f":"Раздел2!K151","v":0}]
["Рафтинг","144",0,null,null,null,null,null,null,null,null,null,null,null,null,null,null,null,null,null,null,0,null,null,null,null,0,null,null,null,null,{"$f":"Раздел2!C152","v":0},{"$f":"Раздел2!H152","v":0},{"$f":"Раздел2!I152","v":0},{"$f":"Раздел2!J152","v":0},{"$f":"Раздел2!K152","v":0}]
["Регби - всего","145",0,{"$f":"SUM(D153:D157)","v":0},{"$f":"SUM(E153:E157)","v":0},0,0,0,0,0,0,0,0,0,0,0,0,0,0,0,0,0,0,0,0,0,0,0,0,0,0,{"$f":"Раздел2!C153","v":0},{"$f":"Раздел2!H153","v":0},{"$f":"Раздел2!I153","v":0},{"$f":"Раздел2!J153","v":0},{"$f":"Раздел2!K153","v":0}]
["в том числе:\nРегби","146",0,null,null,null,null,null,null,null,null,null,null,null,null,null,null,null,null,null,null,0,null,null,null,null,0,null,null,null,null,{"$f":"Раздел2!C154","v":0},{"$f":"Раздел2!H154","v":0},{"$f":"Раздел2!I154","v":0},{"$f":"Раздел2!J154","v":0},{"$f":"Раздел2!K154","v":0}]
["Регби 7 (муж.)","147",0,null,null,null,null,null,null,null,null,null,null,null,null,null,null,null,null,null,null,0,null,null,null,null,0,null,null,null,null,{"$f":"Раздел2!C155","v":0},{"$f":"Раздел2!H155","v":0},{"$f":"Раздел2!I155","v":0},{"$f":"Раздел2!J155","v":0},{"$f":"Раздел2!K155","v":0}]
["Регби 7 (жен.)","148",0,null,null,null,null,null,null,null,null,null,null,null,null,null,null,null,null,null,null,0,null,null,null,null,0,null,null,null,null,{"$f":"Раздел2!C156","v":0},{"$f":"Раздел2!H156","v":0},{"$f":"Раздел2!I156","v":0},{"$f":"Раздел2!J156","v":0},{"$f":"Раздел2!K156","v":0}]
["Регби - пляжное","149",0,null,null,null,null,null,null,null,null,null,null,null,null,null,null,null,null,null,null,0,null,null,null,null,0,null,null,null,null,{"$f":"Раздел2!C157","v":0},{"$f":"Раздел2!H157","v":0},{"$f":"Раздел2!I157","v":0},{"$f":"Раздел2!J157","v":0},{"$f":"Раздел2!K157","v":0}]
["Регби на снегу","150",0,null,null,null,null,null,null,null,null,null,null,null,null,null,null,null,null,null,null,0,null,null,null,null,0,null,null,null,null,{"$f":"Раздел2!C158","v":0},{"$f":"Раздел2!H158","v":0},{"$f":"Раздел2!I158","v":0},{"$f":"Раздел2!J158","v":0},{"$f":"Раздел2!K158","v":0}]
["Регбол","151",0,null,null,null,null,null,null,null,null,null,null,null,null,null,null,null,null,null,null,0,null,null,null,null,0,null,null,null,null,{"$f":"Раздел2!C159","v":0},{"$f":"Раздел2!H159","v":0},{"$f":"Раздел2!I159","v":0},{"$f":"Раздел2!J159","v":0},{"$f":"Раздел2!K159","v":0}]
["Роллер спорт","152",0,null,null,null,null,null,null,null,null,null,null,null,null,null,null,null,null,null,null,0,null,null,null,null,0,null,null,null,null,{"$f":"Раздел2!C160","v":0},{"$f":"Раздел2!H160","v":0},{"$f":"Раздел2!I160","v":0},{"$f":"Раздел2!J160","v":0},{"$f":"Раздел2!K160","v":0}]
["Роуп скиппинг (спортивная скакалка)","153",0,null,null,null,null,null,null,null,null,null,null,null,null,null,null,null,null,null,null,0,null,null,null,null,0,null,null,null,null,{"$f":"Раздел2!C161","v":0},{"$f":"Раздел2!H161","v":0},{"$f":"Раздел2!I161","v":0},{"$f":"Раздел2!J161","v":0},{"$f":"Раздел2!K161","v":0}]
["Рукопашный бой","154",42,null,24,null,null,null,9,null,9,null,null,null,null,null,null,null,null,null,null,8,5,3,null,null,17,5,12,null,null,{"$f":"Раздел2!C162","v":1},{"$f":"Раздел2!H162","v":24},{"$f":"Раздел2!I162","v":18},{"$f":"Раздел2!J162","v":0},{"$f":"Раздел2!K162","v":0}]
["Рыболовный спорт","155",0,null,null,null,null,null,null,null,null,null,null,null,null,null,null,null,null,null,null,0,null,null,null,null,0,null,null,null,null,{"$f":"Раздел2!C163","v":0},{"$f":"Раздел2!H163","v":0},{"$f":"Раздел2!I163","v":0},{"$f":"Раздел2!J163","v":0},{"$f":"Раздел2!K163","v":0}]
["Сават","156",0,null,null,null,null,null,null,null,null,null,null,null,null,null,null,null,null,null,null,0,null,null,null,null,0,null,null,null,null,{"$f":"Раздел2!C164","v":0},{"$f":"Раздел2!H164","v":0},{"$f":"Раздел2!I164","v":0},{"$f":"Раздел2!J164","v":0},{"$f":"Раздел2!K164","v":0}]
["Самбо","157",0,null,null,null,null,null,null,null,null,null,null,null,null,null,null,null,null,null,null,0,null,null,null,null,0,null,null,null,null,{"$f":"Раздел2!C165","v":0},{"$f":"Раздел2!H165","v":0},{"$f":"Раздел2!I165","v":0},{"$f":"Раздел2!J165","v":0},{"$f":"Раздел2!K165","v":0}]
["Самолетный спорт","158",0,null,null,null,null,null,null,null,null,null,null,null,null,null,null,null,null,null,null,0,null,null,null,null,0,null,null,null,null,{"$f":"Раздел2!C166","v":0},{"$f":"Раздел2!H166","v":0},{"$f":"Раздел2!I166","v":0},{"$f":"Раздел2!J166","v":0},{"$f":"Раздел2!K166","v":0}]
["Санный спорт","159",0,null,null,null,null,null,null,null,null,null,null,null,null,null,null,null,null,null,null,0,null,null,null,null,0,null,null,null,null,{"$f":"Раздел2!C167","v":0},{"$f":"Раздел2!H167","v":0},{"$f":"Раздел2!I167","v":0},{"$f":"Раздел2!J167","v":0},{"$f":"Раздел2!K167","v":0}]
["Северное многоборье","160",0,null,null,null,null,null,null,null,null,null,null,null,null,null,null,null,null,null,null,0,null,null,null,null,0,null,null,null,null,{"$f":"Раздел2!C168","v":0},{"$f":"Раздел2!H168","v":0},{"$f":"Раздел2!I168","v":0},{"$f":"Раздел2!J168","v":0},{"$f":"Раздел2!K168","v":0}]
["Серфинг","161",0,null,null,null,null,null,null,null,null,null,null,null,null,null,null,null,null,null,null,0,null,null,null,null,0,null,null,null,null,{"$f":"Раздел2!C169","v":0},{"$f":"Раздел2!H169","v":0},{"$f":"Раздел2!I169","v":0},{"$f":"Раздел2!J169","v":0},{"$f":"Раздел2!K169","v":0}]
["Силовой экстрим","162",0,null,null,null,null,null,null,null,null,null,null,null,null,null,null,null,null,null,null,0,null,null,null,null,0,null,null,null,null,{"$f":"Раздел2!C170","v":0},{"$f":"Раздел2!H170","v":0},{"$f":"Раздел2!I170","v":0},{"$f":"Раздел2!J170","v":0},{"$f":"Раздел2!K170","v":0}]
["Синхронное плавание","163",0,null,null,null,null,null,null,null,null,null,null,null,null,null,null,null,null,null,null,0,null,null,null,null,0,null,null,null,null,{"$f":"Раздел2!C171","v":0},{"$f":"Раздел2!H171","v":0},{"$f":"Раздел2!I171","v":0},{"$f":"Раздел2!J171","v":0},{"$f":"Раздел2!K171","v":0}]
["Скалолазание","164",0,null,null,null,null,null,null,null,null,null,null,null,null,null,null,null,null,null,null,0,null,null,null,null,0,null,null,null,null,{"$f":"Раздел2!C172","v":0},{"$f":"Раздел2!H172","v":0},{"$f":"Раздел2!I172","v":0},{"$f":"Раздел2!J172","v":0},{"$f":"Раздел2!K172","v":0}]
["Сквош","165",0,null,null,null,null,null,null,null,null,null,null,null,null,null,null,null,null,null,null,0,null,null,null,null,0,null,null,null,null,{"$f":"Раздел2!C173","v":0},{"$f":"Раздел2!H173","v":0},{"$f":"Раздел2!I173","v":0},{"$f":"Раздел2!J173","v":0},{"$f":"Раздел2!K173","v":0}]
["Скейтбординг","166",0,null,null,null,null,null,null,null,null,null,null,null,null,null,null,null,null,null,null,0,null,null,null,null,0,null,null,null,null,{"$f":"Раздел2!C174","v":0},{"$f":"Раздел2!H174","v":0},{"$f":"Раздел2!I174","v":0},{"$f":"Раздел2!J174","v":0},{"$f":"Раздел2!K174","v":0}]
["Служебно-боевая стрельба ","167",0,null,null,null,null,null,null,null,null,null,null,null,null,null,null,null,null,null,null,0,null,null,null,null,0,null,null,null,null,{"$f":"Раздел2!C175","v":0},{"$f":"Раздел2!H175","v":0},{"$f":"Раздел2!I175","v":0},{"$f":"Раздел2!J175","v":0},{"$f":"Раздел2!K175","v":0}]
["Служебно-прикладной спорт","168",0,null,null,null,null,null,null,null,null,null,null,null,null,null,null,null,null,null,null,0,null,null,null,null,0,null,null,null,null,{"$f":"Раздел2!C176","v":0},{"$f":"Раздел2!H176","v":0},{"$f":"Раздел2!I176","v":0},{"$f":"Раздел2!J176","v":0},{"$f":"Раздел2!K176","v":0}]
["Служебно-прикладной спорт ФСО России","169",0,null,null,null,null,null,null,null,null,null,null,null,null,null,null,null,null,null,null,0,null,null,null,null,0,null,null,null,null,{"$f":"Раздел2!C177","v":0},{"$f":"Раздел2!H177","v":0},{"$f":"Раздел2!I177","v":0},{"$f":"Раздел2!J177","v":0},{"$f":"Раздел2!K177","v":0}]
["Служебно-прикладной спорт ФТС России","170",0,null,null,null,null,null,null,null,null,null,null,null,null,null,null,null,null,null,null,0,null,null,null,null,0,null,null,null,null,{"$f":"Раздел2!C178","v":0},{"$f":"Раздел2!H178","v":0},{"$f":"Раздел2!I178","v":0},{"$f":"Раздел2!J178","v":0},{"$f":"Раздел2!K178","v":0}]
["Служебное двоеборье","171",0,null,null,null,null,null,null,null,null,null,null,null,null,null,null,null,null,null,null,0,null,null,null,null,0,null,null,null,null,{"$f":"Раздел2!C179","v":0},{"$f":"Раздел2!H179","v":0},{"$f":"Раздел2!I179","v":0},{"$f":"Раздел2!J179","v":0},{"$f":"Раздел2!K179","v":0}]
["Служебное единоборство","172",0,null,null,null,null,null,null,null,null,null,null,null,null,null,null,null,null,null,null,0,null,null,null,null,0,null,null,null,null,{"$f":"Раздел2!C180","v":0},{"$f":"Раздел2!H180","v":0},{"$f":"Раздел2!I180","v":0},{"$f":"Раздел2!J180","v":0},{"$f":"Раздел2!K180","v":0}]
["Служебное многоборье","173",0,null,null,null,null,null,null,null,null,null,null,null,null,null,null,null,null,null,null,0,null,null,null,null,0,null,null,null,null,{"$f":"Раздел2!C181","v":0},{"$f":"Раздел2!H181","v":0},{"$f":"Раздел2!I181","v":0},{"$f":"Раздел2!J181","v":0},{"$f":"Раздел2!K181","v":0}]
["Служебный биатлон","174",0,null,null,null,null,null,null,null,null,null,null,null,null,null,null,null,null,null,null,0,null,null,null,null,0,null,null,null,null,{"$f":"Раздел2!C182","v":0},{"$f":"Раздел2!H182","v":0},{"$f":"Раздел2!I182","v":0},{"$f":"Раздел2!J182","v":0},{"$f":"Раздел2!K182","v":0}]
["Спасательный спорт","175",0,null,null,null,null,null,null,null,null,null,null,null,null,null,null,null,null,null,null,0,null,null,null,null,0,null,null,null,null,{"$f":"Раздел2!C183","v":0},{"$f":"Раздел2!H183","v":0},{"$f":"Раздел2!I183","v":0},{"$f":"Раздел2!J183","v":0},{"$f":"Раздел2!K183","v":0}]
["Стрельба из боевого ручного стрелкового оружия","176",0,null,null,null,null,null,null,null,null,null,null,null,null,null,null,null,null,null,null,0,null,null,null,null,0,null,null,null,null,{"$f":"Раздел2!C184","v":0},{"$f":"Раздел2!H184","v":0},{"$f":"Раздел2!I184","v":0},{"$f":"Раздел2!J184","v":0},{"$f":"Раздел2!K184","v":0}]
["Стрельба из штатного или табельного оружия","177",0,null,null,null,null,null,null,null,null,null,null,null,null,null,null,null,null,null,null,0,null,null,null,null,0,null,null,null,null,{"$f":"Раздел2!C185","v":0},{"$f":"Раздел2!H185","v":0},{"$f":"Раздел2!I185","v":0},{"$f":"Раздел2!J185","v":0},{"$f":"Раздел2!K185","v":0}]
["Смешанное боевое единоборство (ММА)","178",0,null,null,null,null,null,null,null,null,null,null,null,null,null,null,null,null,null,null,0,null,null,null,null,0,null,null,null,null,{"$f":"Раздел2!C186","v":0},{"$f":"Раздел2!H186","v":0},{"$f":"Раздел2!I186","v":0},{"$f":"Раздел2!J186","v":0},{"$f":"Раздел2!K186","v":0}]
["Сноуборд","179",0,null,null,null,null,null,null,null,null,null,null,null,null,null,null,null,null,null,null,0,null,null,null,null,0,null,null,null,null,{"$f":"Раздел2!C187","v":0},{"$f":"Раздел2!H187","v":0},{"$f":"Раздел2!I187","v":0},{"$f":"Раздел2!J187","v":0},{"$f":"Раздел2!K187","v":0}]
["Современное пятиборье","180",0,null,null,null,null,null,null,null,null,null,null,null,null,null,null,null,null,null,null,0,null,null,null,null,0,null,null,null,null,{"$f":"Раздел2!C188","v":0},{"$f":"Раздел2!H188","v":0},{"$f":"Раздел2!I188","v":0},{"$f":"Раздел2!J188","v":0},{"$f":"Раздел2!K188","v":0}]
["Софтбол","181",0,null,null,null,null,null,null,null,null,null,null,null,null,null,null,null,null,null,null,0,null,null,null,null,0,null,null,null,null,{"$f":"Раздел2!C189","v":0},{"$f":"Раздел2!H189","v":0},{"$f":"Раздел2!I189","v":0},{"$f":"Раздел2!J189","v":0},{"$f":"Раздел2!K189","v":0}]
["Спорт сверхлегкой авиации","182",0,null,null,null,null,null,null,null,null,null,null,null,null,null,null,null,null,null,null,0,null,null,null,null,0,null,null,null,null,{"$f":"Раздел2!C190","v":0},{"$f":"Раздел2!H190","v":0},{"$f":"Раздел2!I190","v":0},{"$f":"Раздел2!J190","v":0},{"$f":"Раздел2!K190","v":0}]
["Спортивная акробатика","183",0,null,null,null,null,null,null,null,null,null,null,null,null,null,null,null,null,null,null,0,null,null,null,null,0,null,null,null,null,{"$f":"Раздел2!C191","v":0},{"$f":"Раздел2!H191","v":0},{"$f":"Раздел2!I191","v":0},{"$f":"Раздел2!J191","v":0},{"$f":"Раздел2!K191","v":0}]
["Спортивная аэробика","184",0,null,null,null,null,null,null,null,null,null,null,null,null,null,null,null,null,null,null,0,null,null,null,null,0,null,null,null,null,{"$f":"Раздел2!C192","v":0},{"$f":"Раздел2!H192","v":0},{"$f":"Раздел2!I192","v":0},{"$f":"Раздел2!J192","v":0},{"$f":"Раздел2!K192","v":0}]
["Спортивная борьба - всего","185",0,{"$f":"SUM(D193:D197)","v":0},{"$f":"SUM(E193:E197)","v":0},0,0,0,0,0,0,0,0,0,0,0,0,0,0,0,0,0,0,0,0,0,0,0,0,0,0,{"$f":"Раздел2!C193","v":0},{"$f":"Раздел2!H193","v":0},{"$f":"Раздел2!I193","v":0},{"$f":"Раздел2!J193","v":0},{"$f":"Раздел2!K193","v":0}]
["в том числе:\nВольная борьба","186",0,null,null,null,null,null,null,null,null,null,null,null,null,null,null,null,null,null,null,0,null,null,null,null,0,null,null,null,null,{"$f":"Раздел2!C194","v":0},{"$f":"Раздел2!H194","v":0},{"$f":"Раздел2!I194","v":0},{"$f":"Раздел2!J194","v":0},{"$f":"Раздел2!K194","v":0}]
["Греко-римская борьба","187",0,null,null,null,null,null,null,null,null,null,null,null,null,null,null,null,null,null,null,0,null,null,null,null,0,null,null,null,null,{"$f":"Раздел2!C195","v":0},{"$f":"Раздел2!H195","v":0},{"$f":"Раздел2!I195","v":0},{"$f":"Раздел2!J195","v":0},{"$f":"Раздел2!K195","v":0}]
["Грэпплинг","188",0,null,null,null,null,null,null,null,null,null,null,null,null,null,null,null,null,null,null,0,null,null,null,null,0,null,null,null,null,{"$f":"Раздел2!C196","v":0},{"$f":"Раздел2!H196","v":0},{"$f":"Раздел2!I196","v":0},{"$f":"Раздел2!J196","v":0},{"$f":"Раздел2!K196","v":0}]
["Грэпплинг-ги","189",0,null,null,null,null,null,null,null,null,null,null,null,null,null,null,null,null,null,null,0,null,null,null,null,0,null,null,null,null,{"$f":"Раздел2!C197","v":0},{"$f":"Раздел2!H197","v":0},{"$f":"Раздел2!I197","v":0},{"$f":"Раздел2!J197","v":0},{"$f":"Раздел2!K197","v":0}]
["Панкратион","190",0,null,null,null,null,null,null,null,null,null,null,null,null,null,null,null,null,null,null,0,null,null,null,null,0,null,null,null,null,{"$f":"Раздел2!C198","v":0},{"$f":"Раздел2!H198","v":0},{"$f":"Раздел2!I198","v":0},{"$f":"Раздел2!J198","v":0},{"$f":"Раздел2!K198","v":0}]
["Спортивная гимнастика","191",0,null,null,null,null,null,null,null,null,null,null,null,null,null,null,null,null,null,null,0,null,null,null,null,0,null,null,null,null,{"$f":"Раздел2!C199","v":0},{"$f":"Раздел2!H199","v":0},{"$f":"Раздел2!I199","v":0},{"$f":"Раздел2!J199","v":0},{"$f":"Раздел2!K199","v":0}]
["Спортивная йога","192",0,null,null,null,null,null,null,null,null,null,null,null,null,null,null,null,null,null,null,0,null,null,null,null,0,null,null,null,null,{"$f":"Раздел2!C200","v":0},{"$f":"Раздел2!H200","v":0},{"$f":"Раздел2!I200","v":0},{"$f":"Раздел2!J200","v":0},{"$f":"Раздел2!K200","v":0}]
["Спортивно-прикладное собаководство","193",0,null,null,null,null,null,null,null,null,null,null,null,null,null,null,null,null,null,null,0,null,null,null,null,0,null,null,null,null,{"$f":"Раздел2!C201","v":0},{"$f":"Раздел2!H201","v":0},{"$f":"Раздел2!I201","v":0},{"$f":"Раздел2!J201","v":0},{"$f":"Раздел2!K201","v":0}]
["Спортивное метание ножа","194",{"$f":"SUM(D201:U201)","v":0},null,null,null,null,null,null,null,null,null,null,null,null,null,null,null,null,null,null,{"$f":"SUM(W201:Z201)","v":0},null,null,null,null,{"$f":"SUM(AB201:AE201)","v":0},null,null,null,null,{"$f":"Раздел2!C202","v":0},{"$f":"Раздел2!H202","v":0},{"$f":"Раздел2!I202","v":0},{"$f":"Раздел2!J202","v":0},{"$f":"Раздел2!K202","v":0}]
["Спортивное ориентирование","195",0,null,null,null,null,null,null,null,null,null,null,null,null,null,null,null,null,null,null,0,null,null,null,null,0,null,null,null,null,{"$f":"Раздел2!C203","v":0},{"$f":"Раздел2!H203","v":0},{"$f":"Раздел2!I203","v":0},{"$f":"Раздел2!J203","v":0},{"$f":"Раздел2!K203","v":0}]
["Спортивный бридж","196",0,null,null,null,null,null,null,null,null,null,null,null,null,null,null,null,null,null,null,0,null,null,null,null,0,null,null,null,null,{"$f":"Раздел2!C204","v":0},{"$f":"Раздел2!H204","v":0},{"$f":"Раздел2!I204","v":0},{"$f":"Раздел2!J204","v":0},{"$f":"Раздел2!K204","v":0}]
["Спортивный туризм","197",0,null,null,null,null,null,null,null,null,null,null,null,null,null,null,null,null,null,null,0,null,null,null,null,0,null,null,null,null,{"$f":"Раздел2!C205","v":0},{"$f":"Раздел2!H205","v":0},{"$f":"Раздел2!I205","v":0},{"$f":"Раздел2!J205","v":0},{"$f":"Раздел2!K205","v":0}]
["Стендовая стрельба - всего","198",0,{"$f":"SUM(D206:D209)","v":0},{"$f":"SUM(E206:E209)","v":0},0,0,0,0,0,0,0,0,0,0,0,0,0,0,0,0,0,0,0,0,0,0,0,0,0,0,{"$f":"Раздел2!C206","v":0},{"$f":"Раздел2!H206","v":0},{"$f":"Раздел2!I206","v":0},{"$f":"Раздел2!J206","v":0},{"$f":"Раздел2!K206","v":0}]
["в том числе:\nТрап","199",0,null,null,null,null,null,null,null,null,null,null,null,null,null,null,null,null,null,null,0,null,null,null,null,0,null,null,null,null,{"$f":"Раздел2!C207","v":0},{"$f":"Раздел2!H207","v":0},{"$f":"Раздел2!I207","v":0},{"$f":"Раздел2!J207","v":0},{"$f":"Раздел2!K207","v":0}]
["Скит","200",0,null,null,null,null,null,null,null,null,null,null,null,null,null,null,null,null,null,null,0,null,null,null,null,0,null,null,null,null,{"$f":"Раздел2!C208","v":0},{"$f":"Раздел2!H208","v":0},{"$f":"Раздел2!I208","v":0},{"$f":"Раздел2!J208","v":0},{"$f":"Раздел2!K208","v":0}]
["Дубль-трап","201",0,null,null,null,null,null,null,null,null,null,null,null,null,null,null,null,null,null,null,0,null,null,null,null,0,null,null,null,null,{"$f":"Раздел2!C209","v":0},{"$f":"Раздел2!H209","v":0},{"$f":"Раздел2!I209","v":0},{"$f":"Раздел2!J209","v":0},{"$f":"Раздел2!K209","v":0}]
["Спортинг","202",0,null,null,null,null,null,null,null,null,null,null,null,null,null,null,null,null,null,null,0,null,null,null,null,0,null,null,null,null,{"$f":"Раздел2!C210","v":0},{"$f":"Раздел2!H210","v":0},{"$f":"Раздел2!I210","v":0},{"$f":"Раздел2!J210","v":0},{"$f":"Раздел2!K210","v":0}]
["Страйкбол","203",0,null,null,null,null,null,null,null,null,null,null,null,null,null,null,null,null,null,null,0,null,null,null,null,0,null,null,null,null,{"$f":"Раздел2!C211","v":0},{"$f":"Раздел2!H211","v":0},{"$f":"Раздел2!I211","v":0},{"$f":"Раздел2!J211","v":0},{"$f":"Раздел2!K211","v":0}]
["Стрельба из арбалета","204",0,null,null,null,null,null,null,null,null,null,null,null,null,null,null,null,null,null,null,0,null,null,null,null,0,null,null,null,null,{"$f":"Раздел2!C212","v":0},{"$f":"Раздел2!H212","v":0},{"$f":"Раздел2!I212","v":0},{"$f":"Раздел2!J212","v":0},{"$f":"Раздел2!K212","v":0}]
["Стрельба из лука - всего","205",0,{"$f":"SUM(D213:D215)","v":0},{"$f":"SUM(E213:E215)","v":0},0,0,0,0,0,0,0,0,0,0,0,0,0,0,0,0,0,0,0,0,0,0,0,0,0,0,{"$f":"Раздел2!C213","v":0},{"$f":"Раздел2!H213","v":0},{"$f":"Раздел2!I213","v":0},{"$f":"Раздел2!J213","v":0},{"$f":"Раздел2!K213","v":0}]
["в том числе:\nКлассический лук","206",0,null,null,null,null,null,null,null,null,null,null,null,null,null,null,null,null,null,null,0,null,null,null,null,0,null,null,null,null,{"$f":"Раздел2!C214","v":0},{"$f":"Раздел2!H214","v":0},{"$f":"Раздел2!I214","v":0},{"$f":"Раздел2!J214","v":0},{"$f":"Раздел2!K214","v":0}]
["   Блочный лук","207",0,null,null,null,null,null,null,null,null,null,null,null,null,null,null,null,null,null,null,0,null,null,null,null,0,null,null,null,null,{"$f":"Раздел2!C215","v":0},{"$f":"Раздел2!H215","v":0},{"$f":"Раздел2!I215","v":0},{"$f":"Раздел2!J215","v":0},{"$f":"Раздел2!K215","v":0}]
["   Ачери ","208",0,null,null,null,null,null,null,null,null,null,null,null,null,null,null,null,null,null,null,0,null,null,null,null,0,null,null,null,null,{"$f":"Раздел2!C216","v":0},{"$f":"Раздел2!H216","v":0},{"$f":"Раздел2!I216","v":0},{"$f":"Раздел2!J216","v":0},{"$f":"Раздел2!K216","v":0}]
["Судомодельный спорт","209",0,null,null,null,null,null,null,null,null,null,null,null,null,null,null,null,null,null,null,0,null,null,null,null,0,null,null,null,null,{"$f":"Раздел2!C217","v":0},{"$f":"Раздел2!H217","v":0},{"$f":"Раздел2!I217","v":0},{"$f":"Раздел2!J217","v":0},{"$f":"Раздел2!K217","v":0}]
["Сумо","210",0,null,null,null,null,null,null,null,null,null,null,null,null,null,null,null,null,null,null,0,null,null,null,null,0,null,null,null,null,{"$f":"Раздел2!C218","v":0},{"$f":"Раздел2!H218","v":0},{"$f":"Раздел2!I218","v":0},{"$f":"Раздел2!J218","v":0},{"$f":"Раздел2!K218","v":0}]
["Таврели","211",0,null,null,null,null,null,null,null,null,null,null,null,null,null,null,null,null,null,null,0,null,null,null,null,0,null,null,null,null,{"$f":"Раздел2!C219","v":0},{"$f":"Раздел2!H219","v":0},{"$f":"Раздел2!I219","v":0},{"$f":"Раздел2!J219","v":0},{"$f":"Раздел2!K219","v":0}]
["Тайский бокс","212",0,null,null,null,null,null,null,null,null,null,null,null,null,null,null,null,null,null,null,0,null,null,null,null,0,null,null,null,null,{"$f":"Раздел2!C220","v":0},{"$f":"Раздел2!H220","v":0},{"$f":"Раздел2!I220","v":0},{"$f":"Раздел2!J220","v":0},{"$f":"Раздел2!K220","v":0}]
["Танцевальный спорт","213",0,null,null,null,null,null,null,null,null,null,null,null,null,null,null,null,null,null,null,0,null,null,null,null,0,null,null,null,null,{"$f":"Раздел2!C221","v":0},{"$f":"Раздел2!H221","v":0},{"$f":"Раздел2!I221","v":0},{"$f":"Раздел2!J221","v":0},{"$f":"Раздел2!K221","v":0}]
["Теннис","214",0,null,null,null,null,null,null,null,null,null,null,null,null,null,null,null,null,null,null,0,null,null,null,null,0,null,null,null,null,{"$f":"Раздел2!C222","v":0},{"$f":"Раздел2!H222","v":0},{"$f":"Раздел2!I222","v":0},{"$f":"Раздел2!J222","v":0},{"$f":"Раздел2!K222","v":0}]
["Триатлон","215",0,null,null,null,null,null,null,null,null,null,null,null,null,null,null,null,null,null,null,0,null,null,null,null,0,null,null,null,null,{"$f":"Раздел2!C223","v":0},{"$f":"Раздел2!H223","v":0},{"$f":"Раздел2!I223","v":0},{"$f":"Раздел2!J223","v":0},{"$f":"Раздел2!K223","v":0}]
["Тхэквондо (ВТФ)","216",0,null,null,null,null,null,null,null,null,null,null,null,null,null,null,null,null,null,null,0,null,null,null,null,0,null,null,null,null,{"$f":"Раздел2!C224","v":0},{"$f":"Раздел2!H224","v":0},{"$f":"Раздел2!I224","v":0},{"$f":"Раздел2!J224","v":0},{"$f":"Раздел2!K224","v":0}]
["Тхэквондо ГТФ","217",0,null,null,null,null,null,null,null,null,null,null,null,null,null,null,null,null,null,null,0,null,null,null,null,0,null,null,null,null,{"$f":"Раздел2!C225","v":0},{"$f":"Раздел2!H225","v":0},{"$f":"Раздел2!I225","v":0},{"$f":"Раздел2!J225","v":0},{"$f":"Раздел2!K225","v":0}]
["Тхэквондо ИТФ","218",0,null,null,null,null,null,null,null,null,null,null,null,null,null,null,null,null,null,null,0,null,null,null,null,0,null,null,null,null,{"$f":"Раздел2!C226","v":0},{"$f":"Раздел2!H226","v":0},{"$f":"Раздел2!I226","v":0},{"$f":"Раздел2!J226","v":0},{"$f":"Раздел2!K226","v":0}]
["Тхэквондо МФТ","219",0,null,null,null,null,null,null,null,null,null,null,null,null,null,null,null,null,null,null,0,null,null,null,null,0,null,null,null,null,{"$f":"Раздел2!C227","v":0},{"$f":"Раздел2!H227","v":0},{"$f":"Раздел2!I227","v":0},{"$f":"Раздел2!J227","v":0},{"$f":"Раздел2!K227","v":0}]
["Тяжелая атлетика","220",0,null,null,null,null,null,null,null,null,null,null,null,null,null,null,null,null,null,null,0,null,null,null,null,0,null,null,null,null,{"$f":"Раздел2!C228","v":0},{"$f":"Раздел2!H228","v":0},{"$f":"Раздел2!I228","v":0},{"$f":"Раздел2!J228","v":0},{"$f":"Раздел2!K228","v":0}]
["Универсальный бой","221",0,null,null,null,null,null,null,null,null,null,null,null,null,null,null,null,null,null,null,0,null,null,null,null,0,null,null,null,null,{"$f":"Раздел2!C229","v":0},{"$f":"Раздел2!H229","v":0},{"$f":"Раздел2!I229","v":0},{"$f":"Раздел2!J229","v":0},{"$f":"Раздел2!K229","v":0}]
["Ушу","222",0,null,null,null,null,null,null,null,null,null,null,null,null,null,null,null,null,null,null,0,null,null,null,null,0,null,null,null,null,{"$f":"Раздел2!C230","v":0},{"$f":"Раздел2!H230","v":0},{"$f":"Раздел2!I230","v":0},{"$f":"Раздел2!J230","v":0},{"$f":"Раздел2!K230","v":0}]
["Фехтование - всего","223",0,{"$f":"SUM(D231:D234)","v":0},{"$f":"SUM(E231:E234)","v":0},0,0,0,0,0,0,0,0,0,0,0,0,0,0,0,0,0,0,0,0,0,0,0,0,0,0,{"$f":"Раздел2!C231","v":0},{"$f":"Раздел2!H231","v":0},{"$f":"Раздел2!I231","v":0},{"$f":"Раздел2!J231","v":0},{"$f":"Раздел2!K231","v":0}]
["в том числе:\nРапира","224",0,null,null,null,null,null,null,null,null,null,null,null,null,null,null,null,null,null,null,0,null,null,null,null,0,null,null,null,null,{"$f":"Раздел2!C232","v":0},{"$f":"Раздел2!H232","v":0},{"$f":"Раздел2!I232","v":0},{"$f":"Раздел2!J232","v":0},{"$f":"Раздел2!K232","v":0}]
["Сабля","225",0,null,null,null,null,null,null,null,null,null,null,null,null,null,null,null,null,null,null,0,null,null,null,null,0,null,null,null,null,{"$f":"Раздел2!C233","v":0},{"$f":"Раздел2!H233","v":0},{"$f":"Раздел2!I233","v":0},{"$f":"Раздел2!J233","v":0},{"$f":"Раздел2!K233","v":0}]
["Шпага","226",0,null,null,null,null,null,null,null,null,null,null,null,null,null,null,null,null,null,null,0,null,null,null,null,0,null,null,null,null,{"$f":"Раздел2!C234","v":0},{"$f":"Раздел2!H234","v":0},{"$f":"Раздел2!I234","v":0},{"$f":"Раздел2!J234","v":0},{"$f":"Раздел2!K234","v":0}]
["Арт-фехтование","227",0,null,null,null,null,null,null,null,null,null,null,null,null,null,null,null,null,null,null,0,null,null,null,null,0,null,null,null,null,{"$f":"Раздел2!C235","v":0},{"$f":"Раздел2!H235","v":0},{"$f":"Раздел2!I235","v":0},{"$f":"Раздел2!J235","v":0},{"$f":"Раздел2!K235","v":0}]
["Фигурное катание на коньках","228",0,null,null,null,null,null,null,null,null,null,null,null,null,null,null,null,null,null,null,0,null,null,null,null,0,null,null,null,null,{"$f":"Раздел2!C236","v":0},{"$f":"Раздел2!H236","v":0},{"$f":"Раздел2!I236","v":0},{"$f":"Раздел2!J236","v":0},{"$f":"Раздел2!K236","v":0}]
["Фитнес-аэробика","229",28,null,12,null,9,7,null,null,null,null,null,null,null,null,null,null,null,null,null,10,4,6,null,null,18,11,7,null,null,{"$f":"Раздел2!C237","v":1},{"$f":"Раздел2!H237","v":12},{"$f":"Раздел2!I237","v":16},{"$f":"Раздел2!J237","v":0},{"$f":"Раздел2!K237","v":0}]
["Флаинг диск","230",0,null,null,null,null,null,null,null,null,null,null,null,null,null,null,null,null,null,null,0,null,null,null,null,0,null,null,null,null,{"$f":"Раздел2!C238","v":0},{"$f":"Раздел2!H238","v":0},{"$f":"Раздел2!I238","v":0},{"$f":"Раздел2!J238","v":0},{"$f":"Раздел2!K238","v":0}]
["Флорбол","231",0,null,null,null,null,null,null,null,null,null,null,null,null,null,null,null,null,null,null,0,null,null,null,null,0,null,null,null,null,{"$f":"Раздел2!C239","v":0},{"$f":"Раздел2!H239","v":0},{"$f":"Раздел2!I239","v":0},{"$f":"Раздел2!J239","v":0},{"$f":"Раздел2!K239","v":0}]
["Фристайл - всего","232",0,{"$f":"SUM(D240:D245)","v":0},{"$f":"SUM(E240:E245)","v":0},0,0,0,0,0,0,0,0,0,0,0,0,0,0,0,0,0,0,0,0,0,0,0,0,0,0,{"$f":"Раздел2!C240","v":0},{"$f":"Раздел2!H240","v":0},{"$f":"Раздел2!I240","v":0},{"$f":"Раздел2!J240","v":0},{"$f":"Раздел2!K240","v":0}]
["в том числе:\nАкробатика","233",0,null,null,null,null,null,null,null,null,null,null,null,null,null,null,null,null,null,null,0,null,null,null,null,0,null,null,null,null,{"$f":"Раздел2!C241","v":0},{"$f":"Раздел2!H241","v":0},{"$f":"Раздел2!I241","v":0},{"$f":"Раздел2!J241","v":0},{"$f":"Раздел2!K241","v":0}]
["Биг-эйр","234",0,null,null,null,null,null,null,null,null,null,null,null,null,null,null,null,null,null,null,0,null,null,null,null,0,null,null,null,null,{"$f":"Раздел2!C242","v":0},{"$f":"Раздел2!H242","v":0},{"$f":"Раздел2!I242","v":0},{"$f":"Раздел2!J242","v":0},{"$f":"Раздел2!K242","v":0}]
["Могул","235",0,null,null,null,null,null,null,null,null,null,null,null,null,null,null,null,null,null,null,0,null,null,null,null,0,null,null,null,null,{"$f":"Раздел2!C243","v":0},{"$f":"Раздел2!H243","v":0},{"$f":"Раздел2!I243","v":0},{"$f":"Раздел2!J243","v":0},{"$f":"Раздел2!K243","v":0}]
["Ски-кросс","236",0,null,null,null,null,null,null,null,null,null,null,null,null,null,null,null,null,null,null,0,null,null,null,null,0,null,null,null,null,{"$f":"Раздел2!C244","v":0},{"$f":"Раздел2!H244","v":0},{"$f":"Раздел2!I244","v":0},{"$f":"Раздел2!J244","v":0},{"$f":"Раздел2!K244","v":0}]
["Хаф-пайп","237",0,null,null,null,null,null,null,null,null,null,null,null,null,null,null,null,null,null,null,0,null,null,null,null,0,null,null,null,null,{"$f":"Раздел2!C245","v":0},{"$f":"Раздел2!H245","v":0},{"$f":"Раздел2!I245","v":0},{"$f":"Раздел2!J245","v":0},{"$f":"Раздел2!K245","v":0}]
["Слоуп-стайл","238",0,null,null,null,null,null,null,null,null,null,null,null,null,null,null,null,null,null,null,0,null,null,null,null,0,null,null,null,null,{"$f":"Раздел2!C246","v":0},{"$f":"Раздел2!H246","v":0},{"$f":"Раздел2!I246","v":0},{"$f":"Раздел2!J246","v":0},{"$f":"Раздел2!K246","v":0}]
["Функциональное многоборье","239",0,null,null,null,null,null,null,null,null,null,null,null,null,null,null,null,null,null,null,0,null,null,null,null,0,null,null,null,null,{"$f":"Раздел2!C247","v":0},{"$f":"Раздел2!H247","v":0},{"$f":"Раздел2!I247","v":0},{"$f":"Раздел2!J247","v":0},{"$f":"Раздел2!K247","v":0}]
["Футбол - всего","240",107,{"$f":"SUM(D248:D253)","v":31},{"$f":"SUM(E248:E253)","v":14},0,11,10,12,29,0,0,0,0,0,0,0,0,0,0,0,44,37,7,0,0,45,11,34,0,0,{"$f":"Раздел2!C248","v":1},{"$f":"Раздел2!H248","v":45},{"$f":"Раздел2!I248","v":62},{"$f":"Раздел2!J248","v":0},{"$f":"Раздел2!K248","v":0}]
["в том числе:\nФутбол (муж.)","241",0,null,null,null,null,null,null,null,null,null,null,null,null,null,null,null,null,null,null,0,null,null,null,null,0,null,null,null,null,{"$f":"Раздел2!C249","v":0},{"$f":"Раздел2!H249","v":0},{"$f":"Раздел2!I249","v":0},{"$f":"Раздел2!J249","v":0},{"$f":"Раздел2!K249","v":0}]
["Футбол (жен.)","242",0,null,null,null,null,null,null,null,null,null,null,null,null,null,null,null,null,null,null,0,null,null,null,null,0,null,null,null,null,{"$f":"Раздел2!C250","v":0},{"$f":"Раздел2!H250","v":0},{"$f":"Раздел2!I250","v":0},{"$f":"Раздел2!J250","v":0},{"$f":"Раздел2!K250","v":0}]
["Мини-футбол (футзал)","243",107,31,14,null,11,10,12,29,null,null,null,null,null,null,null,null,null,null,null,44,37,7,null,null,45,11,34,null,null,{"$f":"Раздел2!C251","v":1},{"$f":"Раздел2!H251","v":45},{"$f":"Раздел2!I251","v":62},{"$f":"Раздел2!J251","v":0},{"$f":"Раздел2!K251","v":0}]
["Пляжный футбол","244",0,null,null,null,null,null,null,null,null,null,null,null,null,null,null,null,null,null,null,0,null,null,null,null,0,null,null,null,null,{"$f":"Раздел2!C252","v":0},{"$f":"Раздел2!H252","v":0},{"$f":"Раздел2!I252","v":0},{"$f":"Раздел2!J252","v":0},{"$f":"Раздел2!K252","v":0}]
["Футбол 6х6, 7х7, 8х8","245",0,null,null,null,null,null,null,null,null,null,null,null,null,null,null,null,null,null,null,0,null,null,null,null,0,null,null,null,null,{"$f":"Раздел2!C253","v":0},{"$f":"Раздел2!H253","v":0},{"$f":"Раздел2!I253","v":0},{"$f":"Раздел2!J253","v":0},{"$f":"Раздел2!K253","v":0}]
["Интерактивный футбол","246",0,null,null,null,null,null,null,null,null,null,null,null,null,null,null,null,null,null,null,0,null,null,null,null,0,null,null,null,null,{"$f":"Раздел2!C254","v":0},{"$f":"Раздел2!H254","v":0},{"$f":"Раздел2!I254","v":0},{"$f":"Раздел2!J254","v":0},{"$f":"Раздел2!K254","v":0}]
["Футгольф","247",0,null,null,null,null,null,null,null,null,null,null,null,null,null,null,null,null,null,null,0,null,null,null,null,0,null,null,null,null,{"$f":"Раздел2!C255","v":0},{"$f":"Раздел2!H255","v":0},{"$f":"Раздел2!I255","v":0},{"$f":"Раздел2!J255","v":0},{"$f":"Раздел2!K255","v":0}]
["Хапкидо","248",0,null,null,null,null,null,null,null,null,null,null,null,null,null,null,null,null,null,null,0,null,null,null,null,0,null,null,null,null,{"$f":"Раздел2!C256","v":0},{"$f":"Раздел2!H256","v":0},{"$f":"Раздел2!I256","v":0},{"$f":"Раздел2!J256","v":0},{"$f":"Раздел2!K256","v":0}]
["Хапсагай","249",0,null,null,null,null,null,null,null,null,null,null,null,null,null,null,null,null,null,null,0,null,null,null,null,0,null,null,null,null,{"$f":"Раздел2!C257","v":0},{"$f":"Раздел2!H257","v":0},{"$f":"Раздел2!I257","v":0},{"$f":"Раздел2!J257","v":0},{"$f":"Раздел2!K257","v":0}]
["Хоккей - всего","250",0,{"$f":"SUM(D258:D259)","v":0},{"$f":"SUM(E258:E259)","v":0},0,0,0,0,0,0,0,0,0,0,0,0,0,0,0,0,0,0,0,0,0,0,0,0,0,0,{"$f":"Раздел2!C258","v":0},{"$f":"Раздел2!H258","v":0},{"$f":"Раздел2!I258","v":0},{"$f":"Раздел2!J258","v":0},{"$f":"Раздел2!K258","v":0}]
["в том числе:\nХоккей (муж.)","251",0,null,null,null,null,null,null,null,null,null,null,null,null,null,null,null,null,null,null,0,null,null,null,null,0,null,null,null,null,{"$f":"Раздел2!C259","v":0},{"$f":"Раздел2!H259","v":0},{"$f":"Раздел2!I259","v":0},{"$f":"Раздел2!J259","v":0},{"$f":"Раздел2!K259","v":0}]
["Хоккей (жен.)","252",0,null,null,null,null,null,null,null,null,null,null,null,null,null,null,null,null,null,null,0,null,null,null,null,0,null,null,null,null,{"$f":"Раздел2!C260","v":0},{"$f":"Раздел2!H260","v":0},{"$f":"Раздел2!I260","v":0},{"$f":"Раздел2!J260","v":0},{"$f":"Раздел2!K260","v":0}]
["Хоккей на траве - всего","253",0,{"$f":"SUM(D261:D263)","v":0},{"$f":"SUM(E261:E263)","v":0},0,0,0,0,0,0,0,0,0,0,0,0,0,0,0,0,0,0,0,0,0,0,0,0,0,0,{"$f":"Раздел2!C261","v":0},{"$f":"Раздел2!H261","v":0},{"$f":"Раздел2!I261","v":0},{"$f":"Раздел2!J261","v":0},{"$f":"Раздел2!K261","v":0}]
["в том числе:\nХоккей на траве (муж.)","254",0,null,null,null,null,null,null,null,null,null,null,null,null,null,null,null,null,null,null,0,null,null,null,null,0,null,null,null,null,{"$f":"Раздел2!C262","v":0},{"$f":"Раздел2!H262","v":0},{"$f":"Раздел2!I262","v":0},{"$f":"Раздел2!J262","v":0},{"$f":"Раздел2!K262","v":0}]
["Хоккей на траве (жен.)","255",0,null,null,null,null,null,null,null,null,null,null,null,null,null,null,null,null,null,null,0,null,null,null,null,0,null,null,null,null,{"$f":"Раздел2!C263","v":0},{"$f":"Раздел2!H263","v":0},{"$f":"Раздел2!I263","v":0},{"$f":"Раздел2!J263","v":0},{"$f":"Раздел2!K263","v":0}]
["Индорхоккей","256",0,null,null,null,null,null,null,null,null,null,null,null,null,null,null,null,null,null,null,0,null,null,null,null,0,null,null,null,null,{"$f":"Раздел2!C264","v":0},{"$f":"Раздел2!H264","v":0},{"$f":"Раздел2!I264","v":0},{"$f":"Раздел2!J264","v":0},{"$f":"Раздел2!K264","v":0}]
["Хоккей с мячом","257",0,null,null,null,null,null,null,null,null,null,null,null,null,null,null,null,null,null,null,0,null,null,null,null,0,null,null,null,null,{"$f":"Раздел2!C265","v":0},{"$f":"Раздел2!H265","v":0},{"$f":"Раздел2!I265","v":0},{"$f":"Раздел2!J265","v":0},{"$f":"Раздел2!K265","v":0}]
["Художественная гимнастика","258",{"$f":"SUM(D265:U265)","v":0},null,null,null,null,null,null,null,null,null,null,null,null,null,null,null,null,null,null,{"$f":"SUM(W265:Z265)","v":0},null,null,null,null,{"$f":"SUM(AB265:AE265)","v":0},null,null,null,null,{"$f":"Раздел2!C266","v":0},{"$f":"Раздел2!H266","v":0},{"$f":"Раздел2!I266","v":0},{"$f":"Раздел2!J266","v":0},{"$f":"Раздел2!K266","v":0}]
["Хуреш","259",0,null,null,null,null,null,null,null,null,null,null,null,null,null,null,null,null,null,null,0,null,null,null,null,0,null,null,null,null,{"$f":"Раздел2!C267","v":0},{"$f":"Раздел2!H267","v":0},{"$f":"Раздел2!I267","v":0},{"$f":"Раздел2!J267","v":0},{"$f":"Раздел2!K267","v":0}]
["Чир спорт","260",0,null,null,null,null,null,null,null,null,null,null,null,null,null,null,null,null,null,null,0,null,null,null,null,0,null,null,null,null,{"$f":"Раздел2!C268","v":0},{"$f":"Раздел2!H268","v":0},{"$f":"Раздел2!I268","v":0},{"$f":"Раздел2!J268","v":0},{"$f":"Раздел2!K268","v":0}]
["Шахматы","261",0,null,null,null,null,null,null,null,null,null,null,null,null,null,null,null,null,null,null,0,null,null,null,null,0,null,null,null,null,{"$f":"Раздел2!C269","v":0},{"$f":"Раздел2!H269","v":0},{"$f":"Раздел2!I269","v":0},{"$f":"Раздел2!J269","v":0},{"$f":"Раздел2!K269","v":0}]
["Шашки","262",0,null,null,null,null,null,null,null,null,null,null,null,null,null,null,null,null,null,null,0,null,null,null,null,0,null,null,null,null,{"$f":"Раздел2!C270","v":0},{"$f":"Раздел2!H270","v":0},{"$f":"Раздел2!I270","v":0},{"$f":"Раздел2!J270","v":0},{"$f":"Раздел2!K270","v":0}]
["Шодсанлат","263",0,null,null,null,null,null,null,null,null,null,null,null,null,null,null,null,null,null,null,0,null,null,null,null,0,null,null,null,null,{"$f":"Раздел2!C271","v":0},{"$f":"Раздел2!H271","v":0},{"$f":"Раздел2!I271","v":0},{"$f":"Раздел2!J271","v":0},{"$f":"Раздел2!K271","v":0}]
["Эстетическая гимнастика","264",0,null,null,null,null,null,null,null,null,null,null,null,null,null,null,null,null,null,null,0,null,null,null,null,0,null,null,null,null,{"$f":"Раздел2!C272","v":0},{"$f":"Раздел2!H272","v":0},{"$f":"Раздел2!I272","v":0},{"$f":"Раздел2!J272","v":0},{"$f":"Раздел2!K272","v":0}]
["Якутские национальные прыжки","265",0,null,null,null,null,null,null,null,null,null,null,null,null,null,null,null,null,null,null,0,null,null,null,null,0,null,null,null,null,{"$f":"Раздел2!C273","v":0},{"$f":"Раздел2!H273","v":0},{"$f":"Раздел2!I273","v":0},{"$f":"Раздел2!J273","v":0},{"$f":"Раздел2!K273","v":0}]
["ИТОГО","266",375,{"$f":"SUM(D8:D20,D24:D27,D30:D35,D46:D51,D56:D58,D40:D43,D62:D72,D77:D86,D90:D96,D99:D104,D112:D117,D118:D126,D129:D134,D137,D142:D143,D149:D152,D158:D164,D165:D179,D180:D192,D198:D205,D210:D212,D216:D220,D221:D230,D235:D239,D246:D247,D254:D257,D260,D264:D272)","v":125},{"$f":"SUM(E8:E20,E24:E27,E30:E35,E46:E51,E56:E58,E40:E43,E62:E72,E77:E86,E90:E96,E99:E104,E112:E117,E118:E126,E129:E134,E137,E142:E143,E149:E152,E158:E164,E165:E179,E180:E192,E198:E205,E210:E212,E216:E220,E221:E230,E235:E239,E246:E247,E254:E257,E260,E264:E272)","v":50},{"$f":"SUM(F8:F20,F24:F27,F30:F35,F46:F51,F56:F58,F40:F43,F62:F72,F77:F86,F90:F96,F99:F104,F112:F117,F118:F126,F129:F134,F137,F142:F143,F149:F152,F158:F164,F165:F179,F180:F192,F198:F205,F210:F212,F216:F220,F221:F230,F235:F239,F246:F247,F254:F257,F260,F264:F272)","v":26},47,36,21,{"$f":"SUM(J8:J20,J24:J27,J30:J35,J46:J51,J56:J58,J40:J43,J62:J72,J77:J86,J90:J96,J99:J104,J112:J117,J118:J126,J129:J134,J137,J142:J143,J149:J152,J158:J164,J165:J179,J180:J192,J198:J205,J210:J212,J216:J220,J221:J230,J235:J239,J246:J247,J254:J257,J260,J264:J272)","v":57},9,4,0,0,0,0,0,0,0,0,0,176,146,28,2,0,139,59,80,0,0,{"$f":"Раздел2!C274","v":8},{"$f":"Раздел2!H274","v":201},{"$f":"Раздел2!I274","v":170},{"$f":"Раздел2!J274","v":4},{"$f":"Раздел2!K274","v":0}]

{"sheet":"Раздел4","index":4,"n_rows":13,"n_cols":22,"rows_kept":13,"cut":false,"hidden":false,"merged":[[4,8,5,8],[0,0,0,19],[2,0,5,0],[2,1,5,1],[2,2,5,2],[2,3,2,15],[2,16,2,20],[3,3,3,15],[3,16,3,18],[3,19,5,19],[3,20,5,20],[4,3,5,3],[4,4,5,4],[4,5,5,5],[4,6,5,6],[4,7,5,7],[4,15,5,15],[4,16,5,16],[4,17,5,17],[4,18,5,18],[4,9,5,9],[4,10,5,10],[4,11,5,11],[4,12,5,12],[4,13,5,13],[4,14,5,14]]}
["Раздел IV. Численность занимающихся спортивной подготовкой в возрасте 5 -17 лет"]
[null,null,null,null,null,null,null,null,null,null,null,null,null,null,null,null,null,null,null,"Код по ОКЕИ: человек - 792"]
["Наименование показателя","№ строки","Всего","Возрастной состав занимающихся (число полных лет по состоянию на 31 декабря отчетного года)",null,null,null,null,null,null,null,null,null,null,null,null,"Распределение численности занимающихся по источникам финансирования (из гр. 7-11 раздела II)"]
[null,null,null,"(из гр. 7-11 раздела II)",null,null,null,null,null,null,null,null,null,null,null,null,"За счет бюджетных ассигнований:",null,null,"По договорам об оказании платных услуг","Из иных внебюджетных источников"]
[null,null,null,5,6,7,8,9,10,11,12,13,14,15,16,17,"федерального бюджета","бюджета субъекта РФ","местного бюджета"]
[]
[1,2,3,4,5,6,7,8,9,10,11,12,13,14,15,16,17,18,19,20,21]
["Численность занимающихся спортивной подготовкой в возрасте  5 - 17 лет","01",{"$f":"SUM(D8:P8)","v":642},{"$f":"SUM(D9:D13)","v":0},{"$f":"SUM(E9:E13)","v":8},41,47,75,54,70,70,49,81,58,51,38,0,0,642,0,0,{"$f":"Раздел2!M274","v":642}]
["в том числе: \nспортивно-оздоровительный","02",{"$f":"SUM(D9:P9)","v":274},null,8,35,27,22,8,38,27,18,22,20,26,23,null,null,274,null,null,{"$f":"Раздел2!G274","v":278}]
["начальной подготовки","03",201,null,null,6,20,53,34,22,28,5,17,9,1,6,null,null,201,null,null,{"$f":"Раздел2!H274","v":201}]
["тренировочный ","04",164,null,null,null,null,null,12,10,15,26,42,29,23,7,null,null,164,null,null,{"$f":"Раздел2!I274","v":170}]
["совершенствования спортивного мастерства","05",3,null,null,null,null,null,null,null,null,null,null,null,1,2,null,null,3,null,null,{"$f":"Раздел2!J274","v":4}]
["высшего спортивного мастерства","06",0,null,null,null,null,null,null,null,null,null,null,null,null,null,null,null,null,null,null,{"$f":"Раздел2!K274","v":0}]

{"sheet":"Раздел5","index":5,"n_rows":273,"n_cols":25,"rows_kept":273,"cut":false,"hidden":false,"merged":[[2,2,2,10],[2,1,5,1],[0,0,0,22],[1,14,1,22],[2,0,5,0],[2,11,2,22],[3,2,5,2],[3,3,3,6],[3,7,3,10],[3,11,3,14],[3,15,3,18],[3,19,3,22],[4,3,5,3],[4,4,4,6],[4,7,5,7],[4,8,4,10],[4,20,4,22],[4,11,5,11],[4,12,4,14],[4,15,5,15],[4,16,4,18],[4,19,5,19]]}
["Раздел V. Спортивные разряды, спортивные звания"]
[null,null,null,null,null,null,null,null,null,null,null,null,null,null,"Код по ОКЕИ: человек – 792, единица – 642        \n"]
["Виды спорта","№ строки","Из числа занимающихся (гр. 6 раздела II)\nспортсменов, имеющих разряды, звания, человек",null,null,null,null,null,null,null,null,"Разряды, звания, присвоенные и подтвержденные в отчетном году, единица"]
[null,null,"Всего","спортивные разряды",null,null,null,"спортивные звания",null,null,null,"спортивные разряды присвоенные",null,null,null,"спортивные разряды подтвержденные",null,null,null,"спортивные звания присвоенные"]
[null,null,null,"Всего","в том числе:",null,null,"Всего","в том числе:",null,null,"Всего","в том числе:",null,null,"Всего","в том числе:",null,null,"Всего","в том числе:"]
[null,null,null,null,"КМС","1 разряд","другие разряды",null,"ЗМС","МСМК","МС",null,"КМС","1 разряд","другие разряды",null,"КМС","1 разряд","другие разряды",null,"ЗМС","МСМК","МС"]
[1,2,3,4,5,6,7,8,9,10,11,12,13,14,15,16,17,18,19,20,21,22,23,"р2"]
["Авиамодельный спорт","01",{"$f":"SUM(D8,H8)","v":0},{"$f":"SUM(E8:G8)","v":0},null,null,null,{"$f":"SUM(I8:K8)","v":0},null,null,null,{"$f":"SUM(M8:O8)","v":0},null,null,null,{"$f":"SUM(Q8:S8)","v":0},null,null,null,{"$f":"SUM(U8:W8)","v":0},null,null,null,{"$f":"Раздел2!C9","v":0},{"$f":"Раздел2!F9","v":0}]
["Автомобильный спорт","02",{"$f":"SUM(D9,H9)","v":0},{"$f":"SUM(E9:G9)","v":0},null,null,null,{"$f":"SUM(I9:K9)","v":0},null,null,null,{"$f":"SUM(M9:O9)","v":0},null,null,null,{"$f":"SUM(Q9:S9)","v":0},null,null,null,{"$f":"SUM(U9:W9)","v":0},null,null,null,{"$f":"Раздел2!C10","v":0},{"$f":"Раздел2!F10","v":0}]
["Автомодельный спорт","03",0,0,null,null,null,0,null,null,null,0,null,null,null,0,null,null,null,0,null,null,null,{"$f":"Раздел2!C11","v":0},{"$f":"Раздел2!F11","v":0}]
["Айкидо","04",0,0,null,null,null,0,null,null,null,0,null,null,null,0,null,null,null,0,null,null,null,{"$f":"Раздел2!C12","v":1},{"$f":"Раздел2!F12","v":30}]
["Айсшток","05",0,0,null,null,null,0,null,null,null,0,null,null,null,0,null,null,null,0,null,null,null,{"$f":"Раздел2!C13","v":0},{"$f":"Раздел2!F13","v":0}]
["Акробатический рок-н-ролл","06",0,0,null,null,null,0,null,null,null,0,null,null,null,0,null,null,null,0,null,null,null,{"$f":"Раздел2!C14","v":0},{"$f":"Раздел2!F14","v":0}]
["Альпинизм","07",0,0,null,null,null,0,null,null,null,0,null,null,null,0,null,null,null,0,null,null,null,{"$f":"Раздел2!C15","v":0},{"$f":"Раздел2!F15","v":0}]
["Американский футбол","08",0,0,null,null,null,0,null,null,null,0,null,null,null,0,null,null,null,0,null,null,null,{"$f":"Раздел2!C16","v":0},{"$f":"Раздел2!F16","v":0}]
["Армейский рукопашный бой","09",0,0,null,null,null,0,null,null,null,0,null,null,null,0,null,null,null,0,null,null,null,{"$f":"Раздел2!C17","v":0},{"$f":"Раздел2!F17","v":0}]
["Армейское тактико-стрелковое многоборье","10",0,0,null,null,null,0,null,null,null,0,null,null,null,0,null,null,null,0,null,null,null,{"$f":"Раздел2!C18","v":0},{"$f":"Раздел2!F18","v":0}]
["Армрестлинг","11",0,0,null,null,null,0,null,null,null,0,null,null,null,0,null,null,null,0,null,null,null,{"$f":"Раздел2!C19","v":0},{"$f":"Раздел2!F19","v":0}]
["Бадминтон","12",0,0,null,null,null,0,null,null,null,0,null,null,null,0,null,null,null,0,null,null,null,{"$f":"Раздел2!C20","v":0},{"$f":"Раздел2!F20","v":0}]
["Баскетбол - всего","13",0,0,{"$f":"SUM(E21:E23)","v":0},{"$f":"SUM(F21:F23)","v":0},0,0,0,0,0,0,0,0,0,0,0,0,0,0,0,0,{"$f":"SUM(W21:W23)","v":0},{"$f":"Раздел2!C21","v":1},{"$f":"Раздел2!F21","v":20}]
["в том числе:\nБаскетбол (муж.)","14",0,0,null,null,null,0,null,null,null,0,null,null,null,0,null,null,null,0,null,null,null,{"$f":"Раздел2!C22","v":1},{"$f":"Раздел2!F22","v":10}]
["Баскетбол (жен.)","15",0,0,null,null,null,0,null,null,null,0,null,null,null,0,null,null,null,0,null,null,null,{"$f":"Раздел2!C23","v":1},{"$f":"Раздел2!F23","v":10}]
["Баскетбол 3х3","16",0,0,null,null,null,0,null,null,null,0,null,null,null,0,null,null,null,0,null,null,null,{"$f":"Раздел2!C24","v":0},{"$f":"Раздел2!F24","v":0}]
["Бейсбол","17",0,0,null,null,null,0,null,null,null,0,null,null,null,0,null,null,null,0,null,null,null,{"$f":"Раздел2!C25","v":0},{"$f":"Раздел2!F25","v":0}]
["Биатлон","18",0,0,null,null,null,0,null,null,null,0,null,null,null,0,null,null,null,0,null,null,null,{"$f":"Раздел2!C26","v":0},{"$f":"Раздел2!F26","v":0}]
["Бильярдный спорт","19",0,0,null,null,null,0,null,null,null,0,null,null,null,0,null,null,null,0,null,null,null,{"$f":"Раздел2!C27","v":0},{"$f":"Раздел2!F27","v":0}]
["Бобслей - всего","20",0,0,{"$f":"SUM(E28:E29)","v":0},{"$f":"SUM(F28:F29)","v":0},0,0,0,0,0,0,0,0,0,0,0,0,0,0,0,0,0,{"$f":"Раздел2!C28","v":0},{"$f":"Раздел2!F28","v":0}]
["в том числе:\nБобслей","21",0,0,null,null,null,0,null,null,null,0,null,null,null,0,null,null,null,0,null,null,null,{"$f":"Раздел2!C29","v":0},{"$f":"Раздел2!F29","v":0}]
["Скелетон","22",0,0,null,null,null,0,null,null,null,0,null,null,null,0,null,null,null,0,null,null,null,{"$f":"Раздел2!C30","v":0},{"$f":"Раздел2!F30","v":0}]
["Бодибилдинг","23",0,0,null,null,null,0,null,null,null,0,null,null,null,0,null,null,null,0,null,null,null,{"$f":"Раздел2!C31","v":0},{"$f":"Раздел2!F31","v":0}]
["Бокс","24",0,0,null,null,null,0,null,null,null,0,null,null,null,0,null,null,null,0,null,null,null,{"$f":"Раздел2!C32","v":0},{"$f":"Раздел2!F32","v":0}]
["Борьба на поясах","25",0,0,null,null,null,0,null,null,null,0,null,null,null,0,null,null,null,0,null,null,null,{"$f":"Раздел2!C33","v":0},{"$f":"Раздел2!F33","v":0}]
["Боулинг","26",0,0,null,null,null,0,null,null,null,0,null,null,null,0,null,null,null,0,null,null,null,{"$f":"Раздел2!C34","v":0},{"$f":"Раздел2!F34","v":0}]
["Боулспорт","27",0,0,null,null,null,0,null,null,null,0,null,null,null,0,null,null,null,0,null,null,null,{"$f":"Раздел2!C35","v":0},{"$f":"Раздел2!F35","v":0}]
["Велосипедный спорт - всего","28",0,0,{"$f":"SUM(E36:E39)","v":0},{"$f":"SUM(F36:F39)","v":0},0,0,0,0,0,0,0,0,0,0,0,0,0,0,0,0,0,{"$f":"Раздел2!C36","v":0},{"$f":"Раздел2!F36","v":0}]
["в том числе:\nBMX","29",0,0,null,null,null,0,null,null,null,0,null,null,null,0,null,null,null,0,null,null,null,{"$f":"Раздел2!C37","v":0},{"$f":"Раздел2!F37","v":0}]
["Маунтинбайк","30",0,0,null,null,null,0,null,null,null,0,null,null,null,0,null,null,null,0,null,null,null,{"$f":"Раздел2!C38","v":0},{"$f":"Раздел2!F38","v":0}]
["Трек","31",0,0,null,null,null,0,null,null,null,0,null,null,null,0,null,null,null,0,null,null,null,{"$f":"Раздел2!C39","v":0},{"$f":"Раздел2!F39","v":0}]
["Шоссе","32",0,0,null,null,null,0,null,null,null,0,null,null,null,0,null,null,null,0,null,null,null,{"$f":"Раздел2!C40","v":0},{"$f":"Раздел2!F40","v":0}]
["Вертолетный спорт","33",0,0,null,null,null,0,null,null,null,0,null,null,null,0,null,null,null,0,null,null,null,{"$f":"Раздел2!C41","v":0},{"$f":"Раздел2!F41","v":0}]
["Водно-моторный спорт","34",0,0,null,null,null,0,null,null,null,0,null,null,null,0,null,null,null,0,null,null,null,{"$f":"Раздел2!C42","v":0},{"$f":"Раздел2!F42","v":0}]
["Водно-спасательное многоборье","35",0,0,null,null,null,0,null,null,null,0,null,null,null,0,null,null,null,0,null,null,null,{"$f":"Раздел2!C43","v":0},{"$f":"Раздел2!F43","v":0}]
["Водное поло - всего ","36",0,0,{"$f":"SUM(E44:E45)","v":0},{"$f":"SUM(F44:F45)","v":0},0,0,0,0,0,0,0,0,0,0,0,0,0,0,0,0,0,{"$f":"Раздел2!C44","v":0},{"$f":"Раздел2!F44","v":0}]
["в том числе:\nВодное поло (муж.)","37",0,0,null,null,null,0,null,null,null,0,null,null,null,0,null,null,null,0,null,null,null,{"$f":"Раздел2!C45","v":0},{"$f":"Раздел2!F45","v":0}]
["Водное поло (жен.)","38",0,0,null,null,null,0,null,null,null,0,null,null,null,0,null,null,null,0,null,null,null,{"$f":"Раздел2!C46","v":0},{"$f":"Раздел2!F46","v":0}]
["Воднолыжный спорт","39",0,0,null,null,null,0,null,null,null,0,null,null,null,0,null,null,null,0,null,null,null,{"$f":"Раздел2!C47","v":0},{"$f":"Раздел2!F47","v":0}]
["Военно-прикладной спорт","40",0,0,null,null,null,0,null,null,null,0,null,null,null,0,null,null,null,0,null,null,null,{"$f":"Раздел2!C48","v":0},{"$f":"Раздел2!F48","v":0}]
["Военно-спортивное многоборье","41",0,0,null,null,null,0,null,null,null,0,null,null,null,0,null,null,null,0,null,null,null,{"$f":"Раздел2!C49","v":0},{"$f":"Раздел2!F49","v":0}]
["Воздухоплавательный спорт","42",0,0,null,null,null,0,null,null,null,0,null,null,null,0,null,null,null,0,null,null,null,{"$f":"Раздел2!C50","v":0},{"$f":"Раздел2!F50","v":0}]
["Воздушно-силовая атлетика","43",0,0,null,null,null,0,null,null,null,0,null,null,null,0,null,null,null,0,null,null,null,{"$f":"Раздел2!C51","v":0},{"$f":"Раздел2!F51","v":0}]
["Волейбол - всего","44",19,19,{"$f":"SUM(E52:E55)","v":0},{"$f":"SUM(F52:F55)","v":0},19,0,0,0,0,24,0,0,24,0,0,0,0,0,0,0,0,{"$f":"Раздел2!C52","v":1},{"$f":"Раздел2!F52","v":101}]
["в том числе:\nВолейбол (муж.)","45",10,10,null,null,10,0,null,null,null,10,null,null,10,0,null,null,null,0,null,null,null,{"$f":"Раздел2!C53","v":1},{"$f":"Раздел2!F53","v":59}]
["Волейбол (жен.)","46",9,9,null,null,9,0,null,null,null,14,null,null,14,0,null,null,null,0,null,null,null,{"$f":"Раздел2!C54","v":1},{"$f":"Раздел2!F54","v":42}]
["Пляжный волейбол (муж.)","47",0,0,null,null,null,0,null,null,null,0,null,null,null,0,null,null,null,0,null,null,null,{"$f":"Раздел2!C55","v":0},{"$f":"Раздел2!F55","v":0}]
["Пляжный волейбол (жен.)","48",0,0,null,null,null,0,null,null,null,0,null,null,null,0,null,null,null,0,null,null,null,{"$f":"Раздел2!C56","v":0},{"$f":"Раздел2!F56","v":0}]
["Восточное боевое единоборство","49",0,0,null,null,null,0,null,null,null,0,null,null,null,0,null,null,null,0,null,null,null,{"$f":"Раздел2!C57","v":0},{"$f":"Раздел2!F57","v":0}]
["Всестилевое каратэ","50",0,0,null,null,null,0,null,null,null,0,null,null,null,0,null,null,null,0,null,null,null,{"$f":"Раздел2!C58","v":0},{"$f":"Раздел2!F58","v":0}]
["Гандбол - всего","51",0,0,{"$f":"SUM(E59:E61)","v":0},{"$f":"SUM(F59:F61)","v":0},0,0,0,0,0,0,0,0,0,0,0,0,0,0,0,0,0,{"$f":"Раздел2!C59","v":0},{"$f":"Раздел2!F59","v":0}]
["в том числе:\nГандбол (муж.)","52",0,0,null,null,null,0,null,null,null,0,null,null,null,0,null,null,null,0,null,null,null,{"$f":"Раздел2!C60","v":0},{"$f":"Раздел2!F60","v":0}]
["Гандбол (жен.)","53",0,0,null,null,null,0,null,null,null,0,null,null,null,0,null,null,null,0,null,null,null,{"$f":"Раздел2!C61","v":0},{"$f":"Раздел2!F61","v":0}]
["Пляжный гандбол","54",0,0,null,null,null,0,null,null,null,0,null,null,null,0,null,null,null,0,null,null,null,{"$f":"Раздел2!C62","v":0},{"$f":"Раздел2!F62","v":0}]
["Гиревой спорт","55",0,0,null,null,null,0,null,null,null,0,null,null,null,0,null,null,null,0,null,null,null,{"$f":"Раздел2!C63","v":0},{"$f":"Раздел2!F63","v":0}]
["Го","56",0,0,null,null,null,0,null,null,null,0,null,null,null,0,null,null,null,0,null,null,null,{"$f":"Раздел2!C64","v":0},{"$f":"Раздел2!F64","v":0}]
["Гольф","57",0,0,null,null,null,0,null,null,null,0,null,null,null,0,null,null,null,0,null,null,null,{"$f":"Раздел2!C65","v":0},{"$f":"Раздел2!F65","v":0}]
["Гонки на охотничьих лыжах","58",0,0,null,null,null,0,null,null,null,0,null,null,null,0,null,null,null,0,null,null,null,{"$f":"Раздел2!C66","v":0},{"$f":"Раздел2!F66","v":0}]
["Гонки с препятствиями","59",0,0,null,null,null,0,null,null,null,0,null,null,null,0,null,null,null,0,null,null,null,{"$f":"Раздел2!C67","v":0},{"$f":"Раздел2!F67","v":0}]
["Горнолыжный спорт","60",0,0,null,null,null,0,null,null,null,0,null,null,null,0,null,null,null,0,null,null,null,{"$f":"Раздел2!C68","v":0},{"$f":"Раздел2!F68","v":0}]
["Городошный спорт","61",0,0,null,null,null,0,null,null,null,0,null,null,null,0,null,null,null,0,null,null,null,{"$f":"Раздел2!C69","v":0},{"$f":"Раздел2!F69","v":0}]
["Гребля на байдарках и каноэ","62",0,0,null,null,null,0,null,null,null,0,null,null,null,0,null,null,null,0,null,null,null,{"$f":"Раздел2!C70","v":0},{"$f":"Раздел2!F70","v":0}]
["Гребля на шлюпках","63",0,0,null,null,null,0,null,null,null,0,null,null,null,0,null,null,null,0,null,null,null,{"$f":"Раздел2!C71","v":0},{"$f":"Раздел2!F71","v":0}]
["Гребной слалом","64",0,0,null,null,null,0,null,null,null,0,null,null,null,0,null,null,null,0,null,null,null,{"$f":"Раздел2!C72","v":0},{"$f":"Раздел2!F72","v":0}]
["Гребной спорт - всего","65",0,0,{"$f":"SUM(E73:E76)","v":0},{"$f":"SUM(F73:F76)","v":0},0,0,0,0,0,0,0,0,0,0,0,0,0,0,0,0,0,{"$f":"Раздел2!C73","v":0},{"$f":"Раздел2!F73","v":0}]
["в том числе:\nАкадемическая гребля","66",{"$f":"SUM(D73,H73)","v":0},{"$f":"SUM(E73:G73)","v":0},null,null,null,{"$f":"SUM(I73:K73)","v":0},null,null,null,{"$f":"SUM(M73:O73)","v":0},null,null,null,{"$f":"SUM(Q73:S73)","v":0},null,null,null,{"$f":"SUM(U73:W73)","v":0},null,null,null,{"$f":"Раздел2!C74","v":0},{"$f":"Раздел2!F74","v":0}]
["Гребля-индор","67",0,0,null,null,null,0,null,null,null,0,null,null,null,0,null,null,null,0,null,null,null,{"$f":"Раздел2!C75","v":0},{"$f":"Раздел2!F75","v":0}]
["Народная гребля","68",0,0,null,null,null,0,null,null,null,0,null,null,null,0,null,null,null,0,null,null,null,{"$f":"Раздел2!C76","v":0},{"$f":"Раздел2!F76","v":0}]
["Прибрежная гребля","69",0,0,null,null,null,0,null,null,null,0,null,null,null,0,null,null,null,0,null,null,null,{"$f":"Раздел2!C77","v":0},{"$f":"Раздел2!F77","v":0}]
["Гребно-парусное двоеборье","70",0,0,null,null,null,0,null,null,null,0,null,null,null,0,null,null,null,0,null,null,null,{"$f":"Раздел2!C78","v":0},{"$f":"Раздел2!F78","v":0}]
["Дартс","71",0,0,null,null,null,0,null,null,null,0,null,null,null,0,null,null,null,0,null,null,null,{"$f":"Раздел2!C79","v":0},{"$f":"Раздел2!F79","v":0}]
["Джиу-джитсу","72",0,0,null,null,null,0,null,null,null,0,null,null,null,0,null,null,null,0,null,null,null,{"$f":"Раздел2!C80","v":0},{"$f":"Раздел2!F80","v":0}]
["Дзюдо","73",0,0,null,null,null,0,null,null,null,0,null,null,null,0,null,null,null,0,null,null,null,{"$f":"Раздел2!C81","v":0},{"$f":"Раздел2!F81","v":0}]
["Ездовой спорт","74",0,0,null,null,null,0,null,null,null,0,null,null,null,0,null,null,null,0,null,null,null,{"$f":"Раздел2!C82","v":0},{"$f":"Раздел2!F82","v":0}]
["Капоэйра","75",0,0,null,null,null,0,null,null,null,0,null,null,null,0,null,null,null,0,null,null,null,{"$f":"Раздел2!C83","v":0},{"$f":"Раздел2!F83","v":0}]
["Каратэ","76",0,0,null,null,null,0,null,null,null,0,null,null,null,0,null,null,null,0,null,null,null,{"$f":"Раздел2!C84","v":0},{"$f":"Раздел2!F84","v":0}]
["Кендо","77",0,0,null,null,null,0,null,null,null,0,null,null,null,0,null,null,null,0,null,null,null,{"$f":"Раздел2!C85","v":0},{"$f":"Раздел2!F85","v":0}]
["Керешу","78",0,0,null,null,null,0,null,null,null,0,null,null,null,0,null,null,null,0,null,null,null,{"$f":"Раздел2!C86","v":0},{"$f":"Раздел2!F86","v":0}]
["Кёрлинг - всего","79",0,0,{"$f":"SUM(E87:E89)","v":0},{"$f":"SUM(F87:F89)","v":0},0,0,0,0,0,0,0,0,0,0,0,0,0,0,0,0,0,{"$f":"Раздел2!C87","v":0},{"$f":"Раздел2!F87","v":0}]
["в том числе:\nКерлинг (муж.)","80",0,0,null,null,null,0,null,null,null,0,null,null,null,0,null,null,null,0,null,null,null,{"$f":"Раздел2!C88","v":0},{"$f":"Раздел2!F88","v":0}]
["Керлинг (жен.)","81",0,0,null,null,null,0,null,null,null,0,null,null,null,0,null,null,null,0,null,null,null,{"$f":"Раздел2!C89","v":0},{"$f":"Раздел2!F89","v":0}]
["Кёрлинг – смешанные пары","82",0,0,null,null,null,0,null,null,null,0,null,null,null,0,null,null,null,0,null,null,null,{"$f":"Раздел2!C90","v":0},{"$f":"Раздел2!F90","v":0}]
["Кикбоксинг","83",0,0,null,null,null,0,null,null,null,0,null,null,null,0,null,null,null,0,null,null,null,{"$f":"Раздел2!C91","v":0},{"$f":"Раздел2!F91","v":0}]
["Кинологический спорт","84",0,0,null,null,null,0,null,null,null,0,null,null,null,0,null,null,null,0,null,null,null,{"$f":"Раздел2!C92","v":0},{"$f":"Раздел2!F92","v":0}]
["Киокусинкай","85",0,0,null,null,null,0,null,null,null,0,null,null,null,0,null,null,null,0,null,null,null,{"$f":"Раздел2!C93","v":0},{"$f":"Раздел2!F93","v":0}]
["Комплексное единоборство","86",0,0,null,null,null,0,null,null,null,0,null,null,null,0,null,null,null,0,null,null,null,{"$f":"Раздел2!C94","v":0},{"$f":"Раздел2!F94","v":0}]
["Компьютерный спорт","87",0,0,null,null,null,0,null,null,null,0,null,null,null,0,null,null,null,0,null,null,null,{"$f":"Раздел2!C95","v":0},{"$f":"Раздел2!F95","v":0}]
["Конный спорт","88",0,0,null,null,null,0,null,null,null,0,null,null,null,0,null,null,null,0,null,null,null,{"$f":"Раздел2!C96","v":0},{"$f":"Раздел2!F96","v":0}]
["Конькобежный спорт - всего","89",0,0,{"$f":"SUM(E97:E98)","v":0},{"$f":"SUM(F97:F98)","v":0},0,0,0,0,0,0,0,0,0,0,0,0,0,0,0,0,0,{"$f":"Раздел2!C97","v":0},{"$f":"Раздел2!F97","v":0}]
["в том числе:\nКонькобежный спорт","90",0,0,null,null,null,0,null,null,null,0,null,null,null,0,null,null,null,0,null,null,null,{"$f":"Раздел2!C98","v":0},{"$f":"Раздел2!F98","v":0}]
["Шорт-трек","91",0,0,null,null,null,0,null,null,null,0,null,null,null,0,null,null,null,0,null,null,null,{"$f":"Раздел2!C99","v":0},{"$f":"Раздел2!F99","v":0}]
["Корэш","92",0,0,null,null,null,0,null,null,null,0,null,null,null,0,null,null,null,0,null,null,null,{"$f":"Раздел2!C100","v":0},{"$f":"Раздел2!F100","v":0}]
["Корфбол","93",0,0,null,null,null,0,null,null,null,0,null,null,null,0,null,null,null,0,null,null,null,{"$f":"Раздел2!C101","v":0},{"$f":"Раздел2!F101","v":0}]
["Крикет","94",0,0,null,null,null,0,null,null,null,0,null,null,null,0,null,null,null,0,null,null,null,{"$f":"Раздел2!C102","v":0},{"$f":"Раздел2!F102","v":0}]
["Кудо","95",0,0,null,null,null,0,null,null,null,0,null,null,null,0,null,null,null,0,null,null,null,{"$f":"Раздел2!C103","v":0},{"$f":"Раздел2!F103","v":0}]
["Лапта","96",0,0,null,null,null,0,null,null,null,0,null,null,null,0,null,null,null,0,null,null,null,{"$f":"Раздел2!C104","v":0},{"$f":"Раздел2!F104","v":0}]
["Легкая атлетика - всего","97",0,0,{"$f":"SUM(E105:E111)","v":0},{"$f":"SUM(F105:F111)","v":0},0,0,0,0,0,0,0,0,0,0,0,0,0,0,0,0,{"$f":"SUM(W105:W111)","v":0},{"$f":"Раздел2!C105","v":0},{"$f":"Раздел2!F105","v":0}]
["в том числе:\nСпринтерский и барьерный бег","98",0,0,null,null,null,0,null,null,null,0,null,null,null,0,null,null,null,0,null,null,null,{"$f":"Раздел2!C106","v":0},{"$f":"Раздел2!F106","v":0}]
["Бег на средние дистанции и бег с препятствиями","99",0,0,null,null,null,0,null,null,null,0,null,null,null,0,null,null,null,0,null,null,null,{"$f":"Раздел2!C107","v":0},{"$f":"Раздел2!F107","v":0}]
["Бег на длинные и сверхдлинные дистанции","100",0,0,null,null,null,0,null,null,null,0,null,null,null,0,null,null,null,0,null,null,null,{"$f":"Раздел2!C108","v":0},{"$f":"Раздел2!F108","v":0}]
["Многоборья","101",0,0,null,null,null,0,null,null,null,0,null,null,null,0,null,null,null,0,null,null,null,{"$f":"Раздел2!C109","v":0},{"$f":"Раздел2!F109","v":0}]
["Прыжки","102",0,0,null,null,null,0,null,null,null,0,null,null,null,0,null,null,null,0,null,null,null,{"$f":"Раздел2!C110","v":0},{"$f":"Раздел2!F110","v":0}]
["Метания","103",0,0,null,null,null,0,null,null,null,0,null,null,null,0,null,null,null,0,null,null,null,{"$f":"Раздел2!C111","v":0},{"$f":"Раздел2!F111","v":0}]
["Спортивная ходьба","104",0,0,null,null,null,0,null,null,null,0,null,null,null,0,null,null,null,0,null,null,null,{"$f":"Раздел2!C112","v":0},{"$f":"Раздел2!F112","v":0}]
["Лыжное двоеборье","105",0,0,null,null,null,0,null,null,null,0,null,null,null,0,null,null,null,0,null,null,null,{"$f":"Раздел2!C113","v":0},{"$f":"Раздел2!F113","v":0}]
["Лыжные гонки","106",42,42,null,11,31,0,null,null,null,41,null,11,30,10,null,null,10,0,null,null,null,{"$f":"Раздел2!C114","v":1},{"$f":"Раздел2!F114","v":106}]
["Мас-рестлинг","107",0,0,null,null,null,0,null,null,null,0,null,null,null,0,null,null,null,0,null,null,null,{"$f":"Раздел2!C115","v":0},{"$f":"Раздел2!F115","v":0}]
["Международное военно-спортивное многоборье","108",0,0,null,null,null,0,null,null,null,0,null,null,null,0,null,null,null,0,null,null,null,{"$f":"Раздел2!C116","v":0},{"$f":"Раздел2!F116","v":0}]
["Многоборье кинологов","109",0,0,null,null,null,0,null,null,null,0,null,null,null,0,null,null,null,0,null,null,null,{"$f":"Раздел2!C117","v":0},{"$f":"Раздел2!F117","v":0}]
["Многоборье спасателей МЧС России","110",0,0,null,null,null,0,null,null,null,0,null,null,null,0,null,null,null,0,null,null,null,{"$f":"Раздел2!C118","v":0},{"$f":"Раздел2!F118","v":0}]
["Морское многоборье","111",0,0,null,null,null,0,null,null,null,0,null,null,null,0,null,null,null,0,null,null,null,{"$f":"Раздел2!C119","v":0},{"$f":"Раздел2!F119","v":0}]
["Мотоциклетный спорт","112",0,0,null,null,null,0,null,null,null,0,null,null,null,0,null,null,null,0,null,null,null,{"$f":"Раздел2!C120","v":0},{"$f":"Раздел2!F120","v":0}]
["Настольный теннис","113",0,0,null,null,null,0,null,null,null,0,null,null,null,0,null,null,null,0,null,null,null,{"$f":"Раздел2!C121","v":0},{"$f":"Раздел2!F121","v":0}]
["Падел","114",0,0,null,null,null,0,null,null,null,0,null,null,null,0,null,null,null,0,null,null,null,{"$f":"Раздел2!C122","v":0},{"$f":"Раздел2!F122","v":0}]
["Парашютный спорт","115",0,0,null,null,null,0,null,null,null,0,null,null,null,0,null,null,null,0,null,null,null,{"$f":"Раздел2!C123","v":0},{"$f":"Раздел2!F123","v":0}]
["Парусный спорт","116",0,0,null,null,null,0,null,null,null,0,null,null,null,0,null,null,null,0,null,null,null,{"$f":"Раздел2!C124","v":0},{"$f":"Раздел2!F124","v":0}]
["Пауэрлифтинг","117",52,52,3,3,46,0,null,null,null,46,1,2,43,6,null,null,6,0,null,null,null,{"$f":"Раздел2!C125","v":1},{"$f":"Раздел2!F125","v":110}]
["Перетягивание каната","118",0,0,null,null,null,0,null,null,null,0,null,null,null,0,null,null,null,0,null,null,null,{"$f":"Раздел2!C126","v":0},{"$f":"Раздел2!F126","v":0}]
["Плавание - всего","119",0,0,{"$f":"SUM(E127:E128)","v":0},{"$f":"SUM(F127:F128)","v":0},0,0,0,0,0,0,0,0,0,0,0,0,0,0,0,0,0,{"$f":"Раздел2!C127","v":0},{"$f":"Раздел2!F127","v":0}]
["в том числе:\nПлавание ","120",0,0,null,null,null,0,null,null,null,0,null,null,null,0,null,null,null,0,null,null,null,{"$f":"Раздел2!C128","v":0},{"$f":"Раздел2!F128","v":0}]
["Открытая вода","121",0,0,null,null,null,0,null,null,null,0,null,null,null,0,null,null,null,0,null,null,null,{"$f":"Раздел2!C129","v":0},{"$f":"Раздел2!F129","v":0}]
["Планерный спорт","122",0,0,null,null,null,0,null,null,null,0,null,null,null,0,null,null,null,0,null,null,null,{"$f":"Раздел2!C130","v":0},{"$f":"Раздел2!F130","v":0}]
["Подводный спорт","123",0,0,null,null,null,0,null,null,null,0,null,null,null,0,null,null,null,0,null,null,null,{"$f":"Раздел2!C131","v":0},{"$f":"Раздел2!F131","v":0}]
["Пожарно-спасательный спорт","124",0,0,null,null,null,0,null,null,null,0,null,null,null,0,null,null,null,0,null,null,null,{"$f":"Раздел2!C132","v":0},{"$f":"Раздел2!F132","v":0}]
["Полиатлон","125",0,0,null,null,null,0,null,null,null,0,null,null,null,0,null,null,null,0,null,null,null,{"$f":"Раздел2!C133","v":0},{"$f":"Раздел2!F133","v":0}]
["Практическая стрельба","126",0,0,null,null,null,0,null,null,null,0,null,null,null,0,null,null,null,0,null,null,null,{"$f":"Раздел2!C134","v":0},{"$f":"Раздел2!F134","v":0}]
["Прыжки в воду - всего","127",0,0,{"$f":"SUM(E135:E136)","v":0},{"$f":"SUM(F135:F136)","v":0},0,0,0,0,0,0,0,0,0,0,0,0,0,0,0,0,0,{"$f":"Раздел2!C135","v":0},{"$f":"Раздел2!F135","v":0}]
["в том числе:\nПрыжки в воду","128",0,0,null,null,null,0,null,null,null,0,null,null,null,0,null,null,null,0,null,null,null,{"$f":"Раздел2!C136","v":0},{"$f":"Раздел2!F136","v":0}]
["Прыжки в открытый водоем","129",0,0,null,null,null,0,null,null,null,0,null,null,null,0,null,null,null,0,null,null,null,{"$f":"Раздел2!C137","v":0},{"$f":"Раздел2!F137","v":0}]
["Прыжки на батуте - всего","130",{"$f":"SUM(D137,H137)","v":0},{"$f":"SUM(E137:G137)","v":0},{"$f":"SUM(E138:E141)","v":0},{"$f":"SUM(F138:F141)","v":0},0,0,0,0,0,0,0,0,0,0,0,0,0,0,0,0,0,{"$f":"Раздел2!C138","v":0},{"$f":"Раздел2!F138","v":0}]
["в том числе:\nАкробатическая дорожка","131",0,0,null,null,null,{"$f":"SUM(I138:K138)","v":0},null,null,null,{"$f":"SUM(M138:O138)","v":0},null,null,null,{"$f":"SUM(Q138:S138)","v":0},null,null,null,{"$f":"SUM(U138:W138)","v":0},null,null,null,{"$f":"Раздел2!C139","v":0},{"$f":"Раздел2!F139","v":0}]
["Двойной минитрамп","132",0,0,null,null,null,0,null,null,null,0,null,null,null,0,null,null,null,0,null,null,null,{"$f":"Раздел2!C140","v":0},{"$f":"Раздел2!F140","v":0}]
["Индивидуальные прыжки","133",0,0,null,null,null,0,null,null,null,0,null,null,null,0,null,null,null,0,null,null,null,{"$f":"Раздел2!C141","v":0},{"$f":"Раздел2!F141","v":0}]
["Синхронные прыжки","134",0,0,null,null,null,0,null,null,null,0,null,null,null,0,null,null,null,0,null,null,null,{"$f":"Раздел2!C142","v":0},{"$f":"Раздел2!F142","v":0}]
["Прыжки на лыжах с трамплина","135",0,0,null,null,null,0,null,null,null,0,null,null,null,0,null,null,null,0,null,null,null,{"$f":"Раздел2!C143","v":0},{"$f":"Раздел2!F143","v":0}]
["Пулевая стрельба - всего","136",0,0,{"$f":"SUM(E144:E148)","v":0},{"$f":"SUM(F144:F148)","v":0},0,0,0,0,0,0,0,0,0,0,0,0,0,0,0,0,0,{"$f":"Раздел2!C144","v":0},{"$f":"Раздел2!F144","v":0}]
["в том числе:\nПневматическая винтовка","137",0,0,null,null,null,0,null,null,null,0,null,null,null,0,null,null,null,0,null,null,null,{"$f":"Раздел2!C145","v":0},{"$f":"Раздел2!F145","v":0}]
["Пневматический пистолет","138",0,0,null,null,null,0,null,null,null,0,null,null,null,0,null,null,null,0,null,null,null,{"$f":"Раздел2!C146","v":0},{"$f":"Раздел2!F146","v":0}]
["Малокалиберная винтовка","139",0,0,null,null,null,0,null,null,null,0,null,null,null,0,null,null,null,0,null,null,null,{"$f":"Раздел2!C147","v":0},{"$f":"Раздел2!F147","v":0}]
["Малокалиберный пистолет","140",0,0,null,null,null,0,null,null,null,0,null,null,null,0,null,null,null,0,null,null,null,{"$f":"Раздел2!C148","v":0},{"$f":"Раздел2!F148","v":0}]
["Движущаяся мишень","141",0,0,null,null,null,0,null,null,null,0,null,null,null,0,null,null,null,0,null,null,null,{"$f":"Раздел2!C149","v":0},{"$f":"Раздел2!F149","v":0}]
["Пэйнтбол","142",0,0,null,null,null,0,null,null,null,0,null,null,null,0,null,null,null,0,null,null,null,{"$f":"Раздел2!C150","v":0},{"$f":"Раздел2!F150","v":0}]
["Радиоспорт","143",0,0,null,null,null,0,null,null,null,0,null,null,null,0,null,null,null,0,null,null,null,{"$f":"Раздел2!C151","v":0},{"$f":"Раздел2!F151","v":0}]
["Рафтинг","144",0,0,null,null,null,0,null,null,null,0,null,null,null,0,null,null,null,0,null,null,null,{"$f":"Раздел2!C152","v":0},{"$f":"Раздел2!F152","v":0}]
["Регби - всего","145",0,0,{"$f":"SUM(E153:E157)","v":0},{"$f":"SUM(F153:F157)","v":0},0,0,0,0,0,0,0,0,0,0,0,0,0,0,0,0,0,{"$f":"Раздел2!C153","v":0},{"$f":"Раздел2!F153","v":0}]
["в том числе:\nРегби","146",0,0,null,null,null,0,null,null,null,0,null,null,null,0,null,null,null,0,null,null,null,{"$f":"Раздел2!C154","v":0},{"$f":"Раздел2!F154","v":0}]
["Регби 7 (муж.)","147",0,0,null,null,null,0,null,null,null,0,null,null,null,0,null,null,null,0,null,null,null,{"$f":"Раздел2!C155","v":0},{"$f":"Раздел2!F155","v":0}]
["Регби 7 (жен.)","148",0,0,null,null,null,0,null,null,null,0,null,null,null,0,null,null,null,0,null,null,null,{"$f":"Раздел2!C156","v":0},{"$f":"Раздел2!F156","v":0}]
["Регби - пляжное","149",0,0,null,null,null,0,null,null,null,0,null,null,null,0,null,null,null,0,null,null,null,{"$f":"Раздел2!C157","v":0},{"$f":"Раздел2!F157","v":0}]
["Регби на снегу","150",0,0,null,null,null,0,null,null,null,0,null,null,null,0,null,null,null,0,null,null,null,{"$f":"Раздел2!C158","v":0},{"$f":"Раздел2!F158","v":0}]
["Регбол","151",0,0,null,null,null,0,null,null,null,0,null,null,null,0,null,null,null,0,null,null,null,{"$f":"Раздел2!C159","v":0},{"$f":"Раздел2!F159","v":0}]
["Роллер спорт","152",0,0,null,null,null,0,null,null,null,0,null,null,null,0,null,null,null,0,null,null,null,{"$f":"Раздел2!C160","v":0},{"$f":"Раздел2!F160","v":0}]
["Роуп скиппинг (спортивная скакалка)","153",0,0,null,null,null,0,null,null,null,0,null,null,null,0,null,null,null,0,null,null,null,{"$f":"Раздел2!C161","v":0},{"$f":"Раздел2!F161","v":0}]
["Рукопашный бой","154",1,1,1,null,null,0,null,null,null,1,1,null,null,0,null,null,null,0,null,null,null,{"$f":"Раздел2!C162","v":1},{"$f":"Раздел2!F162","v":72}]
["Рыболовный спорт","155",0,0,null,null,null,0,null,null,null,0,null,null,null,0,null,null,null,0,null,null,null,{"$f":"Раздел2!C163","v":0},{"$f":"Раздел2!F163","v":0}]
["Сават","156",0,0,null,null,null,0,null,null,null,0,null,null,null,0,null,null,null,0,null,null,null,{"$f":"Раздел2!C164","v":0},{"$f":"Раздел2!F164","v":0}]
["Самбо","157",0,0,null,null,null,0,null,null,null,0,null,null,null,0,null,null,null,0,null,null,null,{"$f":"Раздел2!C165","v":0},{"$f":"Раздел2!F165","v":0}]
["Самолетный спорт","158",0,0,null,null,null,0,null,null,null,0,null,null,null,0,null,null,null,0,null,null,null,{"$f":"Раздел2!C166","v":0},{"$f":"Раздел2!F166","v":0}]
["Санный спорт","159",0,0,null,null,null,0,null,null,null,0,null,null,null,0,null,null,null,0,null,null,null,{"$f":"Раздел2!C167","v":0},{"$f":"Раздел2!F167","v":0}]
["Северное многоборье","160",0,0,null,null,null,0,null,null,null,0,null,null,null,0,null,null,null,0,null,null,null,{"$f":"Раздел2!C168","v":0},{"$f":"Раздел2!F168","v":0}]
["Серфинг","161",0,0,null,null,null,0,null,null,null,0,null,null,null,0,null,null,null,0,null,null,null,{"$f":"Раздел2!C169","v":0},{"$f":"Раздел2!F169","v":0}]
["Силовой экстрим","162",0,0,null,null,null,0,null,null,null,0,null,null,null,0,null,null,null,0,null,null,null,{"$f":"Раздел2!C170","v":0},{"$f":"Раздел2!F170","v":0}]
["Синхронное плавание","163",0,0,null,null,null,0,null,null,null,0,null,null,null,0,null,null,null,0,null,null,null,{"$f":"Раздел2!C171","v":0},{"$f":"Раздел2!F171","v":0}]
["Скалолазание","164",0,0,null,null,null,0,null,null,null,0,null,null,null,0,null,null,null,0,null,null,null,{"$f":"Раздел2!C172","v":0},{"$f":"Раздел2!F172","v":0}]
["Сквош","165",0,0,null,null,null,0,null,null,null,0,null,null,null,0,null,null,null,0,null,null,null,{"$f":"Раздел2!C173","v":0},{"$f":"Раздел2!F173","v":0}]
["Скейтбординг","166",0,0,null,null,null,0,null,null,null,0,null,null,null,0,null,null,null,0,null,null,null,{"$f":"Раздел2!C174","v":0},{"$f":"Раздел2!F174","v":0}]
["Служебно-боевая стрельба ","167",0,0,null,null,null,0,null,null,null,0,null,null,null,0,null,null,null,0,null,null,null,{"$f":"Раздел2!C175","v":0},{"$f":"Раздел2!F175","v":0}]
["Служебно-прикладной спорт","168",0,0,null,null,null,0,null,null,null,0,null,null,null,0,null,null,null,0,null,null,null,{"$f":"Раздел2!C176","v":0},{"$f":"Раздел2!F176","v":0}]
["Служебно-прикладной спорт ФСО России","169",0,0,null,null,null,0,null,null,null,0,null,null,null,0,null,null,null,0,null,null,null,{"$f":"Раздел2!C177","v":0},{"$f":"Раздел2!F177","v":0}]
["Служебно-прикладной спорт ФТС России","170",0,0,null,null,null,0,null,null,null,0,null,null,null,0,null,null,null,0,null,null,null,{"$f":"Раздел2!C178","v":0},{"$f":"Раздел2!F178","v":0}]
["Служебное двоеборье","171",0,0,null,null,null,0,null,null,null,0,null,null,null,0,null,null,null,0,null,null,null,{"$f":"Раздел2!C179","v":0},{"$f":"Раздел2!F179","v":0}]
["Служебное единоборство","172",0,0,null,null,null,0,null,null,null,0,null,null,null,0,null,null,null,0,null,null,null,{"$f":"Раздел2!C180","v":0},{"$f":"Раздел2!F180","v":0}]
["Служебное многоборье","173",0,0,null,null,null,0,null,null,null,0,null,null,null,0,null,null,null,0,null,null,null,{"$f":"Раздел2!C181","v":0},{"$f":"Раздел2!F181","v":0}]
["Служебный биатлон","174",0,0,null,null,null,0,null,null,null,0,null,null,null,0,null,null,null,0,null,null,null,{"$f":"Раздел2!C182","v":0},{"$f":"Раздел2!F182","v":0}]
["Спасательный спорт","175",0,0,null,null,null,0,null,null,null,0,null,null,null,0,null,null,null,0,null,null,null,{"$f":"Раздел2!C183","v":0},{"$f":"Раздел2!F183","v":0}]
["Стрельба из боевого ручного стрелкового оружия","176",0,0,null,null,null,0,null,null,null,0,null,null,null,0,null,null,null,0,null,null,null,{"$f":"Раздел2!C184","v":0},{"$f":"Раздел2!F184","v":0}]
["Стрельба из штатного или табельного оружия","177",0,0,null,null,null,0,null,null,null,0,null,null,null,0,null,null,null,0,null,null,null,{"$f":"Раздел2!C185","v":0},{"$f":"Раздел2!F185","v":0}]
["Смешанное боевое единоборство (ММА)","178",0,0,null,null,null,0,null,null,null,0,null,null,null,0,null,null,null,0,null,null,null,{"$f":"Раздел2!C186","v":0},{"$f":"Раздел2!F186","v":0}]
["Сноуборд","179",0,0,null,null,null,0,null,null,null,0,null,null,null,0,null,null,null,0,null,null,null,{"$f":"Раздел2!C187","v":0},{"$f":"Раздел2!F187","v":0}]
["Современное пятиборье","180",0,0,null,null,null,0,null,null,null,0,null,null,null,0,null,null,null,0,null,null,null,{"$f":"Раздел2!C188","v":0},{"$f":"Раздел2!F188","v":0}]
["Софтбол","181",0,0,null,null,null,0,null,null,null,0,null,null,null,0,null,null,null,0,null,null,null,{"$f":"Раздел2!C189","v":0},{"$f":"Раздел2!F189","v":0}]
["Спорт сверхлегкой авиации","182",0,0,null,null,null,0,null,null,null,0,null,null,null,0,null,null,null,0,null,null,null,{"$f":"Раздел2!C190","v":0},{"$f":"Раздел2!F190","v":0}]
["Спортивная акробатика","183",0,0,null,null,null,0,null,null,null,0,null,null,null,0,null,null,null,0,null,null,null,{"$f":"Раздел2!C191","v":0},{"$f":"Раздел2!F191","v":0}]
["Спортивная аэробика","184",0,0,null,null,null,0,null,null,null,0,null,null,null,0,null,null,null,0,null,null,null,{"$f":"Раздел2!C192","v":0},{"$f":"Раздел2!F192","v":0}]
["Спортивная борьба - всего","185",0,0,{"$f":"SUM(E193:E197)","v":0},{"$f":"SUM(F193:F197)","v":0},0,0,0,0,0,0,0,0,0,0,0,0,0,0,0,0,0,{"$f":"Раздел2!C193","v":0},{"$f":"Раздел2!F193","v":0}]
["в том числе:\nВольная борьба","186",0,0,null,null,null,0,null,null,null,0,null,null,null,0,null,null,null,0,null,null,null,{"$f":"Раздел2!C194","v":0},{"$f":"Раздел2!F194","v":0}]
["Греко-римская борьба","187",0,0,null,null,null,0,null,null,null,0,null,null,null,0,null,null,null,0,null,null,null,{"$f":"Раздел2!C195","v":0},{"$f":"Раздел2!F195","v":0}]
["Грэпплинг","188",0,0,null,null,null,0,null,null,null,0,null,null,null,0,null,null,null,0,null,null,null,{"$f":"Раздел2!C196","v":0},{"$f":"Раздел2!F196","v":0}]
["Грэпплинг-ги","189",0,0,null,null,null,0,null,null,null,0,null,null,null,0,null,null,null,0,null,null,null,{"$f":"Раздел2!C197","v":0},{"$f":"Раздел2!F197","v":0}]
["Панкратион","190",0,0,null,null,null,0,null,null,null,0,null,null,null,0,null,null,null,0,null,null,null,{"$f":"Раздел2!C198","v":0},{"$f":"Раздел2!F198","v":0}]
["Спортивная гимнастика","191",0,0,null,null,null,0,null,null,null,0,null,null,null,0,null,null,null,0,null,null,null,{"$f":"Раздел2!C199","v":0},{"$f":"Раздел2!F199","v":0}]
["Спортивная йога","192",0,0,null,null,null,0,null,null,null,0,null,null,null,0,null,null,null,0,null,null,null,{"$f":"Раздел2!C200","v":0},{"$f":"Раздел2!F200","v":0}]
["Спортивно-прикладное собаководство","193",0,0,null,null,null,0,null,null,null,0,null,null,null,0,null,null,null,0,null,null,null,{"$f":"Раздел2!C201","v":0},{"$f":"Раздел2!F201","v":0}]
["Спортивное метание ножа","194",{"$f":"SUM(D201,H201)","v":0},{"$f":"SUM(E201:G201)","v":0},null,null,null,{"$f":"SUM(I201:K201)","v":0},null,null,null,{"$f":"SUM(M201:O201)","v":0},null,null,null,{"$f":"SUM(Q201:S201)","v":0},null,null,null,{"$f":"SUM(U201:W201)","v":0},null,null,null,{"$f":"Раздел2!C202","v":0},{"$f":"Раздел2!F202","v":0}]
["Спортивное ориентирование","195",0,0,null,null,null,0,null,null,null,0,null,null,null,0,null,null,null,0,null,null,null,{"$f":"Раздел2!C203","v":0},{"$f":"Раздел2!F203","v":0}]
["Спортивный бридж","196",0,0,null,null,null,0,null,null,null,0,null,null,null,0,null,null,null,0,null,null,null,{"$f":"Раздел2!C204","v":0},{"$f":"Раздел2!F204","v":0}]
["Спортивный туризм","197",0,0,null,null,null,0,null,null,null,0,null,null,null,0,null,null,null,0,null,null,null,{"$f":"Раздел2!C205","v":0},{"$f":"Раздел2!F205","v":0}]
["Стендовая стрельба - всего","198",0,0,{"$f":"SUM(E206:E209)","v":0},{"$f":"SUM(F206:F209)","v":0},0,0,0,0,0,0,0,0,0,0,0,0,0,0,0,0,0,{"$f":"Раздел2!C206","v":0},{"$f":"Раздел2!F206","v":0}]
["в том числе:\nТрап","199",0,0,null,null,null,0,null,null,null,0,null,null,null,0,null,null,null,0,null,null,null,{"$f":"Раздел2!C207","v":0},{"$f":"Раздел2!F207","v":0}]
["Скит","200",0,0,null,null,null,0,null,null,null,0,null,null,null,0,null,null,null,0,null,null,null,{"$f":"Раздел2!C208","v":0},{"$f":"Раздел2!F208","v":0}]
["Дубль-трап","201",0,0,null,null,null,0,null,null,null,0,null,null,null,0,null,null,null,0,null,null,null,{"$f":"Раздел2!C209","v":0},{"$f":"Раздел2!F209","v":0}]
["Спортинг","202",0,0,null,null,null,0,null,null,null,0,null,null,null,0,null,null,null,0,null,null,null,{"$f":"Раздел2!C210","v":0},{"$f":"Раздел2!F210","v":0}]
["Страйкбол","203",0,0,null,null,null,0,null,null,null,0,null,null,null,0,null,null,null,0,null,null,null,{"$f":"Раздел2!C211","v":0},{"$f":"Раздел2!F211","v":0}]
["Стрельба из арбалета","204",0,0,null,null,null,0,null,null,null,0,null,null,null,0,null,null,null,0,null,null,null,{"$f":"Раздел2!C212","v":0},{"$f":"Раздел2!F212","v":0}]
["Стрельба из лука - всего","205",0,0,{"$f":"SUM(E213:E215)","v":0},{"$f":"SUM(F213:F215)","v":0},0,0,0,0,0,0,0,0,0,0,0,0,0,0,0,0,0,{"$f":"Раздел2!C213","v":0},{"$f":"Раздел2!F213","v":0}]
["в том числе:\nКлассический лук","206",0,0,null,null,null,0,null,null,null,0,null,null,null,0,null,null,null,0,null,null,null,{"$f":"Раздел2!C214","v":0},{"$f":"Раздел2!F214","v":0}]
["   Блочный лук","207",0,0,null,null,null,0,null,null,null,0,null,null,null,0,null,null,null,0,null,null,null,{"$f":"Раздел2!C215","v":0},{"$f":"Раздел2!F215","v":0}]
["   Ачери ","208",0,0,null,null,null,0,null,null,null,0,null,null,null,0,null,null,null,0,null,null,null,{"$f":"Раздел2!C216","v":0},{"$f":"Раздел2!F216","v":0}]
["Судомодельный спорт","209",0,0,null,null,null,0,null,null,null,0,null,null,null,0,null,null,null,0,null,null,null,{"$f":"Раздел2!C217","v":0},{"$f":"Раздел2!F217","v":0}]
["Сумо","210",0,0,null,null,null,0,null,null,null,0,null,null,null,0,null,null,null,0,null,null,null,{"$f":"Раздел2!C218","v":0},{"$f":"Раздел2!F218","v":0}]
["Таврели","211",0,0,null,null,null,0,null,null,null,0,null,null,null,0,null,null,null,0,null,null,null,{"$f":"Раздел2!C219","v":0},{"$f":"Раздел2!F219","v":0}]
["Тайский бокс","212",0,0,null,null,null,0,null,null,null,0,null,null,null,0,null,null,null,0,null,null,null,{"$f":"Раздел2!C220","v":0},{"$f":"Раздел2!F220","v":0}]
["Танцевальный спорт","213",0,0,null,null,null,0,null,null,null,0,null,null,null,0,null,null,null,0,null,null,null,{"$f":"Раздел2!C221","v":0},{"$f":"Раздел2!F221","v":0}]
["Теннис","214",0,0,null,null,null,0,null,null,null,0,null,null,null,0,null,null,null,0,null,null,null,{"$f":"Раздел2!C222","v":0},{"$f":"Раздел2!F222","v":0}]
["Триатлон","215",0,0,null,null,null,0,null,null,null,0,null,null,null,0,null,null,null,0,null,null,null,{"$f":"Раздел2!C223","v":0},{"$f":"Раздел2!F223","v":0}]
["Тхэквондо (ВТФ)","216",0,0,null,null,null,0,null,null,null,0,null,null,null,0,null,null,null,0,null,null,null,{"$f":"Раздел2!C224","v":0},{"$f":"Раздел2!F224","v":0}]
["Тхэквондо ГТФ","217",0,0,null,null,null,0,null,null,null,0,null,null,null,0,null,null,null,0,null,null,null,{"$f":"Раздел2!C225","v":0},{"$f":"Раздел2!F225","v":0}]
["Тхэквондо ИТФ","218",0,0,null,null,null,0,null,null,null,0,null,null,null,0,null,null,null,0,null,null,null,{"$f":"Раздел2!C226","v":0},{"$f":"Раздел2!F226","v":0}]
["Тхэквондо МФТ","219",0,0,null,null,null,0,null,null,null,0,null,null,null,0,null,null,null,0,null,null,null,{"$f":"Раздел2!C227","v":0},{"$f":"Раздел2!F227","v":0}]
["Тяжелая атлетика","220",0,0,null,null,null,0,null,null,null,0,null,null,null,0,null,null,null,0,null,null,null,{"$f":"Раздел2!C228","v":0},{"$f":"Раздел2!F228","v":0}]
["Универсальный бой","221",0,0,null,null,null,0,null,null,null,0,null,null,null,0,null,null,null,0,null,null,null,{"$f":"Раздел2!C229","v":0},{"$f":"Раздел2!F229","v":0}]
["Ушу","222",0,0,null,null,null,0,null,null,null,0,null,null,null,0,null,null,null,0,null,null,null,{"$f":"Раздел2!C230","v":0},{"$f":"Раздел2!F230","v":0}]
["Фехтование - всего","223",0,0,{"$f":"SUM(E231:E234)","v":0},{"$f":"SUM(F231:F234)","v":0},0,0,0,0,0,0,0,0,0,0,0,0,0,0,0,0,0,{"$f":"Раздел2!C231","v":0},{"$f":"Раздел2!F231","v":0}]
["в том числе:\nРапира","224",0,0,null,null,null,0,null,null,null,0,null,null,null,0,null,null,null,0,null,null,null,{"$f":"Раздел2!C232","v":0},{"$f":"Раздел2!F232","v":0}]
["Сабля","225",0,0,null,null,null,0,null,null,null,0,null,null,null,0,null,null,null,0,null,null,null,{"$f":"Раздел2!C233","v":0},{"$f":"Раздел2!F233","v":0}]
["Шпага","226",0,0,null,null,null,0,null,null,null,0,null,null,null,0,null,null,null,0,null,null,null,{"$f":"Раздел2!C234","v":0},{"$f":"Раздел2!F234","v":0}]
["Арт-фехтование","227",0,0,null,null,null,0,null,null,null,0,null,null,null,0,null,null,null,0,null,null,null,{"$f":"Раздел2!C235","v":0},{"$f":"Раздел2!F235","v":0}]
["Фигурное катание на коньках","228",0,0,null,null,null,0,null,null,null,0,null,null,null,0,null,null,null,0,null,null,null,{"$f":"Раздел2!C236","v":0},{"$f":"Раздел2!F236","v":0}]
["Фитнес-аэробика","229",0,0,null,null,null,0,null,null,null,0,null,null,null,0,null,null,null,0,null,null,null,{"$f":"Раздел2!C237","v":1},{"$f":"Раздел2!F237","v":50}]
["Флаинг диск","230",0,0,null,null,null,0,null,null,null,0,null,null,null,0,null,null,null,0,null,null,null,{"$f":"Раздел2!C238","v":0},{"$f":"Раздел2!F238","v":0}]
["Флорбол","231",0,0,null,null,null,0,null,null,null,0,null,null,null,0,null,null,null,0,null,null,null,{"$f":"Раздел2!C239","v":0},{"$f":"Раздел2!F239","v":0}]
["Фристайл - всего","232",0,0,{"$f":"SUM(E240:E245)","v":0},{"$f":"SUM(F240:F245)","v":0},0,0,0,0,0,0,0,0,0,0,0,0,0,0,0,0,0,{"$f":"Раздел2!C240","v":0},{"$f":"Раздел2!F240","v":0}]
["в том числе:\nАкробатика","233",0,0,null,null,null,0,null,null,null,0,null,null,null,0,null,null,null,0,null,null,null,{"$f":"Раздел2!C241","v":0},{"$f":"Раздел2!F241","v":0}]
["Биг-эйр","234",0,0,null,null,null,0,null,null,null,0,null,null,null,0,null,null,null,0,null,null,null,{"$f":"Раздел2!C242","v":0},{"$f":"Раздел2!F242","v":0}]
["Могул","235",0,0,null,null,null,0,null,null,null,0,null,null,null,0,null,null,null,0,null,null,null,{"$f":"Раздел2!C243","v":0},{"$f":"Раздел2!F243","v":0}]
["Ски-кросс","236",0,0,null,null,null,0,null,null,null,0,null,null,null,0,null,null,null,0,null,null,null,{"$f":"Раздел2!C244","v":0},{"$f":"Раздел2!F244","v":0}]
["Хаф-пайп","237",0,0,null,null,null,0,null,null,null,0,null,null,null,0,null,null,null,0,null,null,null,{"$f":"Раздел2!C245","v":0},{"$f":"Раздел2!F245","v":0}]
["Слоуп-стайл","238",0,0,null,null,null,0,null,null,null,0,null,null,null,0,null,null,null,0,null,null,null,{"$f":"Раздел2!C246","v":0},{"$f":"Раздел2!F246","v":0}]
["Функциональное многоборье","239",0,0,null,null,null,0,null,null,null,0,null,null,null,0,null,null,null,0,null,null,null,{"$f":"Раздел2!C247","v":0},{"$f":"Раздел2!F247","v":0}]
["Футбол - всего","240",37,37,{"$f":"SUM(E248:E253)","v":0},{"$f":"SUM(F248:F253)","v":0},37,0,0,0,0,38,0,0,38,0,0,0,0,0,0,0,0,{"$f":"Раздел2!C248","v":1},{"$f":"Раздел2!F248","v":164}]
["в том числе:\nФутбол (муж.)","241",0,0,null,null,null,0,null,null,null,0,null,null,null,0,null,null,null,0,null,null,null,{"$f":"Раздел2!C249","v":0},{"$f":"Раздел2!F249","v":0}]
["Футбол (жен.)","242",0,0,null,null,null,0,null,null,null,0,null,null,null,0,null,null,null,0,null,null,null,{"$f":"Раздел2!C250","v":0},{"$f":"Раздел2!F250","v":0}]
["Мини-футбол (футзал)","243",37,37,null,null,37,0,null,null,null,38,null,null,38,0,null,null,null,0,null,null,null,{"$f":"Раздел2!C251","v":1},{"$f":"Раздел2!F251","v":164}]
["Пляжный футбол","244",0,0,null,null,null,0,null,null,null,0,null,null,null,0,null,null,null,0,null,null,null,{"$f":"Раздел2!C252","v":0},{"$f":"Раздел2!F252","v":0}]
["Футбол 6х6, 7х7, 8х8","245",0,0,null,null,null,0,null,null,null,0,null,null,null,0,null,null,null,0,null,null,null,{"$f":"Раздел2!C253","v":0},{"$f":"Раздел2!F253","v":0}]
["Интерактивный футбол","246",0,0,null,null,null,0,null,null,null,0,null,null,null,0,null,null,null,0,null,null,null,{"$f":"Раздел2!C254","v":0},{"$f":"Раздел2!F254","v":0}]
["Футгольф","247",0,0,null,null,null,0,null,null,null,0,null,null,null,0,null,null,null,0,null,null,null,{"$f":"Раздел2!C255","v":0},{"$f":"Раздел2!F255","v":0}]
["Хапкидо","248",0,0,null,null,null,0,null,null,null,0,null,null,null,0,null,null,null,0,null,null,null,{"$f":"Раздел2!C256","v":0},{"$f":"Раздел2!F256","v":0}]
["Хапсагай","249",0,0,null,null,null,0,null,null,null,0,null,null,null,0,null,null,null,0,null,null,null,{"$f":"Раздел2!C257","v":0},{"$f":"Раздел2!F257","v":0}]
["Хоккей - всего","250",0,0,{"$f":"SUM(E258:E259)","v":0},{"$f":"SUM(F258:F259)","v":0},0,0,0,0,0,0,0,0,0,0,0,0,0,0,0,0,0,{"$f":"Раздел2!C258","v":0},{"$f":"Раздел2!F258","v":0}]
["в том числе:\nХоккей (муж.)","251",0,0,null,null,null,0,null,null,null,0,null,null,null,0,null,null,null,0,null,null,null,{"$f":"Раздел2!C259","v":0},{"$f":"Раздел2!F259","v":0}]
["Хоккей (жен.)","252",0,0,null,null,null,0,null,null,null,0,null,null,null,0,null,null,null,0,null,null,null,{"$f":"Раздел2!C260","v":0},{"$f":"Раздел2!F260","v":0}]
["Хоккей на траве - всего","253",0,0,{"$f":"SUM(E261:E263)","v":0},{"$f":"SUM(F261:F263)","v":0},0,0,0,0,0,0,0,0,0,0,0,0,0,0,0,0,0,{"$f":"Раздел2!C261","v":0},{"$f":"Раздел2!F261","v":0}]
["в том числе:\nХоккей на траве (муж.)","254",0,0,null,null,null,0,null,null,null,0,null,null,null,0,null,null,null,0,null,null,null,{"$f":"Раздел2!C262","v":0},{"$f":"Раздел2!F262","v":0}]
["Хоккей на траве (жен.)","255",0,0,null,null,null,0,null,null,null,0,null,null,null,0,null,null,null,0,null,null,null,{"$f":"Раздел2!C263","v":0},{"$f":"Раздел2!F263","v":0}]
["Индорхоккей","256",0,0,null,null,null,0,null,null,null,0,null,null,null,0,null,null,null,0,null,null,null,{"$f":"Раздел2!C264","v":0},{"$f":"Раздел2!F264","v":0}]
["Хоккей с мячом","257",0,0,null,null,null,0,null,null,null,0,null,null,null,0,null,null,null,0,null,null,null,{"$f":"Раздел2!C265","v":0},{"$f":"Раздел2!F265","v":0}]
["Художественная гимнастика","258",{"$f":"SUM(D265,H265)","v":0},{"$f":"SUM(E265:G265)","v":0},null,null,null,{"$f":"SUM(I265:K265)","v":0},null,null,null,{"$f":"SUM(M265:O265)","v":0},null,null,null,{"$f":"SUM(Q265:S265)","v":0},null,null,null,{"$f":"SUM(U265:W265)","v":0},null,null,null,{"$f":"Раздел2!C266","v":0},{"$f":"Раздел2!F266","v":0}]
["Хуреш","259",0,0,null,null,null,0,null,null,null,0,null,null,null,0,null,null,null,0,null,null,null,{"$f":"Раздел2!C267","v":0},{"$f":"Раздел2!F267","v":0}]
["Чир спорт","260",0,0,null,null,null,0,null,null,null,0,null,null,null,0,null,null,null,0,null,null,null,{"$f":"Раздел2!C268","v":0},{"$f":"Раздел2!F268","v":0}]
["Шахматы","261",0,0,null,null,null,0,null,null,null,0,null,null,null,0,null,null,null,0,null,null,null,{"$f":"Раздел2!C269","v":0},{"$f":"Раздел2!F269","v":0}]
["Шашки","262",0,0,null,null,null,0,null,null,null,0,null,null,null,0,null,null,null,0,null,null,null,{"$f":"Раздел2!C270","v":0},{"$f":"Раздел2!F270","v":0}]
["Шодсанлат","263",0,0,null,null,null,0,null,null,null,0,null,null,null,0,null,null,null,0,null,null,null,{"$f":"Раздел2!C271","v":0},{"$f":"Раздел2!F271","v":0}]
["Эстетическая гимнастика","264",0,0,null,null,null,0,null,null,null,0,null,null,null,0,null,null,null,0,null,null,null,{"$f":"Раздел2!C272","v":0},{"$f":"Раздел2!F272","v":0}]
["Якутские национальные прыжки","265",0,0,null,null,null,0,null,null,null,0,null,null,null,0,null,null,null,0,null,null,null,{"$f":"Раздел2!C273","v":0},{"$f":"Раздел2!F273","v":0}]
["ИТОГО","266",151,151,{"$f":"SUM(E8:E20,E24:E27,E30:E35,E46:E51,E56:E58,E40:E43,E62:E72,E77:E86,E90:E96,E99:E104,E112:E117,E118:E126,E129:E134,E137,E142:E143,E149:E152,E158:E164,E165:E179,E180:E192,E198:E205,E210:E212,E216:E220,E221:E230,E235:E239,E246:E247,E254:E257,E260,E264:E272)","v":4},{"$f":"SUM(F8:F20,F24:F27,F30:F35,F46:F51,F56:F58,F40:F43,F62:F72,F77:F86,F90:F96,F99:F104,F112:F117,F118:F126,F129:F134,F137,F142:F143,F149:F152,F158:F164,F165:F179,F180:F192,F198:F205,F210:F212,F216:F220,F221:F230,F235:F239,F246:F247,F254:F257,F260,F264:F272)","v":14},133,0,0,0,0,150,2,13,135,16,0,0,16,0,0,0,0,{"$f":"Раздел2!C274","v":8},{"$f":"Раздел2!F274","v":653}]

{"sheet":"Раздел6","index":6,"n_rows":274,"n_cols":20,"rows_kept":274,"cut":false,"hidden":false,"merged":[[0,0,127,0],[0,1,0,15],[0,16,127,16],[1,1,1,15],[2,1,6,1],[2,2,6,2],[2,4,2,9],[2,10,2,15],[2,3,6,3],[2,18,6,18],[3,4,5,5],[3,6,5,7],[3,8,5,9],[3,10,5,11],[3,12,5,13],[3,14,5,15]]}
[null,"                                                                        Раздел VI. Занимающиеся – кандидаты в спортивные сборные команды России"]
[null,"Код по ОКЕИ: человек 792"]
[null,"Виды спорта","№ строки","Всего кандидатов из числа занимающихся","Из числа занимающихся (гр. 6 раздела II) кандидаты, состоящие в списках спортивных сборных команд",null,null,null,null,null,"Кандидаты, подготовленные в отчетном году",null,null,null,null,null,null,null,"Раздел2 графа5\nЧисло отделений"]
[null,null,null,null,"Юношеский состав",null,"Юниорский состав",null,"Основной состав",null,"Юношеский состав",null,"Юниорский состав",null,"Основной состав"]
[]
[]
[null,null,null,null,"основной","резерв","основной","резерв","основной","резерв","основной","резерв","основной","резерв","основной","резерв"]
[null,1,2,3,4,5,6,7,8,9,10,11,12,13,14,15]
[null,"Авиамодельный спорт","01",{"$f":"SUM(E9:J9)","v":0},null,null,null,null,null,null,null,null,null,null,null,null,null,null,{"$f":"Раздел2!C9","v":0},{"$f":"Раздел2!F9","v":0}]
[null,"Автомобильный спорт","02",{"$f":"SUM(E10:J10)","v":0},null,null,null,null,null,null,null,null,null,null,null,null,null,null,{"$f":"Раздел2!C10","v":0},{"$f":"Раздел2!F10","v":0}]
[null,"Автомодельный спорт","03",0,null,null,null,null,null,null,null,null,null,null,null,null,null,null,{"$f":"Раздел2!C11","v":0},{"$f":"Раздел2!F11","v":0}]
[null,"Айкидо","04",0,null,null,null,null,null,null,null,null,null,null,null,null,null,null,{"$f":"Раздел2!C12","v":1},{"$f":"Раздел2!F12","v":30}]
[null,"Айсшток","05",0,null,null,null,null,null,null,null,null,null,null,null,null,null,null,{"$f":"Раздел2!C13","v":0},{"$f":"Раздел2!F13","v":0}]
[null,"Акробатический рок-н-ролл","06",0,null,null,null,null,null,null,null,null,null,null,null,null,null,null,{"$f":"Раздел2!C14","v":0},{"$f":"Раздел2!F14","v":0}]
[null,"Альпинизм","07",0,null,null,null,null,null,null,null,null,null,null,null,null,null,null,{"$f":"Раздел2!C15","v":0},{"$f":"Раздел2!F15","v":0}]
[null,"Американский футбол","08",0,null,null,null,null,null,null,null,null,null,null,null,null,null,null,{"$f":"Раздел2!C16","v":0},{"$f":"Раздел2!F16","v":0}]
[null,"Армейский рукопашный бой","09",0,null,null,null,null,null,null,null,null,null,null,null,null,null,null,{"$f":"Раздел2!C17","v":0},{"$f":"Раздел2!F17","v":0}]
[null,"Армейское тактико-стрелковое многоборье","10",0,null,null,null,null,null,null,null,null,null,null,null,null,null,null,{"$f":"Раздел2!C18","v":0},{"$f":"Раздел2!F18","v":0}]
[null,"Армрестлинг","11",0,null,null,null,null,null,null,null,null,null,null,null,null,null,null,{"$f":"Раздел2!C19","v":0},{"$f":"Раздел2!F19","v":0}]
[null,"Бадминтон","12",0,null,null,null,null,null,null,null,null,null,null,null,null,null,null,{"$f":"Раздел2!C20","v":0},{"$f":"Раздел2!F20","v":0}]
[null,"Баскетбол - всего","13",0,{"$f":"SUM(E22:E24)","v":0},{"$f":"SUM(F22:F24)","v":0},0,0,0,0,0,0,0,0,0,0,null,null,{"$f":"Раздел2!C21","v":1},{"$f":"Раздел2!F21","v":20}]
[null,"в том числе:\nБаскетбол (муж.)","14",0,null,null,null,null,null,null,null,null,null,null,null,null,null,null,{"$f":"Раздел2!C22","v":1},{"$f":"Раздел2!F22","v":10}]
[null,"Баскетбол (жен.)","15",0,null,null,null,null,null,null,null,null,null,null,null,null,null,null,{"$f":"Раздел2!C23","v":1},{"$f":"Раздел2!F23","v":10}]
[null,"Баскетбол 3х3","16",0,null,null,null,null,null,null,null,null,null,null,null,null,null,null,{"$f":"Раздел2!C24","v":0},{"$f":"Раздел2!F24","v":0}]
[null,"Бейсбол","17",0,null,null,null,null,null,null,null,null,null,null,null,null,null,null,{"$f":"Раздел2!C25","v":0},{"$f":"Раздел2!F25","v":0}]
[null,"Биатлон","18",0,null,null,null,null,null,null,null,null,null,null,null,null,null,null,{"$f":"Раздел2!C26","v":0},{"$f":"Раздел2!F26","v":0}]
[null,"Бильярдный спорт","19",0,null,null,null,null,null,null,null,null,null,null,null,null,null,null,{"$f":"Раздел2!C27","v":0},{"$f":"Раздел2!F27","v":0}]
[null,"Бобслей - всего","20",0,{"$f":"SUM(E29:E30)","v":0},{"$f":"SUM(F29:F30)","v":0},0,0,0,0,0,0,0,0,0,{"$f":"SUM(P29:P30)","v":0},null,null,{"$f":"Раздел2!C28","v":0},{"$f":"Раздел2!F28","v":0}]
[null,"в том числе:\nБобслей","21",0,null,null,null,null,null,null,null,null,null,null,null,null,null,null,{"$f":"Раздел2!C29","v":0},{"$f":"Раздел2!F29","v":0}]
[null,"Скелетон","22",0,null,null,null,null,null,null,null,null,null,null,null,null,null,null,{"$f":"Раздел2!C30","v":0},{"$f":"Раздел2!F30","v":0}]
[null,"Бодибилдинг","23",0,null,null,null,null,null,null,null,null,null,null,null,null,null,null,{"$f":"Раздел2!C31","v":0},{"$f":"Раздел2!F31","v":0}]
[null,"Бокс","24",0,null,null,null,null,null,null,null,null,null,null,null,null,null,null,{"$f":"Раздел2!C32","v":0},{"$f":"Раздел2!F32","v":0}]
[null,"Борьба на поясах","25",0,null,null,null,null,null,null,null,null,null,null,null,null,null,null,{"$f":"Раздел2!C33","v":0},{"$f":"Раздел2!F33","v":0}]
[null,"Боулинг","26",0,null,null,null,null,null,null,null,null,null,null,null,null,null,null,{"$f":"Раздел2!C34","v":0},{"$f":"Раздел2!F34","v":0}]
[null,"Боулспорт","27",0,null,null,null,null,null,null,null,null,null,null,null,null,null,null,{"$f":"Раздел2!C35","v":0},{"$f":"Раздел2!F35","v":0}]
[null,"Велосипедный спорт - всего","28",0,{"$f":"SUM(E37:E40)","v":0},{"$f":"SUM(F37:F40)","v":0},0,0,0,0,0,0,0,0,0,0,null,null,{"$f":"Раздел2!C36","v":0},{"$f":"Раздел2!F36","v":0}]
[null,"в том числе:\nBMX","29",0,null,null,null,null,null,null,null,null,null,null,null,null,null,null,{"$f":"Раздел2!C37","v":0},{"$f":"Раздел2!F37","v":0}]
[null,"Маунтинбайк","30",0,null,null,null,null,null,null,null,null,null,null,null,null,null,null,{"$f":"Раздел2!C38","v":0},{"$f":"Раздел2!F38","v":0}]
[null,"Трек","31",0,null,null,null,null,null,null,null,null,null,null,null,null,null,null,{"$f":"Раздел2!C39","v":0},{"$f":"Раздел2!F39","v":0}]
[null,"Шоссе","32",0,null,null,null,null,null,null,null,null,null,null,null,null,null,null,{"$f":"Раздел2!C40","v":0},{"$f":"Раздел2!F40","v":0}]
[null,"Вертолетный спорт","33",0,null,null,null,null,null,null,null,null,null,null,null,null,null,null,{"$f":"Раздел2!C41","v":0},{"$f":"Раздел2!F41","v":0}]
[null,"Водно-моторный спорт","34",0,null,null,null,null,null,null,null,null,null,null,null,null,null,null,{"$f":"Раздел2!C42","v":0},{"$f":"Раздел2!F42","v":0}]
[null,"Водно-спасательное многоборье","35",0,null,null,null,null,null,null,null,null,null,null,null,null,null,null,{"$f":"Раздел2!C43","v":0},{"$f":"Раздел2!F43","v":0}]
[null,"Водное поло - всего ","36",0,{"$f":"SUM(E45:E46)","v":0},{"$f":"SUM(F45:F46)","v":0},0,0,0,0,0,0,0,0,0,0,null,null,{"$f":"Раздел2!C44","v":0},{"$f":"Раздел2!F44","v":0}]
[null,"в том числе:\nВодное поло (муж.)","37",0,null,null,null,null,null,null,null,null,null,null,null,null,null,null,{"$f":"Раздел2!C45","v":0},{"$f":"Раздел2!F45","v":0}]
[null,"Водное поло (жен.)","38",0,null,null,null,null,null,null,null,null,null,null,null,null,null,null,{"$f":"Раздел2!C46","v":0},{"$f":"Раздел2!F46","v":0}]
[null,"Воднолыжный спорт","39",0,null,null,null,null,null,null,null,null,null,null,null,null,null,null,{"$f":"Раздел2!C47","v":0},{"$f":"Раздел2!F47","v":0}]
[null,"Военно-прикладной спорт","40",0,null,null,null,null,null,null,null,null,null,null,null,null,null,null,{"$f":"Раздел2!C48","v":0},{"$f":"Раздел2!F48","v":0}]
[null,"Военно-спортивное многоборье","41",0,null,null,null,null,null,null,null,null,null,null,null,null,null,null,{"$f":"Раздел2!C49","v":0},{"$f":"Раздел2!F49","v":0}]
[null,"Воздухоплавательный спорт","42",0,null,null,null,null,null,null,null,null,null,null,null,null,null,null,{"$f":"Раздел2!C50","v":0},{"$f":"Раздел2!F50","v":0}]
[null,"Воздушно-силовая атлетика","43",0,null,null,null,null,null,null,null,null,null,null,null,null,null,null,{"$f":"Раздел2!C51","v":0},{"$f":"Раздел2!F51","v":0}]
[null,"Волейбол - всего","44",0,{"$f":"SUM(E53:E56)","v":0},{"$f":"SUM(F53:F56)","v":0},0,0,0,0,0,0,0,0,0,0,null,null,{"$f":"Раздел2!C52","v":1},{"$f":"Раздел2!F52","v":101}]
[null,"в том числе:\nВолейбол (муж.)","45",0,null,null,null,null,null,null,null,null,null,null,null,null,null,null,{"$f":"Раздел2!C53","v":1},{"$f":"Раздел2!F53","v":59}]
[null,"Волейбол (жен.)","46",0,null,null,null,null,null,null,null,null,null,null,null,null,null,null,{"$f":"Раздел2!C54","v":1},{"$f":"Раздел2!F54","v":42}]
[null,"Пляжный волейбол (муж.)","47",0,null,null,null,null,null,null,null,null,null,null,null,null,null,null,{"$f":"Раздел2!C55","v":0},{"$f":"Раздел2!F55","v":0}]
[null,"Пляжный волейбол (жен.)","48",0,null,null,null,null,null,null,null,null,null,null,null,null,null,null,{"$f":"Раздел2!C56","v":0},{"$f":"Раздел2!F56","v":0}]
[null,"Восточное боевое единоборство","49",0,null,null,null,null,null,null,null,null,null,null,null,null,null,null,{"$f":"Раздел2!C57","v":0},{"$f":"Раздел2!F57","v":0}]
[null,"Всестилевое каратэ","50",0,null,null,null,null,null,null,null,null,null,null,null,null,null,null,{"$f":"Раздел2!C58","v":0},{"$f":"Раздел2!F58","v":0}]
[null,"Гандбол - всего","51",0,{"$f":"SUM(E60:E62)","v":0},{"$f":"SUM(F60:F62)","v":0},0,0,0,0,0,0,0,0,0,0,null,null,{"$f":"Раздел2!C59","v":0},{"$f":"Раздел2!F59","v":0}]
[null,"в том числе:\nГандбол (муж.)","52",0,null,null,null,null,null,null,null,null,null,null,null,null,null,null,{"$f":"Раздел2!C60","v":0},{"$f":"Раздел2!F60","v":0}]
[null,"Гандбол (жен.)","53",0,null,null,null,null,null,null,null,null,null,null,null,null,null,null,{"$f":"Раздел2!C61","v":0},{"$f":"Раздел2!F61","v":0}]
[null,"Пляжный гандбол","54",0,null,null,null,null,null,null,null,null,null,null,null,null,null,null,{"$f":"Раздел2!C62","v":0},{"$f":"Раздел2!F62","v":0}]
[null,"Гиревой спорт","55",0,null,null,null,null,null,null,null,null,null,null,null,null,null,null,{"$f":"Раздел2!C63","v":0},{"$f":"Раздел2!F63","v":0}]
[null,"Го","56",0,null,null,null,null,null,null,null,null,null,null,null,null,null,null,{"$f":"Раздел2!C64","v":0},{"$f":"Раздел2!F64","v":0}]
[null,"Гольф","57",0,null,null,null,null,null,null,null,null,null,null,null,null,null,null,{"$f":"Раздел2!C65","v":0},{"$f":"Раздел2!F65","v":0}]
[null,"Гонки на охотничьих лыжах","58",0,null,null,null,null,null,null,null,null,null,null,null,null,null,null,{"$f":"Раздел2!C66","v":0},{"$f":"Раздел2!F66","v":0}]
[null,"Гонки с препятствиями","59",0,null,null,null,null,null,null,null,null,null,null,null,null,null,null,{"$f":"Раздел2!C67","v":0},{"$f":"Раздел2!F67","v":0}]
[null,"Горнолыжный спорт","60",0,null,null,null,null,null,null,null,null,null,null,null,null,null,null,{"$f":"Раздел2!C68","v":0},{"$f":"Раздел2!F68","v":0}]
[null,"Городошный спорт","61",0,null,null,null,null,null,null,null,null,null,null,null,null,null,null,{"$f":"Раздел2!C69","v":0},{"$f":"Раздел2!F69","v":0}]
[null,"Гребля на байдарках и каноэ","62",0,null,null,null,null,null,null,null,null,null,null,null,null,null,null,{"$f":"Раздел2!C70","v":0},{"$f":"Раздел2!F70","v":0}]
[null,"Гребля на шлюпках","63",0,null,null,null,null,null,null,null,null,null,null,null,null,null,null,{"$f":"Раздел2!C71","v":0},{"$f":"Раздел2!F71","v":0}]
[null,"Гребной слалом","64",0,null,null,null,null,null,null,null,null,null,null,null,null,null,null,{"$f":"Раздел2!C72","v":0},{"$f":"Раздел2!F72","v":0}]
[null,"Гребной спорт - всего","65",0,{"$f":"SUM(E74:E77)","v":0},{"$f":"SUM(F74:F77)","v":0},0,0,0,0,0,0,0,0,0,0,null,null,{"$f":"Раздел2!C73","v":0},{"$f":"Раздел2!F73","v":0}]
[null,"в том числе:\nАкадемическая гребля","66",{"$f":"SUM(E74:J74)","v":0},null,null,null,null,null,null,null,null,null,null,null,null,null,null,{"$f":"Раздел2!C74","v":0},{"$f":"Раздел2!F74","v":0}]
[null,"Гребля-индор","67",0,null,null,null,null,null,null,null,null,null,null,null,null,null,null,{"$f":"Раздел2!C75","v":0},{"$f":"Раздел2!F75","v":0}]
[null,"Народная гребля","68",0,null,null,null,null,null,null,null,null,null,null,null,null,null,null,{"$f":"Раздел2!C76","v":0},{"$f":"Раздел2!F76","v":0}]
[null,"Прибрежная гребля","69",0,null,null,null,null,null,null,null,null,null,null,null,null,null,null,{"$f":"Раздел2!C77","v":0},{"$f":"Раздел2!F77","v":0}]
[null,"Гребно-парусное двоеборье","70",0,null,null,null,null,null,null,null,null,null,null,null,null,null,null,{"$f":"Раздел2!C78","v":0},{"$f":"Раздел2!F78","v":0}]
[null,"Дартс","71",0,null,null,null,null,null,null,null,null,null,null,null,null,null,null,{"$f":"Раздел2!C79","v":0},{"$f":"Раздел2!F79","v":0}]
[null,"Джиу-джитсу","72",0,null,null,null,null,null,null,null,null,null,null,null,null,null,null,{"$f":"Раздел2!C80","v":0},{"$f":"Раздел2!F80","v":0}]
[null,"Дзюдо","73",0,null,null,null,null,null,null,null,null,null,null,null,null,null,null,{"$f":"Раздел2!C81","v":0},{"$f":"Раздел2!F81","v":0}]
[null,"Ездовой спорт","74",0,null,null,null,null,null,null,null,null,null,null,null,null,null,null,{"$f":"Раздел2!C82","v":0},{"$f":"Раздел2!F82","v":0}]
[null,"Капоэйра","75",0,null,null,null,null,null,null,null,null,null,null,null,null,null,null,{"$f":"Раздел2!C83","v":0},{"$f":"Раздел2!F83","v":0}]
[null,"Каратэ","76",0,null,null,null,null,null,null,null,null,null,null,null,null,null,null,{"$f":"Раздел2!C84","v":0},{"$f":"Раздел2!F84","v":0}]
[null,"Кендо","77",0,null,null,null,null,null,null,null,null,null,null,null,null,null,null,{"$f":"Раздел2!C85","v":0},{"$f":"Раздел2!F85","v":0}]
[null,"Керешу","78",0,null,null,null,null,null,null,null,null,null,null,null,null,null,null,{"$f":"Раздел2!C86","v":0},{"$f":"Раздел2!F86","v":0}]
[null,"Кёрлинг - всего","79",0,{"$f":"SUM(E88:E90)","v":0},{"$f":"SUM(F88:F90)","v":0},0,0,0,0,0,0,0,0,0,0,null,null,{"$f":"Раздел2!C87","v":0},{"$f":"Раздел2!F87","v":0}]
[null,"в том числе:\nКерлинг (муж.)","80",0,null,null,null,null,null,null,null,null,null,null,null,null,null,null,{"$f":"Раздел2!C88","v":0},{"$f":"Раздел2!F88","v":0}]
[null,"Керлинг (жен.)","81",0,null,null,null,null,null,null,null,null,null,null,null,null,null,null,{"$f":"Раздел2!C89","v":0},{"$f":"Раздел2!F89","v":0}]
[null,"Кёрлинг – смешанные пары","82",0,null,null,null,null,null,null,null,null,null,null,null,null,null,null,{"$f":"Раздел2!C90","v":0},{"$f":"Раздел2!F90","v":0}]
[null,"Кикбоксинг","83",0,null,null,null,null,null,null,null,null,null,null,null,null,null,null,{"$f":"Раздел2!C91","v":0},{"$f":"Раздел2!F91","v":0}]
[null,"Кинологический спорт","84",0,null,null,null,null,null,null,null,null,null,null,null,null,null,null,{"$f":"Раздел2!C92","v":0},{"$f":"Раздел2!F92","v":0}]
[null,"Киокусинкай","85",0,null,null,null,null,null,null,null,null,null,null,null,null,null,null,{"$f":"Раздел2!C93","v":0},{"$f":"Раздел2!F93","v":0}]
[null,"Комплексное единоборство","86",0,null,null,null,null,null,null,null,null,null,null,null,null,null,null,{"$f":"Раздел2!C94","v":0},{"$f":"Раздел2!F94","v":0}]
[null,"Компьютерный спорт","87",0,null,null,null,null,null,null,null,null,null,null,null,null,null,null,{"$f":"Раздел2!C95","v":0},{"$f":"Раздел2!F95","v":0}]
[null,"Конный спорт","88",0,null,null,null,null,null,null,null,null,null,null,null,null,null,null,{"$f":"Раздел2!C96","v":0},{"$f":"Раздел2!F96","v":0}]
[null,"Конькобежный спорт - всего","89",0,{"$f":"SUM(E98:E99)","v":0},{"$f":"SUM(F98:F99)","v":0},0,0,0,0,0,0,0,0,0,0,null,null,{"$f":"Раздел2!C97","v":0},{"$f":"Раздел2!F97","v":0}]
[null,"в том числе:\nКонькобежный спорт","90",0,null,null,null,null,null,null,null,null,null,null,null,null,null,null,{"$f":"Раздел2!C98","v":0},{"$f":"Раздел2!F98","v":0}]
[null,"Шорт-трек","91",0,null,null,null,null,null,null,null,null,null,null,null,null,null,null,{"$f":"Раздел2!C99","v":0},{"$f":"Раздел2!F99","v":0}]
[null,"Корэш","92",0,null,null,null,null,null,null,null,null,null,null,null,null,null,null,{"$f":"Раздел2!C100","v":0},{"$f":"Раздел2!F100","v":0}]
[null,"Корфбол","93",0,null,null,null,null,null,null,null,null,null,null,null,null,null,null,{"$f":"Раздел2!C101","v":0},{"$f":"Раздел2!F101","v":0}]
[null,"Крикет","94",0,null,null,null,null,null,null,null,null,null,null,null,null,null,null,{"$f":"Раздел2!C102","v":0},{"$f":"Раздел2!F102","v":0}]
[null,"Кудо","95",0,null,null,null,null,null,null,null,null,null,null,null,null,null,null,{"$f":"Раздел2!C103","v":0},{"$f":"Раздел2!F103","v":0}]
[null,"Лапта","96",0,null,null,null,null,null,null,null,null,null,null,null,null,null,null,{"$f":"Раздел2!C104","v":0},{"$f":"Раздел2!F104","v":0}]
[null,"Легкая атлетика - всего","97",0,{"$f":"SUM(E106:E112)","v":0},{"$f":"SUM(F106:F112)","v":0},0,0,0,0,0,0,0,0,0,0,null,null,{"$f":"Раздел2!C105","v":0},{"$f":"Раздел2!F105","v":0}]
[null,"в том числе:\nСпринтерский и барьерный бег","98",0,null,null,null,null,null,null,null,null,null,null,null,null,null,null,{"$f":"Раздел2!C106","v":0},{"$f":"Раздел2!F106","v":0}]
[null,"Бег на средние дистанции и бег с препятствиями","99",0,null,null,null,null,null,null,null,null,null,null,null,null,null,null,{"$f":"Раздел2!C107","v":0},{"$f":"Раздел2!F107","v":0}]
[null,"Бег на длинные и сверхдлинные дистанции","100",0,null,null,null,null,null,null,null,null,null,null,null,null,null,null,{"$f":"Раздел2!C108","v":0},{"$f":"Раздел2!F108","v":0}]
[null,"Многоборья","101",0,null,null,null,null,null,null,null,null,null,null,null,null,null,null,{"$f":"Раздел2!C109","v":0},{"$f":"Раздел2!F109","v":0}]
[null,"Прыжки","102",0,null,null,null,null,null,null,null,null,null,null,null,null,null,null,{"$f":"Раздел2!C110","v":0},{"$f":"Раздел2!F110","v":0}]
[null,"Метания","103",0,null,null,null,null,null,null,null,null,null,null,null,null,null,null,{"$f":"Раздел2!C111","v":0},{"$f":"Раздел2!F111","v":0}]
[null,"Спортивная ходьба","104",0,null,null,null,null,null,null,null,null,null,null,null,null,null,null,{"$f":"Раздел2!C112","v":0},{"$f":"Раздел2!F112","v":0}]
[null,"Лыжное двоеборье","105",0,null,null,null,null,null,null,null,null,null,null,null,null,null,null,{"$f":"Раздел2!C113","v":0},{"$f":"Раздел2!F113","v":0}]
[null,"Лыжные гонки","106",0,null,null,null,null,null,null,null,null,null,null,null,null,null,null,{"$f":"Раздел2!C114","v":1},{"$f":"Раздел2!F114","v":106}]
[null,"Мас-рестлинг","107",0,null,null,null,null,null,null,null,null,null,null,null,null,null,null,{"$f":"Раздел2!C115","v":0},{"$f":"Раздел2!F115","v":0}]
[null,"Международное военно-спортивное многоборье","108",0,null,null,null,null,null,null,null,null,null,null,null,null,null,null,{"$f":"Раздел2!C116","v":0},{"$f":"Раздел2!F116","v":0}]
[null,"Многоборье кинологов","109",0,null,null,null,null,null,null,null,null,null,null,null,null,null,null,{"$f":"Раздел2!C117","v":0},{"$f":"Раздел2!F117","v":0}]
[null,"Многоборье спасателей МЧС России","110",0,null,null,null,null,null,null,null,null,null,null,null,null,null,null,{"$f":"Раздел2!C118","v":0},{"$f":"Раздел2!F118","v":0}]
[null,"Морское многоборье","111",0,null,null,null,null,null,null,null,null,null,null,null,null,null,null,{"$f":"Раздел2!C119","v":0},{"$f":"Раздел2!F119","v":0}]
[null,"Мотоциклетный спорт","112",0,null,null,null,null,null,null,null,null,null,null,null,null,null,null,{"$f":"Раздел2!C120","v":0},{"$f":"Раздел2!F120","v":0}]
[null,"Настольный теннис","113",0,null,null,null,null,null,null,null,null,null,null,null,null,null,null,{"$f":"Раздел2!C121","v":0},{"$f":"Раздел2!F121","v":0}]
[null,"Падел","114",0,null,null,null,null,null,null,null,null,null,null,null,null,null,null,{"$f":"Раздел2!C122","v":0},{"$f":"Раздел2!F122","v":0}]
[null,"Парашютный спорт","115",0,null,null,null,null,null,null,null,null,null,null,null,null,null,null,{"$f":"Раздел2!C123","v":0},{"$f":"Раздел2!F123","v":0}]
[null,"Парусный спорт","116",0,null,null,null,null,null,null,null,null,null,null,null,null,null,null,{"$f":"Раздел2!C124","v":0},{"$f":"Раздел2!F124","v":0}]
[null,"Пауэрлифтинг","117",3,3,null,null,null,null,null,2,null,null,null,null,null,null,null,{"$f":"Раздел2!C125","v":1},{"$f":"Раздел2!F125","v":110}]
[null,"Перетягивание каната","118",0,null,null,null,null,null,null,null,null,null,null,null,null,null,null,{"$f":"Раздел2!C126","v":0},{"$f":"Раздел2!F126","v":0}]
[null,"Плавание - всего","119",0,{"$f":"SUM(E128:E129)","v":0},{"$f":"SUM(F128:F129)","v":0},0,0,0,0,0,0,0,0,0,0,null,null,{"$f":"Раздел2!C127","v":0},{"$f":"Раздел2!F127","v":0}]
[null,"в том числе:\nПлавание ","120",0,null,null,null,null,null,null,null,null,null,null,null,null,null,null,{"$f":"Раздел2!C128","v":0},{"$f":"Раздел2!F128","v":0}]
[null,"Открытая вода","121",0,null,null,null,null,null,null,null,null,null,null,null,null,null,null,{"$f":"Раздел2!C129","v":0},{"$f":"Раздел2!F129","v":0}]
[null,"Планерный спорт","122",0,null,null,null,null,null,null,null,null,null,null,null,null,null,null,{"$f":"Раздел2!C130","v":0},{"$f":"Раздел2!F130","v":0}]
[null,"Подводный спорт","123",0,null,null,null,null,null,null,null,null,null,null,null,null,null,null,{"$f":"Раздел2!C131","v":0},{"$f":"Раздел2!F131","v":0}]
[null,"Пожарно-спасательный спорт","124",0,null,null,null,null,null,null,null,null,null,null,null,null,null,null,{"$f":"Раздел2!C132","v":0},{"$f":"Раздел2!F132","v":0}]
[null,"Полиатлон","125",0,null,null,null,null,null,null,null,null,null,null,null,null,null,null,{"$f":"Раздел2!C133","v":0},{"$f":"Раздел2!F133","v":0}]
[null,"Практическая стрельба","126",0,null,null,null,null,null,null,null,null,null,null,null,null,null,null,{"$f":"Раздел2!C134","v":0},{"$f":"Раздел2!F134","v":0}]
[null,"Прыжки в воду - всего","127",0,{"$f":"SUM(E136:E137)","v":0},{"$f":"SUM(F136:F137)","v":0},0,0,0,0,0,0,0,0,0,0,null,null,{"$f":"Раздел2!C135","v":0},{"$f":"Раздел2!F135","v":0}]
[null,"в том числе:\nПрыжки в воду","128",0,null,null,null,null,null,null,null,null,null,null,null,null,null,null,{"$f":"Раздел2!C136","v":0},{"$f":"Раздел2!F136","v":0}]
[null,"Прыжки в открытый водоем","129",0,null,null,null,null,null,null,null,null,null,null,null,null,null,null,{"$f":"Раздел2!C137","v":0},{"$f":"Раздел2!F137","v":0}]
[null,"Прыжки на батуте - всего","130",{"$f":"SUM(E138:J138)","v":0},{"$f":"SUM(E139:E142)","v":0},{"$f":"SUM(F139:F142)","v":0},0,0,0,0,0,0,0,0,0,0,null,null,{"$f":"Раздел2!C138","v":0},{"$f":"Раздел2!F138","v":0}]
[null,"в том числе:\nАкробатическая дорожка","131",0,null,null,null,null,null,null,null,null,null,null,null,null,null,null,{"$f":"Раздел2!C139","v":0},{"$f":"Раздел2!F139","v":0}]
[null,"Двойной минитрамп","132",0,null,null,null,null,null,null,null,null,null,null,null,null,null,null,{"$f":"Раздел2!C140","v":0},{"$f":"Раздел2!F140","v":0}]
[null,"Индивидуальные прыжки","133",0,null,null,null,null,null,null,null,null,null,null,null,null,null,null,{"$f":"Раздел2!C141","v":0},{"$f":"Раздел2!F141","v":0}]
[null,"Синхронные прыжки","134",0,null,null,null,null,null,null,null,null,null,null,null,null,null,null,{"$f":"Раздел2!C142","v":0},{"$f":"Раздел2!F142","v":0}]
[null,"Прыжки на лыжах с трамплина","135",0,null,null,null,null,null,null,null,null,null,null,null,null,null,null,{"$f":"Раздел2!C143","v":0},{"$f":"Раздел2!F143","v":0}]
[null,"Пулевая стрельба - всего","136",0,{"$f":"SUM(E145:E149)","v":0},{"$f":"SUM(F145:F149)","v":0},0,0,0,0,0,0,0,0,0,0,null,null,{"$f":"Раздел2!C144","v":0},{"$f":"Раздел2!F144","v":0}]
[null,"в том числе:\nПневматическая винтовка","137",0,null,null,null,null,null,null,null,null,null,null,null,null,null,null,{"$f":"Раздел2!C145","v":0},{"$f":"Раздел2!F145","v":0}]
[null,"Пневматический пистолет","138",0,null,null,null,null,null,null,null,null,null,null,null,null,null,null,{"$f":"Раздел2!C146","v":0},{"$f":"Раздел2!F146","v":0}]
[null,"Малокалиберная винтовка","139",0,null,null,null,null,null,null,null,null,null,null,null,null,null,null,{"$f":"Раздел2!C147","v":0},{"$f":"Раздел2!F147","v":0}]
[null,"Малокалиберный пистолет","140",0,null,null,null,null,null,null,null,null,null,null,null,null,null,null,{"$f":"Раздел2!C148","v":0},{"$f":"Раздел2!F148","v":0}]
[null,"Движущаяся мишень","141",0,null,null,null,null,null,null,null,null,null,null,null,null,null,null,{"$f":"Раздел2!C149","v":0},{"$f":"Раздел2!F149","v":0}]
[null,"Пэйнтбол","142",0,null,null,null,null,null,null,null,null,null,null,null,null,null,null,{"$f":"Раздел2!C150","v":0},{"$f":"Раздел2!F150","v":0}]
[null,"Радиоспорт","143",0,null,null,null,null,null,null,null,null,null,null,null,null,null,null,{"$f":"Раздел2!C151","v":0},{"$f":"Раздел2!F151","v":0}]
[null,"Рафтинг","144",0,null,null,null,null,null,null,null,null,null,null,null,null,null,null,{"$f":"Раздел2!C152","v":0},{"$f":"Раздел2!F152","v":0}]
[null,"Регби - всего","145",0,{"$f":"SUM(E154:E158)","v":0},{"$f":"SUM(F154:F158)","v":0},0,0,0,0,0,0,0,0,0,0,null,null,{"$f":"Раздел2!C153","v":0},{"$f":"Раздел2!F153","v":0}]
[null,"в том числе:\nРегби","146",0,null,null,null,null,null,null,null,null,null,null,null,null,null,null,{"$f":"Раздел2!C154","v":0},{"$f":"Раздел2!F154","v":0}]
[null,"Регби 7 (муж.)","147",0,null,null,null,null,null,null,null,null,null,null,null,null,null,null,{"$f":"Раздел2!C155","v":0},{"$f":"Раздел2!F155","v":0}]
[null,"Регби 7 (жен.)","148",0,null,null,null,null,null,null,null,null,null,null,null,null,null,null,{"$f":"Раздел2!C156","v":0},{"$f":"Раздел2!F156","v":0}]
[null,"Регби - пляжное","149",0,null,null,null,null,null,null,null,null,null,null,null,null,null,null,{"$f":"Раздел2!C157","v":0},{"$f":"Раздел2!F157","v":0}]
[null,"Регби на снегу","150",0,null,null,null,null,null,null,null,null,null,null,null,null,null,null,{"$f":"Раздел2!C158","v":0},{"$f":"Раздел2!F158","v":0}]
[null,"Регбол","151",0,null,null,null,null,null,null,null,null,null,null,null,null,null,null,{"$f":"Раздел2!C159","v":0},{"$f":"Раздел2!F159","v":0}]
[null,"Роллер спорт","152",0,null,null,null,null,null,null,null,null,null,null,null,null,null,null,{"$f":"Раздел2!C160","v":0},{"$f":"Раздел2!F160","v":0}]
[null,"Роуп скиппинг (спортивная скакалка)","153",0,null,null,null,null,null,null,null,null,null,null,null,null,null,null,{"$f":"Раздел2!C161","v":0},{"$f":"Раздел2!F161","v":0}]
[null,"Рукопашный бой","154",0,null,null,null,null,null,null,null,null,null,null,null,null,null,null,{"$f":"Раздел2!C162","v":1},{"$f":"Раздел2!F162","v":72}]
[null,"Рыболовный спорт","155",0,null,null,null,null,null,null,null,null,null,null,null,null,null,null,{"$f":"Раздел2!C163","v":0},{"$f":"Раздел2!F163","v":0}]
[null,"Сават","156",0,null,null,null,null,null,null,null,null,null,null,null,null,null,null,{"$f":"Раздел2!C164","v":0},{"$f":"Раздел2!F164","v":0}]
[null,"Самбо","157",0,null,null,null,null,null,null,null,null,null,null,null,null,null,null,{"$f":"Раздел2!C165","v":0},{"$f":"Раздел2!F165","v":0}]
[null,"Самолетный спорт","158",0,null,null,null,null,null,null,null,null,null,null,null,null,null,null,{"$f":"Раздел2!C166","v":0},{"$f":"Раздел2!F166","v":0}]
[null,"Санный спорт","159",0,null,null,null,null,null,null,null,null,null,null,null,null,null,null,{"$f":"Раздел2!C167","v":0},{"$f":"Раздел2!F167","v":0}]
[null,"Северное многоборье","160",0,null,null,null,null,null,null,null,null,null,null,null,null,null,null,{"$f":"Раздел2!C168","v":0},{"$f":"Раздел2!F168","v":0}]
[null,"Серфинг","161",0,null,null,null,null,null,null,null,null,null,null,null,null,null,null,{"$f":"Раздел2!C169","v":0},{"$f":"Раздел2!F169","v":0}]
[null,"Силовой экстрим","162",0,null,null,null,null,null,null,null,null,null,null,null,null,null,null,{"$f":"Раздел2!C170","v":0},{"$f":"Раздел2!F170","v":0}]
[null,"Синхронное плавание","163",0,null,null,null,null,null,null,null,null,null,null,null,null,null,null,{"$f":"Раздел2!C171","v":0},{"$f":"Раздел2!F171","v":0}]
[null,"Скалолазание","164",0,null,null,null,null,null,null,null,null,null,null,null,null,null,null,{"$f":"Раздел2!C172","v":0},{"$f":"Раздел2!F172","v":0}]
[null,"Сквош","165",0,null,null,null,null,null,null,null,null,null,null,null,null,null,null,{"$f":"Раздел2!C173","v":0},{"$f":"Раздел2!F173","v":0}]
[null,"Скейтбординг","166",0,null,null,null,null,null,null,null,null,null,null,null,null,null,null,{"$f":"Раздел2!C174","v":0},{"$f":"Раздел2!F174","v":0}]
[null,"Служебно-боевая стрельба ","167",0,null,null,null,null,null,null,null,null,null,null,null,null,null,null,{"$f":"Раздел2!C175","v":0},{"$f":"Раздел2!F175","v":0}]
[null,"Служебно-прикладной спорт","168",0,null,null,null,null,null,null,null,null,null,null,null,null,null,null,{"$f":"Раздел2!C176","v":0},{"$f":"Раздел2!F176","v":0}]
[null,"Служебно-прикладной спорт ФСО России","169",0,null,null,null,null,null,null,null,null,null,null,null,null,null,null,{"$f":"Раздел2!C177","v":0},{"$f":"Раздел2!F177","v":0}]
[null,"Служебно-прикладной спорт ФТС России","170",0,null,null,null,null,null,null,null,null,null,null,null,null,null,null,{"$f":"Раздел2!C178","v":0},{"$f":"Раздел2!F178","v":0}]
[null,"Служебное двоеборье","171",0,null,null,null,null,null,null,null,null,null,null,null,null,null,null,{"$f":"Раздел2!C179","v":0},{"$f":"Раздел2!F179","v":0}]
[null,"Служебное единоборство","172",0,null,null,null,null,null,null,null,null,null,null,null,null,null,null,{"$f":"Раздел2!C180","v":0},{"$f":"Раздел2!F180","v":0}]
[null,"Служебное многоборье","173",0,null,null,null,null,null,null,null,null,null,null,null,null,null,null,{"$f":"Раздел2!C181","v":0},{"$f":"Раздел2!F181","v":0}]
[null,"Служебный биатлон","174",0,null,null,null,null,null,null,null,null,null,null,null,null,null,null,{"$f":"Раздел2!C182","v":0},{"$f":"Раздел2!F182","v":0}]
[null,"Спасательный спорт","175",0,null,null,null,null,null,null,null,null,null,null,null,null,null,null,{"$f":"Раздел2!C183","v":0},{"$f":"Раздел2!F183","v":0}]
[null,"Стрельба из боевого ручного стрелкового оружия","176",0,null,null,null,null,null,null,null,null,null,null,null,null,null,null,{"$f":"Раздел2!C184","v":0},{"$f":"Раздел2!F184","v":0}]
[null,"Стрельба из штатного или табельного оружия","177",0,null,null,null,null,null,null,null,null,null,null,null,null,null,null,{"$f":"Раздел2!C185","v":0},{"$f":"Раздел2!F185","v":0}]
[null,"Смешанное боевое единоборство (ММА)","178",0,null,null,null,null,null,null,null,null,null,null,null,null,null,null,{"$f":"Раздел2!C186","v":0},{"$f":"Раздел2!F186","v":0}]
[null,"Сноуборд","179",0,null,null,null,null,null,null,null,null,null,null,null,null,null,null,{"$f":"Раздел2!C187","v":0},{"$f":"Раздел2!F187","v":0}]
[null,"Современное пятиборье","180",0,null,null,null,null,null,null,null,null,null,null,null,null,null,null,{"$f":"Раздел2!C188","v":0},{"$f":"Раздел2!F188","v":0}]
[null,"Софтбол","181",0,null,null,null,null,null,null,null,null,null,null,null,null,null,null,{"$f":"Раздел2!C189","v":0},{"$f":"Раздел2!F189","v":0}]
[null,"Спорт сверхлегкой авиации","182",0,null,null,null,null,null,null,null,null,null,null,null,null,null,null,{"$f":"Раздел2!C190","v":0},{"$f":"Раздел2!F190","v":0}]
[null,"Спортивная акробатика","183",0,null,null,null,null,null,null,null,null,null,null,null,null,null,null,{"$f":"Раздел2!C191","v":0},{"$f":"Раздел2!F191","v":0}]
[null,"Спортивная аэробика","184",0,null,null,null,null,null,null,null,null,null,null,null,null,null,null,{"$f":"Раздел2!C192","v":0},{"$f":"Раздел2!F192","v":0}]
[null,"Спортивная борьба - всего","185",0,{"$f":"SUM(E194:E198)","v":0},{"$f":"SUM(F194:F198)","v":0},0,0,0,0,0,0,0,0,0,0,null,null,{"$f":"Раздел2!C193","v":0},{"$f":"Раздел2!F193","v":0}]
[null,"в том числе:\nВольная борьба","186",0,null,null,null,null,null,null,null,null,null,null,null,null,null,null,{"$f":"Раздел2!C194","v":0},{"$f":"Раздел2!F194","v":0}]
[null,"Греко-римская борьба","187",0,null,null,null,null,null,null,null,null,null,null,null,null,null,null,{"$f":"Раздел2!C195","v":0},{"$f":"Раздел2!F195","v":0}]
[null,"Грэпплинг","188",0,null,null,null,null,null,null,null,null,null,null,null,null,null,null,{"$f":"Раздел2!C196","v":0},{"$f":"Раздел2!F196","v":0}]
[null,"Грэпплинг-ги","189",0,null,null,null,null,null,null,null,null,null,null,null,null,null,null,{"$f":"Раздел2!C197","v":0},{"$f":"Раздел2!F197","v":0}]
[null,"Панкратион","190",0,null,null,null,null,null,null,null,null,null,null,null,null,null,null,{"$f":"Раздел2!C198","v":0},{"$f":"Раздел2!F198","v":0}]
[null,"Спортивная гимнастика","191",0,null,null,null,null,null,null,null,null,null,null,null,null,null,null,{"$f":"Раздел2!C199","v":0},{"$f":"Раздел2!F199","v":0}]
[null,"Спортивная йога","192",0,null,null,null,null,null,null,null,null,null,null,null,null,null,null,{"$f":"Раздел2!C200","v":0},{"$f":"Раздел2!F200","v":0}]
[null,"Спортивно-прикладное собаководство","193",0,null,null,null,null,null,null,null,null,null,null,null,null,null,null,{"$f":"Раздел2!C201","v":0},{"$f":"Раздел2!F201","v":0}]
[null,"Спортивное метание ножа","194",{"$f":"SUM(E202:J202)","v":0},null,null,null,null,null,null,null,null,null,null,null,null,null,null,{"$f":"Раздел2!C202","v":0},{"$f":"Раздел2!F202","v":0}]
[null,"Спортивное ориентирование","195",0,null,null,null,null,null,null,null,null,null,null,null,null,null,null,{"$f":"Раздел2!C203","v":0},{"$f":"Раздел2!F203","v":0}]
[null,"Спортивный бридж","196",0,null,null,null,null,null,null,null,null,null,null,null,null,null,null,{"$f":"Раздел2!C204","v":0},{"$f":"Раздел2!F204","v":0}]
[null,"Спортивный туризм","197",0,null,null,null,null,null,null,null,null,null,null,null,null,null,null,{"$f":"Раздел2!C205","v":0},{"$f":"Раздел2!F205","v":0}]
[null,"Стендовая стрельба - всего","198",0,{"$f":"SUM(E207:E210)","v":0},{"$f":"SUM(F207:F210)","v":0},0,0,0,0,0,0,0,0,0,0,null,null,{"$f":"Раздел2!C206","v":0},{"$f":"Раздел2!F206","v":0}]
[null,"в том числе:\nТрап","199",0,null,null,null,null,null,null,null,null,null,null,null,null,null,null,{"$f":"Раздел2!C207","v":0},{"$f":"Раздел2!F207","v":0}]
[null,"Скит","200",0,null,null,null,null,null,null,null,null,null,null,null,null,null,null,{"$f":"Раздел2!C208","v":0},{"$f":"Раздел2!F208","v":0}]
[null,"Дубль-трап","201",0,null,null,null,null,null,null,null,null,null,null,null,null,null,null,{"$f":"Раздел2!C209","v":0},{"$f":"Раздел2!F209","v":0}]
[null,"Спортинг","202",0,null,null,null,null,null,null,null,null,null,null,null,null,null,null,{"$f":"Раздел2!C210","v":0},{"$f":"Раздел2!F210","v":0}]
[null,"Страйкбол","203",0,null,null,null,null,null,null,null,null,null,null,null,null,null,null,{"$f":"Раздел2!C211","v":0},{"$f":"Раздел2!F211","v":0}]
[null,"Стрельба из арбалета","204",0,null,null,null,null,null,null,null,null,null,null,null,null,null,null,{"$f":"Раздел2!C212","v":0},{"$f":"Раздел2!F212","v":0}]
[null,"Стрельба из лука - всего","205",0,{"$f":"SUM(E214:E216)","v":0},{"$f":"SUM(F214:F216)","v":0},0,0,0,0,0,0,0,0,0,{"$f":"SUM(P214:P216)","v":0},null,null,{"$f":"Раздел2!C213","v":0},{"$f":"Раздел2!F213","v":0}]
[null,"в том числе:\nКлассический лук","206",0,null,null,null,null,null,null,null,null,null,null,null,null,null,null,{"$f":"Раздел2!C214","v":0},{"$f":"Раздел2!F214","v":0}]
[null,"   Блочный лук","207",0,null,null,null,null,null,null,null,null,null,null,null,null,null,null,{"$f":"Раздел2!C215","v":0},{"$f":"Раздел2!F215","v":0}]
[null,"   Ачери ","208",0,null,null,null,null,null,null,null,null,null,null,null,null,null,null,{"$f":"Раздел2!C216","v":0},{"$f":"Раздел2!F216","v":0}]
[null,"Судомодельный спорт","209",0,null,null,null,null,null,null,null,null,null,null,null,null,null,null,{"$f":"Раздел2!C217","v":0},{"$f":"Раздел2!F217","v":0}]
[null,"Сумо","210",0,null,null,null,null,null,null,null,null,null,null,null,null,null,null,{"$f":"Раздел2!C218","v":0},{"$f":"Раздел2!F218","v":0}]
[null,"Таврели","211",0,null,null,null,null,null,null,null,null,null,null,null,null,null,null,{"$f":"Раздел2!C219","v":0},{"$f":"Раздел2!F219","v":0}]
[null,"Тайский бокс","212",0,null,null,null,null,null,null,null,null,null,null,null,null,null,null,{"$f":"Раздел2!C220","v":0},{"$f":"Раздел2!F220","v":0}]
[null,"Танцевальный спорт","213",0,null,null,null,null,null,null,null,null,null,null,null,null,null,null,{"$f":"Раздел2!C221","v":0},{"$f":"Раздел2!F221","v":0}]
[null,"Теннис","214",0,null,null,null,null,null,null,null,null,null,null,null,null,null,null,{"$f":"Раздел2!C222","v":0},{"$f":"Раздел2!F222","v":0}]
[null,"Триатлон","215",0,null,null,null,null,null,null,null,null,null,null,null,null,null,null,{"$f":"Раздел2!C223","v":0},{"$f":"Раздел2!F223","v":0}]
[null,"Тхэквондо (ВТФ)","216",0,null,null,null,null,null,null,null,null,null,null,null,null,null,null,{"$f":"Раздел2!C224","v":0},{"$f":"Раздел2!F224","v":0}]
[null,"Тхэквондо ГТФ","217",0,null,null,null,null,null,null,null,null,null,null,null,null,null,null,{"$f":"Раздел2!C225","v":0},{"$f":"Раздел2!F225","v":0}]
[null,"Тхэквондо ИТФ","218",0,null,null,null,null,null,null,null,null,null,null,null,null,null,null,{"$f":"Раздел2!C226","v":0},{"$f":"Раздел2!F226","v":0}]
[null,"Тхэквондо МФТ","219",0,null,null,null,null,null,null,null,null,null,null,null,null,null,null,{"$f":"Раздел2!C227","v":0},{"$f":"Раздел2!F227","v":0}]
[null,"Тяжелая атлетика","220",0,null,null,null,null,null,null,null,null,null,null,null,null,null,null,{"$f":"Раздел2!C228","v":0},{"$f":"Раздел2!F228","v":0}]
[null,"Универсальный бой","221",0,null,null,null,null,null,null,null,null,null,null,null,null,null,null,{"$f":"Раздел2!C229","v":0},{"$f":"Раздел2!F229","v":0}]
[null,"Ушу","222",0,null,null,null,null,null,null,null,null,null,null,null,null,null,null,{"$f":"Раздел2!C230","v":0},{"$f":"Раздел2!F230","v":0}]
[null,"Фехтование - всего","223",0,{"$f":"SUM(E232:E235)","v":0},{"$f":"SUM(F232:F235)","v":0},0,0,0,0,0,0,0,0,0,0,null,null,{"$f":"Раздел2!C231","v":0},{"$f":"Раздел2!F231","v":0}]
[null,"в том числе:\nРапира","224",0,null,null,null,null,null,null,null,null,null,null,null,null,null,null,{"$f":"Раздел2!C232","v":0},{"$f":"Раздел2!F232","v":0}]
[null,"Сабля","225",0,null,null,null,null,null,null,null,null,null,null,null,null,null,null,{"$f":"Раздел2!C233","v":0},{"$f":"Раздел2!F233","v":0}]
[null,"Шпага","226",0,null,null,null,null,null,null,null,null,null,null,null,null,null,null,{"$f":"Раздел2!C234","v":0},{"$f":"Раздел2!F234","v":0}]
[null,"Арт-фехтование","227",0,null,null,null,null,null,null,null,null,null,null,null,null,null,null,{"$f":"Раздел2!C235","v":0},{"$f":"Раздел2!F235","v":0}]
[null,"Фигурное катание на коньках","228",0,null,null,null,null,null,null,null,null,null,null,null,null,null,null,{"$f":"Раздел2!C236","v":0},{"$f":"Раздел2!F236","v":0}]
[null,"Фитнес-аэробика","229",0,null,null,null,null,null,null,null,null,null,null,null,null,null,null,{"$f":"Раздел2!C237","v":1},{"$f":"Раздел2!F237","v":50}]
[null,"Флаинг диск","230",0,null,null,null,null,null,null,null,null,null,null,null,null,null,null,{"$f":"Раздел2!C238","v":0},{"$f":"Раздел2!F238","v":0}]
[null,"Флорбол","231",0,null,null,null,null,null,null,null,null,null,null,null,null,null,null,{"$f":"Раздел2!C239","v":0},{"$f":"Раздел2!F239","v":0}]
[null,"Фристайл - всего","232",0,{"$f":"SUM(E241:E246)","v":0},{"$f":"SUM(F241:F246)","v":0},0,0,0,0,0,0,0,0,0,0,null,null,{"$f":"Раздел2!C240","v":0},{"$f":"Раздел2!F240","v":0}]
[null,"в том числе:\nАкробатика","233",0,null,null,null,null,null,null,null,null,null,null,null,null,null,null,{"$f":"Раздел2!C241","v":0},{"$f":"Раздел2!F241","v":0}]
[null,"Биг-эйр","234",0,null,null,null,null,null,null,null,null,null,null,null,null,null,null,{"$f":"Раздел2!C242","v":0},{"$f":"Раздел2!F242","v":0}]
[null,"Могул","235",0,null,null,null,null,null,null,null,null,null,null,null,null,null,null,{"$f":"Раздел2!C243","v":0},{"$f":"Раздел2!F243","v":0}]
[null,"Ски-кросс","236",0,null,null,null,null,null,null,null,null,null,null,null,null,null,null,{"$f":"Раздел2!C244","v":0},{"$f":"Раздел2!F244","v":0}]
[null,"Хаф-пайп","237",0,null,null,null,null,null,null,null,null,null,null,null,null,null,null,{"$f":"Раздел2!C245","v":0},{"$f":"Раздел2!F245","v":0}]
[null,"Слоуп-стайл","238",0,null,null,null,null,null,null,null,null,null,null,null,null,null,null,{"$f":"Раздел2!C246","v":0},{"$f":"Раздел2!F246","v":0}]
[null,"Функциональное многоборье","239",0,null,null,null,null,null,null,null,null,null,null,null,null,null,null,{"$f":"Раздел2!C247","v":0},{"$f":"Раздел2!F247","v":0}]
[null,"Футбол - всего","240",0,{"$f":"SUM(E249:E254)","v":0},{"$f":"SUM(F249:F254)","v":0},0,0,0,0,0,0,0,0,0,0,null,null,{"$f":"Раздел2!C248","v":1},{"$f":"Раздел2!F248","v":164}]
[null,"в том числе:\nФутбол (муж.)","241",0,null,null,null,null,null,null,null,null,null,null,null,null,null,null,{"$f":"Раздел2!C249","v":0},{"$f":"Раздел2!F249","v":0}]
[null,"Футбол (жен.)","242",0,null,null,null,null,null,null,null,null,null,null,null,null,null,null,{"$f":"Раздел2!C250","v":0},{"$f":"Раздел2!F250","v":0}]
[null,"Мини-футбол (футзал)","243",0,null,null,null,null,null,null,null,null,null,null,null,null,null,null,{"$f":"Раздел2!C251","v":1},{"$f":"Раздел2!F251","v":164}]
[null,"Пляжный футбол","244",0,null,null,null,null,null,null,null,null,null,null,null,null,null,null,{"$f":"Раздел2!C252","v":0},{"$f":"Раздел2!F252","v":0}]
[null,"Футбол 6х6, 7х7, 8х8","245",0,null,null,null,null,null,null,null,null,null,null,null,null,null,null,{"$f":"Раздел2!C253","v":0},{"$f":"Раздел2!F253","v":0}]
[null,"Интерактивный футбол","246",0,null,null,null,null,null,null,null,null,null,null,null,null,null,null,{"$f":"Раздел2!C254","v":0},{"$f":"Раздел2!F254","v":0}]
[null,"Футгольф","247",0,null,null,null,null,null,null,null,null,null,null,null,null,null,null,{"$f":"Раздел2!C255","v":0},{"$f":"Раздел2!F255","v":0}]
[null,"Хапкидо","248",0,null,null,null,null,null,null,null,null,null,null,null,null,null,null,{"$f":"Раздел2!C256","v":0},{"$f":"Раздел2!F256","v":0}]
[null,"Хапсагай","249",0,null,null,null,null,null,null,null,null,null,null,null,null,null,null,{"$f":"Раздел2!C257","v":0},{"$f":"Раздел2!F257","v":0}]
[null,"Хоккей - всего","250",0,{"$f":"SUM(E259:E260)","v":0},{"$f":"SUM(F259:F260)","v":0},0,0,0,0,0,0,0,0,0,0,null,null,{"$f":"Раздел2!C258","v":0},{"$f":"Раздел2!F258","v":0}]
[null,"в том числе:\nХоккей (муж.)","251",0,null,null,null,null,null,null,null,null,null,null,null,null,null,null,{"$f":"Раздел2!C259","v":0},{"$f":"Раздел2!F259","v":0}]
[null,"Хоккей (жен.)","252",0,null,null,null,null,null,null,null,null,null,null,null,null,null,null,{"$f":"Раздел2!C260","v":0},{"$f":"Раздел2!F260","v":0}]
[null,"Хоккей на траве - всего","253",0,{"$f":"SUM(E262:E264)","v":0},{"$f":"SUM(F262:F264)","v":0},0,0,0,0,0,0,0,0,0,0,null,null,{"$f":"Раздел2!C261","v":0},{"$f":"Раздел2!F261","v":0}]
[null,"в том числе:\nХоккей на траве (муж.)","254",0,null,null,null,null,null,null,null,null,null,null,null,null,null,null,{"$f":"Раздел2!C262","v":0},{"$f":"Раздел2!F262","v":0}]
[null,"Хоккей на траве (жен.)","255",0,null,null,null,null,null,null,null,null,null,null,null,null,null,null,{"$f":"Раздел2!C263","v":0},{"$f":"Раздел2!F263","v":0}]
[null,"Индорхоккей","256",0,null,null,null,null,null,null,null,null,null,null,null,null,null,null,{"$f":"Раздел2!C264","v":0},{"$f":"Раздел2!F264","v":0}]
[null,"Хоккей с мячом","257",0,null,null,null,null,null,null,null,null,null,null,null,null,null,null,{"$f":"Раздел2!C265","v":0},{"$f":"Раздел2!F265","v":0}]
[null,"Художественная гимнастика","258",{"$f":"SUM(E266:J266)","v":0},null,null,null,null,null,null,null,null,null,null,null,null,null,null,{"$f":"Раздел2!C266","v":0},{"$f":"Раздел2!F266","v":0}]
[null,"Хуреш","259",0,null,null,null,null,null,null,null,null,null,null,null,null,null,null,{"$f":"Раздел2!C267","v":0},{"$f":"Раздел2!F267","v":0}]
[null,"Чир спорт","260",0,null,null,null,null,null,null,null,null,null,null,null,null,null,null,{"$f":"Раздел2!C268","v":0},{"$f":"Раздел2!F268","v":0}]
[null,"Шахматы","261",0,null,null,null,null,null,null,null,null,null,null,null,null,null,null,{"$f":"Раздел2!C269","v":0},{"$f":"Раздел2!F269","v":0}]
[null,"Шашки","262",0,null,null,null,null,null,null,null,null,null,null,null,null,null,null,{"$f":"Раздел2!C270","v":0},{"$f":"Раздел2!F270","v":0}]
[null,"Шодсанлат","263",0,null,null,null,null,null,null,null,null,null,null,null,null,null,null,{"$f":"Раздел2!C271","v":0},{"$f":"Раздел2!F271","v":0}]
[null,"Эстетическая гимнастика","264",0,null,null,null,null,null,null,null,null,null,null,null,null,null,null,{"$f":"Раздел2!C272","v":0},{"$f":"Раздел2!F272","v":0}]
[null,"Якутские национальные прыжки","265",0,null,null,null,null,null,null,null,null,null,null,null,null,null,null,{"$f":"Раздел2!C273","v":0},{"$f":"Раздел2!F273","v":0}]
[null,"ИТОГО","266",3,{"$f":"SUM(E9:E21,E25:E28,E31:E36,E47:E52,E57:E59,E41:E44,E63:E73,E78:E87,E91:E97,E100:E105,E113:E118,E119:E127,E130:E135,E138,E143:E144,E150:E153,E159:E165,E166:E180,E181:E193,E199:E206,E211:E213,E217:E221,E222:E231,E236:E240,E247:E248,E255:E258,E261,E265:E273)","v":3},{"$f":"SUM(F9:F21,F25:F28,F31:F36,F47:F52,F57:F59,F41:F44,F63:F73,F78:F87,F91:F97,F100:F105,F113:F118,F119:F127,F130:F135,F138,F143:F144,F150:F153,F159:F165,F166:F180,F181:F193,F199:F206,F211:F213,F217:F221,F222:F231,F236:F240,F247:F248,F255:F258,F261,F265:F273)","v":0},0,0,0,0,2,0,0,0,0,0,null,null,{"$f":"Раздел2!C274","v":8},{"$f":"Раздел2!F274","v":653}]

{"sheet":"Раздел7","index":7,"n_rows":273,"n_cols":38,"rows_kept":273,"cut":false,"hidden":false,"merged":[[0,0,126,0],[2,36,5,36],[3,3,4,8],[3,9,4,13],[3,14,4,18],[3,19,4,23],[3,24,4,28],[3,29,4,33],[0,34,126,34],[0,1,0,33],[1,28,1,33],[2,1,5,1],[2,2,5,2],[2,3,2,33]]}
[null,"Раздел VII. Всероссийские спортивные соревнования"]
[null,null,null,null,null,null,null,null,null,null,null,null,null,null,null,null,null,null,null,null,null,null,null,null,null,null,null,null,"Коды по ОКЕИ: единица - 642"]
[null,"Виды спорта","№ строки","Результаты выступлений на соревнованиях",null,null,null,null,null,null,null,null,null,null,null,null,null,null,null,null,null,null,null,null,null,null,null,null,null,null,null,null,null,null,null,null,"Раздел2 графа3\nЧисло отделений"]
[null,null,null,"Всего",null,null,null,null,null,"Чемпионат России",null,null,null,null,"Первенство России среди юниоров и юниорок",null,null,null,null,"Первенство России среди юношей и девушек",null,null,null,null,"Кубок России",null,null,null,null,"Прочие официальные всероссийские соревнования"]
[]
[null,null,null,"медали \n(1-3 место)",1,2,3,"4-6","учас-тие",1,2,3,"4-6","учас-тие",1,2,3,"4-6","учас-тие",1,2,3,"4-6","учас-тие",1,2,3,"4-6","учас-тие",1,2,3,"4-6","учас-тие"]
[null,1,2,3,4,5,6,7,8,9,10,11,12,13,14,15,16,17,18,19,20,21,22,23,24,25,26,27,28,29,30,31,32,33,null,null,null,"ЦСП?"]
[null,"Авиамодельный спорт","01",{"$f":"SUM(E8:G8)","v":0},{"$f":"SUM(J8,O8,T8,Y8,AD8)","v":0},{"$f":"SUM(K8,P8,U8,Z8,AE8)","v":0},{"$f":"SUM(L8,Q8,V8,AA8,AF8)","v":0},{"$f":"SUM(M8,R8,W8,AB8,AG8)","v":0},{"$f":"SUM(N8,S8,X8,AC8,AH8,)","v":0},null,null,null,null,null,null,null,null,null,null,null,null,null,null,null,null,null,null,null,null,null,null,null,null,null,null,null,{"$f":"Раздел2!C9","v":0},{"$f":"Раздел1!I18","v":0}]
[null,"Автомобильный спорт","02",{"$f":"SUM(E9:G9)","v":0},{"$f":"SUM(J9,O9,T9,Y9,AD9)","v":0},{"$f":"SUM(K9,P9,U9,Z9,AE9)","v":0},{"$f":"SUM(L9,Q9,V9,AA9,AF9)","v":0},{"$f":"SUM(M9,R9,W9,AB9,AG9)","v":0},{"$f":"SUM(N9,S9,X9,AC9,AH9,)","v":0},null,null,null,null,null,null,null,null,null,null,null,null,null,null,null,null,null,null,null,null,null,null,null,null,null,null,null,{"$f":"Раздел2!C10","v":0}]
[null,"Автомодельный спорт","03",0,0,0,0,0,0,null,null,null,null,null,null,null,null,null,null,null,null,null,null,null,null,null,null,null,null,null,null,null,null,null,null,null,{"$f":"Раздел2!C11","v":0}]
[null,"Айкидо","04",0,0,0,0,0,0,null,null,null,null,null,null,null,null,null,null,null,null,null,null,null,null,null,null,null,null,null,null,null,null,null,null,null,{"$f":"Раздел2!C12","v":1}]
[null,"Айсшток","05",0,0,0,0,0,0,null,null,null,null,null,null,null,null,null,null,null,null,null,null,null,null,null,null,null,null,null,null,null,null,null,null,null,{"$f":"Раздел2!C13","v":0}]
[null,"Акробатический рок-н-ролл","06",0,0,0,0,0,0,null,null,null,null,null,null,null,null,null,null,null,null,null,null,null,null,null,null,null,null,null,null,null,null,null,null,null,{"$f":"Раздел2!C14","v":0}]
[null,"Альпинизм","07",0,0,0,0,0,0,null,null,null,null,null,null,null,null,null,null,null,null,null,null,null,null,null,null,null,null,null,null,null,null,null,null,null,{"$f":"Раздел2!C15","v":0}]
[null,"Американский футбол","08",0,0,0,0,0,0,null,null,null,null,null,null,null,null,null,null,null,null,null,null,null,null,null,null,null,null,null,null,null,null,null,null,null,{"$f":"Раздел2!C16","v":0}]
[null,"Армейский рукопашный бой","09",0,0,0,0,0,0,null,null,null,null,null,null,null,null,null,null,null,null,null,null,null,null,null,null,null,null,null,null,null,null,null,null,null,{"$f":"Раздел2!C17","v":0}]
[null,"Армейское тактико-стрелковое многоборье","10",0,0,0,0,0,0,null,null,null,null,null,null,null,null,null,null,null,null,null,null,null,null,null,null,null,null,null,null,null,null,null,null,null,{"$f":"Раздел2!C18","v":0}]
[null,"Армрестлинг","11",0,0,0,0,0,0,null,null,null,null,null,null,null,null,null,null,null,null,null,null,null,null,null,null,null,null,null,null,null,null,null,null,null,{"$f":"Раздел2!C19","v":0}]
[null,"Бадминтон","12",0,0,0,0,0,0,null,null,null,null,null,null,null,null,null,null,null,null,null,null,null,null,null,null,null,null,null,null,null,null,null,null,null,{"$f":"Раздел2!C20","v":0}]
[null,"Баскетбол - всего","13",0,0,0,0,0,0,{"$f":"SUM(J21:J23)","v":0},{"$f":"SUM(K21:K23)","v":0},0,0,0,0,0,0,0,0,0,0,0,0,0,0,0,0,0,0,0,0,0,0,0,null,null,{"$f":"Раздел2!C21","v":1}]
[null,"в том числе:\nБаскетбол (муж.)","14",0,0,0,0,0,0,null,null,null,null,null,null,null,null,null,null,null,null,null,null,null,null,null,null,null,null,null,null,null,null,null,null,null,{"$f":"Раздел2!C22","v":1}]
[null,"Баскетбол (жен.)","15",0,0,0,0,0,0,null,null,null,null,null,null,null,null,null,null,null,null,null,null,null,null,null,null,null,null,null,null,null,null,null,null,null,{"$f":"Раздел2!C23","v":1}]
[null,"Баскетбол 3х3","16",0,0,0,0,0,0,null,null,null,null,null,null,null,null,null,null,null,null,null,null,null,null,null,null,null,null,null,null,null,null,null,null,null,{"$f":"Раздел2!C24","v":0}]
[null,"Бейсбол","17",0,0,0,0,0,0,null,null,null,null,null,null,null,null,null,null,null,null,null,null,null,null,null,null,null,null,null,null,null,null,null,null,null,{"$f":"Раздел2!C25","v":0}]
[null,"Биатлон","18",0,0,0,0,0,0,null,null,null,null,null,null,null,null,null,null,null,null,null,null,null,null,null,null,null,null,null,null,null,null,null,null,null,{"$f":"Раздел2!C26","v":0}]
[null,"Бильярдный спорт","19",0,0,0,0,0,0,null,null,null,null,null,null,null,null,null,null,null,null,null,null,null,null,null,null,null,null,null,null,null,null,null,null,null,{"$f":"Раздел2!C27","v":0}]
[null,"Бобслей - всего","20",0,0,0,0,0,0,{"$f":"SUM(J28:J29)","v":0},{"$f":"SUM(K28:K29)","v":0},0,0,0,0,0,0,0,0,0,0,0,0,0,0,0,0,0,0,0,0,0,0,0,null,null,{"$f":"Раздел2!C28","v":0}]
[null,"в том числе:\nБобслей","21",0,0,0,0,0,0,null,null,null,null,null,null,null,null,null,null,null,null,null,null,null,null,null,null,null,null,null,null,null,null,null,null,null,{"$f":"Раздел2!C29","v":0}]
[null,"Скелетон","22",0,0,0,0,0,0,null,null,null,null,null,null,null,null,null,null,null,null,null,null,null,null,null,null,null,null,null,null,null,null,null,null,null,{"$f":"Раздел2!C30","v":0}]
[null,"Бодибилдинг","23",0,0,0,0,0,0,null,null,null,null,null,null,null,null,null,null,null,null,null,null,null,null,null,null,null,null,null,null,null,null,null,null,null,{"$f":"Раздел2!C31","v":0}]
[null,"Бокс","24",0,0,0,0,0,0,null,null,null,null,null,null,null,null,null,null,null,null,null,null,null,null,null,null,null,null,null,null,null,null,null,null,null,{"$f":"Раздел2!C32","v":0}]
[null,"Борьба на поясах","25",0,0,0,0,0,0,null,null,null,null,null,null,null,null,null,null,null,null,null,null,null,null,null,null,null,null,null,null,null,null,null,null,null,{"$f":"Раздел2!C33","v":0}]
[null,"Боулинг","26",0,0,0,0,0,0,null,null,null,null,null,null,null,null,null,null,null,null,null,null,null,null,null,null,null,null,null,null,null,null,null,null,null,{"$f":"Раздел2!C34","v":0}]
[null,"Боулспорт","27",0,0,0,0,0,0,null,null,null,null,null,null,null,null,null,null,null,null,null,null,null,null,null,null,null,null,null,null,null,null,null,null,null,{"$f":"Раздел2!C35","v":0}]
[null,"Велосипедный спорт - всего","28",0,0,0,0,0,0,{"$f":"SUM(J36:J39)","v":0},{"$f":"SUM(K36:K39)","v":0},0,0,0,0,0,0,0,0,0,0,0,0,0,0,0,0,0,0,0,0,0,0,0,null,null,{"$f":"Раздел2!C36","v":0}]
[null,"в том числе:\nBMX","29",0,0,0,0,0,0,null,null,null,null,null,null,null,null,null,null,null,null,null,null,null,null,null,null,null,null,null,null,null,null,null,null,null,{"$f":"Раздел2!C37","v":0}]
[null,"Маунтинбайк","30",0,0,0,0,0,0,null,null,null,null,null,null,null,null,null,null,null,null,null,null,null,null,null,null,null,null,null,null,null,null,null,null,null,{"$f":"Раздел2!C38","v":0}]
[null,"Трек","31",0,0,0,0,0,0,null,null,null,null,null,null,null,null,null,null,null,null,null,null,null,null,null,null,null,null,null,null,null,null,null,null,null,{"$f":"Раздел2!C39","v":0}]
[null,"Шоссе","32",0,0,0,0,0,0,null,null,null,null,null,null,null,null,null,null,null,null,null,null,null,null,null,null,null,null,null,null,null,null,null,null,null,{"$f":"Раздел2!C40","v":0}]
[null,"Вертолетный спорт","33",0,0,0,0,0,0,null,null,null,null,null,null,null,null,null,null,null,null,null,null,null,null,null,null,null,null,null,null,null,null,null,null,null,{"$f":"Раздел2!C41","v":0}]
[null,"Водно-моторный спорт","34",0,0,0,0,0,0,null,null,null,null,null,null,null,null,null,null,null,null,null,null,null,null,null,null,null,null,null,null,null,null,null,null,null,{"$f":"Раздел2!C42","v":0}]
[null,"Водно-спасательное многоборье","35",0,0,0,0,0,0,null,null,null,null,null,null,null,null,null,null,null,null,null,null,null,null,null,null,null,null,null,null,null,null,null,null,null,{"$f":"Раздел2!C43","v":0}]
[null,"Водное поло - всего ","36",0,0,0,0,0,0,{"$f":"SUM(J44:J45)","v":0},{"$f":"SUM(K44:K45)","v":0},0,0,0,0,0,0,0,0,0,0,0,0,0,0,0,0,0,0,0,0,0,0,0,null,null,{"$f":"Раздел2!C44","v":0}]
[null,"в том числе:\nВодное поло (муж.)","37",0,0,0,0,0,0,null,null,null,null,null,null,null,null,null,null,null,null,null,null,null,null,null,null,null,null,null,null,null,null,null,null,null,{"$f":"Раздел2!C45","v":0}]
[null,"Водное поло (жен.)","38",0,0,0,0,0,0,null,null,null,null,null,null,null,null,null,null,null,null,null,null,null,null,null,null,null,null,null,null,null,null,null,null,null,{"$f":"Раздел2!C46","v":0}]
[null,"Воднолыжный спорт","39",0,0,0,0,0,0,null,null,null,null,null,null,null,null,null,null,null,null,null,null,null,null,null,null,null,null,null,null,null,null,null,null,null,{"$f":"Раздел2!C47","v":0}]
[null,"Военно-прикладной спорт","40",0,0,0,0,0,0,null,null,null,null,null,null,null,null,null,null,null,null,null,null,null,null,null,null,null,null,null,null,null,null,null,null,null,{"$f":"Раздел2!C48","v":0}]
[null,"Военно-спортивное многоборье","41",0,0,0,0,0,0,null,null,null,null,null,null,null,null,null,null,null,null,null,null,null,null,null,null,null,null,null,null,null,null,null,null,null,{"$f":"Раздел2!C49","v":0}]
[null,"Воздухоплавательный спорт","42",0,0,0,0,0,0,null,null,null,null,null,null,null,null,null,null,null,null,null,null,null,null,null,null,null,null,null,null,null,null,null,null,null,{"$f":"Раздел2!C50","v":0}]
[null,"Воздушно-силовая атлетика","43",0,0,0,0,0,0,null,null,null,null,null,null,null,null,null,null,null,null,null,null,null,null,null,null,null,null,null,null,null,null,null,null,null,{"$f":"Раздел2!C51","v":0}]
[null,"Волейбол - всего","44",0,0,0,0,0,0,{"$f":"SUM(J52:J55)","v":0},{"$f":"SUM(K52:K55)","v":0},0,0,0,0,0,0,0,0,0,0,0,0,0,0,0,0,0,0,0,0,0,0,0,null,null,{"$f":"Раздел2!C52","v":1}]
[null,"в том числе:\nВолейбол (муж.)","45",0,0,0,0,0,0,null,null,null,null,null,null,null,null,null,null,null,null,null,null,null,null,null,null,null,null,null,null,null,null,null,null,null,{"$f":"Раздел2!C53","v":1}]
[null,"Волейбол (жен.)","46",0,0,0,0,0,0,null,null,null,null,null,null,null,null,null,null,null,null,null,null,null,null,null,null,null,null,null,null,null,null,null,null,null,{"$f":"Раздел2!C54","v":1}]
[null,"Пляжный волейбол (муж.)","47",0,0,0,0,0,0,null,null,null,null,null,null,null,null,null,null,null,null,null,null,null,null,null,null,null,null,null,null,null,null,null,null,null,{"$f":"Раздел2!C55","v":0}]
[null,"Пляжный волейбол (жен.)","48",0,0,0,0,0,0,null,null,null,null,null,null,null,null,null,null,null,null,null,null,null,null,null,null,null,null,null,null,null,null,null,null,null,{"$f":"Раздел2!C56","v":0}]
[null,"Восточное боевое единоборство","49",0,0,0,0,0,0,null,null,null,null,null,null,null,null,null,null,null,null,null,null,null,null,null,null,null,null,null,null,null,null,null,null,null,{"$f":"Раздел2!C57","v":0}]
[null,"Всестилевое каратэ","50",0,0,0,0,0,0,null,null,null,null,null,null,null,null,null,null,null,null,null,null,null,null,null,null,null,null,null,null,null,null,null,null,null,{"$f":"Раздел2!C58","v":0}]
[null,"Гандбол - всего","51",0,0,0,0,0,0,{"$f":"SUM(J59:J61)","v":0},{"$f":"SUM(K59:K61)","v":0},0,0,0,0,0,0,0,0,0,0,0,0,0,0,0,0,0,0,0,0,0,0,0,null,null,{"$f":"Раздел2!C59","v":0}]
[null,"в том числе:\nГандбол (муж.)","52",0,0,0,0,0,0,null,null,null,null,null,null,null,null,null,null,null,null,null,null,null,null,null,null,null,null,null,null,null,null,null,null,null,{"$f":"Раздел2!C60","v":0}]
[null,"Гандбол (жен.)","53",0,0,0,0,0,0,null,null,null,null,null,null,null,null,null,null,null,null,null,null,null,null,null,null,null,null,null,null,null,null,null,null,null,{"$f":"Раздел2!C61","v":0}]
[null,"Пляжный гандбол","54",0,0,0,0,0,0,null,null,null,null,null,null,null,null,null,null,null,null,null,null,null,null,null,null,null,null,null,null,null,null,null,null,null,{"$f":"Раздел2!C62","v":0}]
[null,"Гиревой спорт","55",0,0,0,0,0,0,null,null,null,null,null,null,null,null,null,null,null,null,null,null,null,null,null,null,null,null,null,null,null,null,null,null,null,{"$f":"Раздел2!C63","v":0}]
[null,"Го","56",0,0,0,0,0,0,null,null,null,null,null,null,null,null,null,null,null,null,null,null,null,null,null,null,null,null,null,null,null,null,null,null,null,{"$f":"Раздел2!C64","v":0}]
[null,"Гольф","57",0,0,0,0,0,0,null,null,null,null,null,null,null,null,null,null,null,null,null,null,null,null,null,null,null,null,null,null,null,null,null,null,null,{"$f":"Раздел2!C65","v":0}]
[null,"Гонки на охотничьих лыжах","58",0,0,0,0,0,0,null,null,null,null,null,null,null,null,null,null,null,null,null,null,null,null,null,null,null,null,null,null,null,null,null,null,null,{"$f":"Раздел2!C66","v":0}]
[null,"Гонки с препятствиями","59",0,0,0,0,0,0,null,null,null,null,null,null,null,null,null,null,null,null,null,null,null,null,null,null,null,null,null,null,null,null,null,null,null,{"$f":"Раздел2!C67","v":0}]
[null,"Горнолыжный спорт","60",0,0,0,0,0,0,null,null,null,null,null,null,null,null,null,null,null,null,null,null,null,null,null,null,null,null,null,null,null,null,null,null,null,{"$f":"Раздел2!C68","v":0}]
[null,"Городошный спорт","61",0,0,0,0,0,0,null,null,null,null,null,null,null,null,null,null,null,null,null,null,null,null,null,null,null,null,null,null,null,null,null,null,null,{"$f":"Раздел2!C69","v":0}]
[null,"Гребля на байдарках и каноэ","62",0,0,0,0,0,0,null,null,null,null,null,null,null,null,null,null,null,null,null,null,null,null,null,null,null,null,null,null,null,null,null,null,null,{"$f":"Раздел2!C70","v":0}]
[null,"Гребля на шлюпках","63",0,0,0,0,0,0,null,null,null,null,null,null,null,null,null,null,null,null,null,null,null,null,null,null,null,null,null,null,null,null,null,null,null,{"$f":"Раздел2!C71","v":0}]
[null,"Гребной слалом","64",0,0,0,0,0,0,null,null,null,null,null,null,null,null,null,null,null,null,null,null,null,null,null,null,null,null,null,null,null,null,null,null,null,{"$f":"Раздел2!C72","v":0}]
[null,"Гребной спорт - всего","65",0,0,0,0,0,0,{"$f":"SUM(J73:J76)","v":0},{"$f":"SUM(K73:K76)","v":0},0,0,0,0,0,0,0,0,0,0,0,0,0,0,0,0,0,0,0,0,0,0,0,null,null,{"$f":"Раздел2!C73","v":0}]
[null,"в том числе:\nАкадемическая гребля","66",{"$f":"SUM(E73:G73)","v":0},{"$f":"SUM(J73,O73,T73,Y73,AD73)","v":0},{"$f":"SUM(K73,P73,U73,Z73,AE73)","v":0},{"$f":"SUM(L73,Q73,V73,AA73,AF73)","v":0},{"$f":"SUM(M73,R73,W73,AB73,AG73)","v":0},{"$f":"SUM(N73,S73,X73,AC73,AH73,)","v":0},null,null,null,null,null,null,null,null,null,null,null,null,null,null,null,null,null,null,null,null,null,null,null,null,null,null,null,{"$f":"Раздел2!C74","v":0}]
[null,"Гребля-индор","67",0,0,0,0,0,0,null,null,null,null,null,null,null,null,null,null,null,null,null,null,null,null,null,null,null,null,null,null,null,null,null,null,null,{"$f":"Раздел2!C75","v":0}]
[null,"Народная гребля","68",0,0,0,0,0,0,null,null,null,null,null,null,null,null,null,null,null,null,null,null,null,null,null,null,null,null,null,null,null,null,null,null,null,{"$f":"Раздел2!C76","v":0}]
[null,"Прибрежная гребля","69",0,0,0,0,0,0,null,null,null,null,null,null,null,null,null,null,null,null,null,null,null,null,null,null,null,null,null,null,null,null,null,null,null,{"$f":"Раздел2!C77","v":0}]
[null,"Гребно-парусное двоеборье","70",0,0,0,0,0,0,null,null,null,null,null,null,null,null,null,null,null,null,null,null,null,null,null,null,null,null,null,null,null,null,null,null,null,{"$f":"Раздел2!C78","v":0}]
[null,"Дартс","71",0,0,0,0,0,0,null,null,null,null,null,null,null,null,null,null,null,null,null,null,null,null,null,null,null,null,null,null,null,null,null,null,null,{"$f":"Раздел2!C79","v":0}]
[null,"Джиу-джитсу","72",0,0,0,0,0,0,null,null,null,null,null,null,null,null,null,null,null,null,null,null,null,null,null,null,null,null,null,null,null,null,null,null,null,{"$f":"Раздел2!C80","v":0}]
[null,"Дзюдо","73",0,0,0,0,0,0,null,null,null,null,null,null,null,null,null,null,null,null,null,null,null,null,null,null,null,null,null,null,null,null,null,null,null,{"$f":"Раздел2!C81","v":0}]
[null,"Ездовой спорт","74",0,0,0,0,0,0,null,null,null,null,null,null,null,null,null,null,null,null,null,null,null,null,null,null,null,null,null,null,null,null,null,null,null,{"$f":"Раздел2!C82","v":0}]
[null,"Капоэйра","75",0,0,0,0,0,0,null,null,null,null,null,null,null,null,null,null,null,null,null,null,null,null,null,null,null,null,null,null,null,null,null,null,null,{"$f":"Раздел2!C83","v":0}]
[null,"Каратэ","76",0,0,0,0,0,0,null,null,null,null,null,null,null,null,null,null,null,null,null,null,null,null,null,null,null,null,null,null,null,null,null,null,null,{"$f":"Раздел2!C84","v":0}]
[null,"Кендо","77",0,0,0,0,0,0,null,null,null,null,null,null,null,null,null,null,null,null,null,null,null,null,null,null,null,null,null,null,null,null,null,null,null,{"$f":"Раздел2!C85","v":0}]
[null,"Керешу","78",0,0,0,0,0,0,null,null,null,null,null,null,null,null,null,null,null,null,null,null,null,null,null,null,null,null,null,null,null,null,null,null,null,{"$f":"Раздел2!C86","v":0}]
[null,"Кёрлинг - всего","79",0,0,0,0,0,0,{"$f":"SUM(J87:J89)","v":0},{"$f":"SUM(K87:K89)","v":0},0,0,0,0,0,0,0,0,0,0,0,0,0,0,0,0,0,0,0,0,0,0,0,null,null,{"$f":"Раздел2!C87","v":0}]
[null,"в том числе:\nКерлинг (муж.)","80",0,0,0,0,0,0,null,null,null,null,null,null,null,null,null,null,null,null,null,null,null,null,null,null,null,null,null,null,null,null,null,null,null,{"$f":"Раздел2!C88","v":0}]
[null,"Керлинг (жен.)","81",0,0,0,0,0,0,null,null,null,null,null,null,null,null,null,null,null,null,null,null,null,null,null,null,null,null,null,null,null,null,null,null,null,{"$f":"Раздел2!C89","v":0}]
[null,"Кёрлинг – смешанные пары","82",0,0,0,0,0,0,null,null,null,null,null,null,null,null,null,null,null,null,null,null,null,null,null,null,null,null,null,null,null,null,null,null,null,{"$f":"Раздел2!C90","v":0}]
[null,"Кикбоксинг","83",0,0,0,0,0,0,null,null,null,null,null,null,null,null,null,null,null,null,null,null,null,null,null,null,null,null,null,null,null,null,null,null,null,{"$f":"Раздел2!C91","v":0}]
[null,"Кинологический спорт","84",0,0,0,0,0,0,null,null,null,null,null,null,null,null,null,null,null,null,null,null,null,null,null,null,null,null,null,null,null,null,null,null,null,{"$f":"Раздел2!C92","v":0}]
[null,"Киокусинкай","85",0,0,0,0,0,0,null,null,null,null,null,null,null,null,null,null,null,null,null,null,null,null,null,null,null,null,null,null,null,null,null,null,null,{"$f":"Раздел2!C93","v":0}]
[null,"Комплексное единоборство","86",0,0,0,0,0,0,null,null,null,null,null,null,null,null,null,null,null,null,null,null,null,null,null,null,null,null,null,null,null,null,null,null,null,{"$f":"Раздел2!C94","v":0}]
[null,"Компьютерный спорт","87",0,0,0,0,0,0,null,null,null,null,null,null,null,null,null,null,null,null,null,null,null,null,null,null,null,null,null,null,null,null,null,null,null,{"$f":"Раздел2!C95","v":0}]
[null,"Конный спорт","88",0,0,0,0,0,0,null,null,null,null,null,null,null,null,null,null,null,null,null,null,null,null,null,null,null,null,null,null,null,null,null,null,null,{"$f":"Раздел2!C96","v":0}]
[null,"Конькобежный спорт - всего","89",0,0,0,0,0,0,{"$f":"SUM(J97:J98)","v":0},{"$f":"SUM(K97:K98)","v":0},0,0,0,0,0,0,0,0,0,0,0,0,0,0,0,0,0,0,0,0,0,0,0,null,null,{"$f":"Раздел2!C97","v":0}]
[null,"в том числе:\nКонькобежный спорт","90",0,0,0,0,0,0,null,null,null,null,null,null,null,null,null,null,null,null,null,null,null,null,null,null,null,null,null,null,null,null,null,null,null,{"$f":"Раздел2!C98","v":0}]
[null,"Шорт-трек","91",0,0,0,0,0,0,null,null,null,null,null,null,null,null,null,null,null,null,null,null,null,null,null,null,null,null,null,null,null,null,null,null,null,{"$f":"Раздел2!C99","v":0}]
[null,"Корэш","92",0,0,0,0,0,0,null,null,null,null,null,null,null,null,null,null,null,null,null,null,null,null,null,null,null,null,null,null,null,null,null,null,null,{"$f":"Раздел2!C100","v":0}]
[null,"Корфбол","93",0,0,0,0,0,0,null,null,null,null,null,null,null,null,null,null,null,null,null,null,null,null,null,null,null,null,null,null,null,null,null,null,null,{"$f":"Раздел2!C101","v":0}]
[null,"Крикет","94",0,0,0,0,0,0,null,null,null,null,null,null,null,null,null,null,null,null,null,null,null,null,null,null,null,null,null,null,null,null,null,null,null,{"$f":"Раздел2!C102","v":0}]
[null,"Кудо","95",0,0,0,0,0,0,null,null,null,null,null,null,null,null,null,null,null,null,null,null,null,null,null,null,null,null,null,null,null,null,null,null,null,{"$f":"Раздел2!C103","v":0}]
[null,"Лапта","96",0,0,0,0,0,0,null,null,null,null,null,null,null,null,null,null,null,null,null,null,null,null,null,null,null,null,null,null,null,null,null,null,null,{"$f":"Раздел2!C104","v":0}]
[null,"Легкая атлетика - всего","97",0,0,0,0,0,0,{"$f":"SUM(J105:J111)","v":0},{"$f":"SUM(K105:K111)","v":0},0,0,0,0,0,0,0,0,0,0,0,0,0,0,0,0,0,0,0,0,0,0,0,null,null,{"$f":"Раздел2!C105","v":0}]
[null,"в том числе:\nСпринтерский и барьерный бег","98",0,0,0,0,0,0,null,null,null,null,null,null,null,null,null,null,null,null,null,null,null,null,null,null,null,null,null,null,null,null,null,null,null,{"$f":"Раздел2!C106","v":0}]
[null,"Бег на средние дистанции и бег с препятствиями","99",0,0,0,0,0,0,null,null,null,null,null,null,null,null,null,null,null,null,null,null,null,null,null,null,null,null,null,null,null,null,null,null,null,{"$f":"Раздел2!C107","v":0}]
[null,"Бег на длинные и сверхдлинные дистанции","100",0,0,0,0,0,0,null,null,null,null,null,null,null,null,null,null,null,null,null,null,null,null,null,null,null,null,null,null,null,null,null,null,null,{"$f":"Раздел2!C108","v":0}]
[null,"Многоборья","101",0,0,0,0,0,0,null,null,null,null,null,null,null,null,null,null,null,null,null,null,null,null,null,null,null,null,null,null,null,null,null,null,null,{"$f":"Раздел2!C109","v":0}]
[null,"Прыжки","102",0,0,0,0,0,0,null,null,null,null,null,null,null,null,null,null,null,null,null,null,null,null,null,null,null,null,null,null,null,null,null,null,null,{"$f":"Раздел2!C110","v":0}]
[null,"Метания","103",0,0,0,0,0,0,null,null,null,null,null,null,null,null,null,null,null,null,null,null,null,null,null,null,null,null,null,null,null,null,null,null,null,{"$f":"Раздел2!C111","v":0}]
[null,"Спортивная ходьба","104",0,0,0,0,0,0,null,null,null,null,null,null,null,null,null,null,null,null,null,null,null,null,null,null,null,null,null,null,null,null,null,null,null,{"$f":"Раздел2!C112","v":0}]
[null,"Лыжное двоеборье","105",0,0,0,0,0,0,null,null,null,null,null,null,null,null,null,null,null,null,null,null,null,null,null,null,null,null,null,null,null,null,null,null,null,{"$f":"Раздел2!C113","v":0}]
[null,"Лыжные гонки","106",0,0,0,0,0,0,null,null,null,null,null,null,null,null,null,null,null,null,null,null,null,null,null,null,null,null,null,null,null,null,null,null,null,{"$f":"Раздел2!C114","v":1}]
[null,"Мас-рестлинг","107",0,0,0,0,0,0,null,null,null,null,null,null,null,null,null,null,null,null,null,null,null,null,null,null,null,null,null,null,null,null,null,null,null,{"$f":"Раздел2!C115","v":0}]
[null,"Международное военно-спортивное многоборье","108",0,0,0,0,0,0,null,null,null,null,null,null,null,null,null,null,null,null,null,null,null,null,null,null,null,null,null,null,null,null,null,null,null,{"$f":"Раздел2!C116","v":0}]
[null,"Многоборье кинологов","109",0,0,0,0,0,0,null,null,null,null,null,null,null,null,null,null,null,null,null,null,null,null,null,null,null,null,null,null,null,null,null,null,null,{"$f":"Раздел2!C117","v":0}]
[null,"Многоборье спасателей МЧС России","110",0,0,0,0,0,0,null,null,null,null,null,null,null,null,null,null,null,null,null,null,null,null,null,null,null,null,null,null,null,null,null,null,null,{"$f":"Раздел2!C118","v":0}]
[null,"Морское многоборье","111",0,0,0,0,0,0,null,null,null,null,null,null,null,null,null,null,null,null,null,null,null,null,null,null,null,null,null,null,null,null,null,null,null,{"$f":"Раздел2!C119","v":0}]
[null,"Мотоциклетный спорт","112",0,0,0,0,0,0,null,null,null,null,null,null,null,null,null,null,null,null,null,null,null,null,null,null,null,null,null,null,null,null,null,null,null,{"$f":"Раздел2!C120","v":0}]
[null,"Настольный теннис","113",0,0,0,0,0,0,null,null,null,null,null,null,null,null,null,null,null,null,null,null,null,null,null,null,null,null,null,null,null,null,null,null,null,{"$f":"Раздел2!C121","v":0}]
[null,"Падел","114",0,0,0,0,0,0,null,null,null,null,null,null,null,null,null,null,null,null,null,null,null,null,null,null,null,null,null,null,null,null,null,null,null,{"$f":"Раздел2!C122","v":0}]
[null,"Парашютный спорт","115",0,0,0,0,0,0,null,null,null,null,null,null,null,null,null,null,null,null,null,null,null,null,null,null,null,null,null,null,null,null,null,null,null,{"$f":"Раздел2!C123","v":0}]
[null,"Парусный спорт","116",0,0,0,0,0,0,null,null,null,null,null,null,null,null,null,null,null,null,null,null,null,null,null,null,null,null,null,null,null,null,null,null,null,{"$f":"Раздел2!C124","v":0}]
[null,"Пауэрлифтинг","117",4,2,1,1,2,2,null,null,null,null,null,null,null,null,1,null,2,1,1,1,2,null,null,null,null,null,null,null,null,null,null,null,null,{"$f":"Раздел2!C125","v":1}]
[null,"Перетягивание каната","118",0,0,0,0,0,0,null,null,null,null,null,null,null,null,null,null,null,null,null,null,null,null,null,null,null,null,null,null,null,null,null,null,null,{"$f":"Раздел2!C126","v":0}]
[null,"Плавание - всего","119",0,0,0,0,0,0,{"$f":"SUM(J127:J128)","v":0},{"$f":"SUM(K127:K128)","v":0},0,0,0,0,0,0,0,0,0,0,0,0,0,0,0,0,0,0,0,0,0,0,0,null,null,{"$f":"Раздел2!C127","v":0}]
[null,"в том числе:\nПлавание ","120",0,0,0,0,0,0,null,null,null,null,null,null,null,null,null,null,null,null,null,null,null,null,null,null,null,null,null,null,null,null,null,null,null,{"$f":"Раздел2!C128","v":0}]
[null,"Открытая вода","121",0,0,0,0,0,0,null,null,null,null,null,null,null,null,null,null,null,null,null,null,null,null,null,null,null,null,null,null,null,null,null,null,null,{"$f":"Раздел2!C129","v":0}]
[null,"Планерный спорт","122",0,0,0,0,0,0,null,null,null,null,null,null,null,null,null,null,null,null,null,null,null,null,null,null,null,null,null,null,null,null,null,null,null,{"$f":"Раздел2!C130","v":0}]
[null,"Подводный спорт","123",0,0,0,0,0,0,null,null,null,null,null,null,null,null,null,null,null,null,null,null,null,null,null,null,null,null,null,null,null,null,null,null,null,{"$f":"Раздел2!C131","v":0}]
[null,"Пожарно-спасательный спорт","124",0,0,0,0,0,0,null,null,null,null,null,null,null,null,null,null,null,null,null,null,null,null,null,null,null,null,null,null,null,null,null,null,null,{"$f":"Раздел2!C132","v":0}]
[null,"Полиатлон","125",0,0,0,0,0,0,null,null,null,null,null,null,null,null,null,null,null,null,null,null,null,null,null,null,null,null,null,null,null,null,null,null,null,{"$f":"Раздел2!C133","v":0}]
[null,"Практическая стрельба","126",0,0,0,0,0,0,null,null,null,null,null,null,null,null,null,null,null,null,null,null,null,null,null,null,null,null,null,null,null,null,null,null,null,{"$f":"Раздел2!C134","v":0}]
[null,"Прыжки в воду - всего","127",0,0,0,0,0,0,{"$f":"SUM(J135:J136)","v":0},{"$f":"SUM(K135:K136)","v":0},0,0,0,0,0,0,0,0,0,0,0,0,0,0,0,0,0,0,0,0,0,0,0,null,null,{"$f":"Раздел2!C135","v":0}]
[null,"в том числе:\nПрыжки в воду","128",0,0,0,0,0,0,null,null,null,null,null,null,null,null,null,null,null,null,null,null,null,null,null,null,null,null,null,null,null,null,null,null,null,{"$f":"Раздел2!C136","v":0}]
[null,"Прыжки в открытый водоем","129",0,0,0,0,0,0,null,null,null,null,null,null,null,null,null,null,null,null,null,null,null,null,null,null,null,null,null,null,null,null,null,null,null,{"$f":"Раздел2!C137","v":0}]
[null,"Прыжки на батуте - всего","130",{"$f":"SUM(E137:G137)","v":0},{"$f":"SUM(J137,O137,T137,Y137,AD137)","v":0},{"$f":"SUM(K137,P137,U137,Z137,AE137)","v":0},{"$f":"SUM(L137,Q137,V137,AA137,AF137)","v":0},{"$f":"SUM(M137,R137,W137,AB137,AG137)","v":0},{"$f":"SUM(N137,S137,X137,AC137,AH137,)","v":0},{"$f":"SUM(J138:J141)","v":0},{"$f":"SUM(K138:K141)","v":0},0,0,0,0,0,0,0,0,0,0,0,0,0,0,0,0,0,0,0,0,0,0,0,null,null,{"$f":"Раздел2!C138","v":0}]
[null,"в том числе:\nАкробатическая дорожка","131",0,0,0,0,0,0,null,null,null,null,null,null,null,null,null,null,null,null,null,null,null,null,null,null,null,null,null,null,null,null,null,null,null,{"$f":"Раздел2!C139","v":0}]
[null,"Двойной минитрамп","132",0,0,0,0,0,0,null,null,null,null,null,null,null,null,null,null,null,null,null,null,null,null,null,null,null,null,null,null,null,null,null,null,null,{"$f":"Раздел2!C140","v":0}]
[null,"Индивидуальные прыжки","133",0,0,0,0,0,0,null,null,null,null,null,null,null,null,null,null,null,null,null,null,null,null,null,null,null,null,null,null,null,null,null,null,null,{"$f":"Раздел2!C141","v":0}]
[null,"Синхронные прыжки","134",0,0,0,0,0,0,null,null,null,null,null,null,null,null,null,null,null,null,null,null,null,null,null,null,null,null,null,null,null,null,null,null,null,{"$f":"Раздел2!C142","v":0}]
[null,"Прыжки на лыжах с трамплина","135",0,0,0,0,0,0,null,null,null,null,null,null,null,null,null,null,null,null,null,null,null,null,null,null,null,null,null,null,null,null,null,null,null,{"$f":"Раздел2!C143","v":0}]
[null,"Пулевая стрельба - всего","136",0,0,0,0,0,0,{"$f":"SUM(J144:J148)","v":0},{"$f":"SUM(K144:K148)","v":0},0,0,0,0,0,0,0,0,0,0,0,0,0,0,0,0,0,0,0,0,0,0,0,null,null,{"$f":"Раздел2!C144","v":0}]
[null,"в том числе:\nПневматическая винтовка","137",0,0,0,0,0,0,null,null,null,null,null,null,null,null,null,null,null,null,null,null,null,null,null,null,null,null,null,null,null,null,null,null,null,{"$f":"Раздел2!C145","v":0}]
[null,"Пневматический пистолет","138",0,0,0,0,0,0,null,null,null,null,null,null,null,null,null,null,null,null,null,null,null,null,null,null,null,null,null,null,null,null,null,null,null,{"$f":"Раздел2!C146","v":0}]
[null,"Малокалиберная винтовка","139",0,0,0,0,0,0,null,null,null,null,null,null,null,null,null,null,null,null,null,null,null,null,null,null,null,null,null,null,null,null,null,null,null,{"$f":"Раздел2!C147","v":0}]
[null,"Малокалиберный пистолет","140",0,0,0,0,0,0,null,null,null,null,null,null,null,null,null,null,null,null,null,null,null,null,null,null,null,null,null,null,null,null,null,null,null,{"$f":"Раздел2!C148","v":0}]
[null,"Движущаяся мишень","141",0,0,0,0,0,0,null,null,null,null,null,null,null,null,null,null,null,null,null,null,null,null,null,null,null,null,null,null,null,null,null,null,null,{"$f":"Раздел2!C149","v":0}]
[null,"Пэйнтбол","142",0,0,0,0,0,0,null,null,null,null,null,null,null,null,null,null,null,null,null,null,null,null,null,null,null,null,null,null,null,null,null,null,null,{"$f":"Раздел2!C150","v":0}]
[null,"Радиоспорт","143",0,0,0,0,0,0,null,null,null,null,null,null,null,null,null,null,null,null,null,null,null,null,null,null,null,null,null,null,null,null,null,null,null,{"$f":"Раздел2!C151","v":0}]
[null,"Рафтинг","144",0,0,0,0,0,0,null,null,null,null,null,null,null,null,null,null,null,null,null,null,null,null,null,null,null,null,null,null,null,null,null,null,null,{"$f":"Раздел2!C152","v":0}]
[null,"Регби - всего","145",0,0,0,0,0,0,{"$f":"SUM(J153:J157)","v":0},{"$f":"SUM(K153:K157)","v":0},0,0,0,0,0,0,0,0,0,0,0,0,0,0,0,0,0,0,0,0,0,0,0,null,null,{"$f":"Раздел2!C153","v":0}]
[null,"в том числе:\nРегби","146",0,0,0,0,0,0,null,null,null,null,null,null,null,null,null,null,null,null,null,null,null,null,null,null,null,null,null,null,null,null,null,null,null,{"$f":"Раздел2!C154","v":0}]
[null,"Регби 7 (муж.)","147",0,0,0,0,0,0,null,null,null,null,null,null,null,null,null,null,null,null,null,null,null,null,null,null,null,null,null,null,null,null,null,null,null,{"$f":"Раздел2!C155","v":0}]
[null,"Регби 7 (жен.)","148",0,0,0,0,0,0,null,null,null,null,null,null,null,null,null,null,null,null,null,null,null,null,null,null,null,null,null,null,null,null,null,null,null,{"$f":"Раздел2!C156","v":0}]
[null,"Регби - пляжное","149",0,0,0,0,0,0,null,null,null,null,null,null,null,null,null,null,null,null,null,null,null,null,null,null,null,null,null,null,null,null,null,null,null,{"$f":"Раздел2!C157","v":0}]
[null,"Регби на снегу","150",0,0,0,0,0,0,null,null,null,null,null,null,null,null,null,null,null,null,null,null,null,null,null,null,null,null,null,null,null,null,null,null,null,{"$f":"Раздел2!C158","v":0}]
[null,"Регбол","151",0,0,0,0,0,0,null,null,null,null,null,null,null,null,null,null,null,null,null,null,null,null,null,null,null,null,null,null,null,null,null,null,null,{"$f":"Раздел2!C159","v":0}]
[null,"Роллер спорт","152",0,0,0,0,0,0,null,null,null,null,null,null,null,null,null,null,null,null,null,null,null,null,null,null,null,null,null,null,null,null,null,null,null,{"$f":"Раздел2!C160","v":0}]
[null,"Роуп скиппинг (спортивная скакалка)","153",0,0,0,0,0,0,null,null,null,null,null,null,null,null,null,null,null,null,null,null,null,null,null,null,null,null,null,null,null,null,null,null,null,{"$f":"Раздел2!C161","v":0}]
[null,"Рукопашный бой","154",1,0,1,0,1,1,null,null,null,null,null,null,1,null,null,null,null,null,null,1,1,null,null,null,null,null,null,null,null,null,null,null,null,{"$f":"Раздел2!C162","v":1}]
[null,"Рыболовный спорт","155",0,0,0,0,0,0,null,null,null,null,null,null,null,null,null,null,null,null,null,null,null,null,null,null,null,null,null,null,null,null,null,null,null,{"$f":"Раздел2!C163","v":0}]
[null,"Сават","156",0,0,0,0,0,0,null,null,null,null,null,null,null,null,null,null,null,null,null,null,null,null,null,null,null,null,null,null,null,null,null,null,null,{"$f":"Раздел2!C164","v":0}]
[null,"Самбо","157",0,0,0,0,0,0,null,null,null,null,null,null,null,null,null,null,null,null,null,null,null,null,null,null,null,null,null,null,null,null,null,null,null,{"$f":"Раздел2!C165","v":0}]
[null,"Самолетный спорт","158",0,0,0,0,0,0,null,null,null,null,null,null,null,null,null,null,null,null,null,null,null,null,null,null,null,null,null,null,null,null,null,null,null,{"$f":"Раздел2!C166","v":0}]
[null,"Санный спорт","159",0,0,0,0,0,0,null,null,null,null,null,null,null,null,null,null,null,null,null,null,null,null,null,null,null,null,null,null,null,null,null,null,null,{"$f":"Раздел2!C167","v":0}]
[null,"Северное многоборье","160",0,0,0,0,0,0,null,null,null,null,null,null,null,null,null,null,null,null,null,null,null,null,null,null,null,null,null,null,null,null,null,null,null,{"$f":"Раздел2!C168","v":0}]
[null,"Серфинг","161",0,0,0,0,0,0,null,null,null,null,null,null,null,null,null,null,null,null,null,null,null,null,null,null,null,null,null,null,null,null,null,null,null,{"$f":"Раздел2!C169","v":0}]
[null,"Силовой экстрим","162",0,0,0,0,0,0,null,null,null,null,null,null,null,null,null,null,null,null,null,null,null,null,null,null,null,null,null,null,null,null,null,null,null,{"$f":"Раздел2!C170","v":0}]
[null,"Синхронное плавание","163",0,0,0,0,0,0,null,null,null,null,null,null,null,null,null,null,null,null,null,null,null,null,null,null,null,null,null,null,null,null,null,null,null,{"$f":"Раздел2!C171","v":0}]
[null,"Скалолазание","164",0,0,0,0,0,0,null,null,null,null,null,null,null,null,null,null,null,null,null,null,null,null,null,null,null,null,null,null,null,null,null,null,null,{"$f":"Раздел2!C172","v":0}]
[null,"Сквош","165",0,0,0,0,0,0,null,null,null,null,null,null,null,null,null,null,null,null,null,null,null,null,null,null,null,null,null,null,null,null,null,null,null,{"$f":"Раздел2!C173","v":0}]
[null,"Скейтбординг","166",0,0,0,0,0,0,null,null,null,null,null,null,null,null,null,null,null,null,null,null,null,null,null,null,null,null,null,null,null,null,null,null,null,{"$f":"Раздел2!C174","v":0}]
[null,"Служебно-боевая стрельба ","167",0,0,0,0,0,0,null,null,null,null,null,null,null,null,null,null,null,null,null,null,null,null,null,null,null,null,null,null,null,null,null,null,null,{"$f":"Раздел2!C175","v":0}]
[null,"Служебно-прикладной спорт","168",0,0,0,0,0,0,null,null,null,null,null,null,null,null,null,null,null,null,null,null,null,null,null,null,null,null,null,null,null,null,null,null,null,{"$f":"Раздел2!C176","v":0}]
[null,"Служебно-прикладной спорт ФСО России","169",0,0,0,0,0,0,null,null,null,null,null,null,null,null,null,null,null,null,null,null,null,null,null,null,null,null,null,null,null,null,null,null,null,{"$f":"Раздел2!C177","v":0}]
[null,"Служебно-прикладной спорт ФТС России","170",0,0,0,0,0,0,null,null,null,null,null,null,null,null,null,null,null,null,null,null,null,null,null,null,null,null,null,null,null,null,null,null,null,{"$f":"Раздел2!C178","v":0}]
[null,"Служебное двоеборье","171",0,0,0,0,0,0,null,null,null,null,null,null,null,null,null,null,null,null,null,null,null,null,null,null,null,null,null,null,null,null,null,null,null,{"$f":"Раздел2!C179","v":0}]
[null,"Служебное единоборство","172",0,0,0,0,0,0,null,null,null,null,null,null,null,null,null,null,null,null,null,null,null,null,null,null,null,null,null,null,null,null,null,null,null,{"$f":"Раздел2!C180","v":0}]
[null,"Служебное многоборье","173",0,0,0,0,0,0,null,null,null,null,null,null,null,null,null,null,null,null,null,null,null,null,null,null,null,null,null,null,null,null,null,null,null,{"$f":"Раздел2!C181","v":0}]
[null,"Служебный биатлон","174",0,0,0,0,0,0,null,null,null,null,null,null,null,null,null,null,null,null,null,null,null,null,null,null,null,null,null,null,null,null,null,null,null,{"$f":"Раздел2!C182","v":0}]
[null,"Спасательный спорт","175",0,0,0,0,0,0,null,null,null,null,null,null,null,null,null,null,null,null,null,null,null,null,null,null,null,null,null,null,null,null,null,null,null,{"$f":"Раздел2!C183","v":0}]
[null,"Стрельба из боевого ручного стрелкового оружия","176",0,0,0,0,0,0,null,null,null,null,null,null,null,null,null,null,null,null,null,null,null,null,null,null,null,null,null,null,null,null,null,null,null,{"$f":"Раздел2!C184","v":0}]
[null,"Стрельба из штатного или табельного оружия","177",0,0,0,0,0,0,null,null,null,null,null,null,null,null,null,null,null,null,null,null,null,null,null,null,null,null,null,null,null,null,null,null,null,{"$f":"Раздел2!C185","v":0}]
[null,"Смешанное боевое единоборство (ММА)","178",0,0,0,0,0,0,null,null,null,null,null,null,null,null,null,null,null,null,null,null,null,null,null,null,null,null,null,null,null,null,null,null,null,{"$f":"Раздел2!C186","v":0}]
[null,"Сноуборд","179",0,0,0,0,0,0,null,null,null,null,null,null,null,null,null,null,null,null,null,null,null,null,null,null,null,null,null,null,null,null,null,null,null,{"$f":"Раздел2!C187","v":0}]
[null,"Современное пятиборье","180",0,0,0,0,0,0,null,null,null,null,null,null,null,null,null,null,null,null,null,null,null,null,null,null,null,null,null,null,null,null,null,null,null,{"$f":"Раздел2!C188","v":0}]
[null,"Софтбол","181",0,0,0,0,0,0,null,null,null,null,null,null,null,null,null,null,null,null,null,null,null,null,null,null,null,null,null,null,null,null,null,null,null,{"$f":"Раздел2!C189","v":0}]
[null,"Спорт сверхлегкой авиации","182",0,0,0,0,0,0,null,null,null,null,null,null,null,null,null,null,null,null,null,null,null,null,null,null,null,null,null,null,null,null,null,null,null,{"$f":"Раздел2!C190","v":0}]
[null,"Спортивная акробатика","183",0,0,0,0,0,0,null,null,null,null,null,null,null,null,null,null,null,null,null,null,null,null,null,null,null,null,null,null,null,null,null,null,null,{"$f":"Раздел2!C191","v":0}]
[null,"Спортивная аэробика","184",0,0,0,0,0,0,null,null,null,null,null,null,null,null,null,null,null,null,null,null,null,null,null,null,null,null,null,null,null,null,null,null,null,{"$f":"Раздел2!C192","v":0}]
[null,"Спортивная борьба - всего","185",0,0,0,0,0,0,{"$f":"SUM(J193:J197)","v":0},{"$f":"SUM(K193:K197)","v":0},0,0,0,0,0,0,0,0,0,0,0,0,0,0,0,0,0,0,0,0,0,0,0,null,null,{"$f":"Раздел2!C193","v":0}]
[null,"в том числе:\nВольная борьба","186",0,0,0,0,0,0,null,null,null,null,null,null,null,null,null,null,null,null,null,null,null,null,null,null,null,null,null,null,null,null,null,null,null,{"$f":"Раздел2!C194","v":0}]
[null,"Греко-римская борьба","187",0,0,0,0,0,0,null,null,null,null,null,null,null,null,null,null,null,null,null,null,null,null,null,null,null,null,null,null,null,null,null,null,null,{"$f":"Раздел2!C195","v":0}]
[null,"Грэпплинг","188",0,0,0,0,0,0,null,null,null,null,null,null,null,null,null,null,null,null,null,null,null,null,null,null,null,null,null,null,null,null,null,null,null,{"$f":"Раздел2!C196","v":0}]
[null,"Грэпплинг-ги","189",0,0,0,0,0,0,null,null,null,null,null,null,null,null,null,null,null,null,null,null,null,null,null,null,null,null,null,null,null,null,null,null,null,{"$f":"Раздел2!C197","v":0}]
[null,"Панкратион","190",0,0,0,0,0,0,null,null,null,null,null,null,null,null,null,null,null,null,null,null,null,null,null,null,null,null,null,null,null,null,null,null,null,{"$f":"Раздел2!C198","v":0}]
[null,"Спортивная гимнастика","191",0,0,0,0,0,0,null,null,null,null,null,null,null,null,null,null,null,null,null,null,null,null,null,null,null,null,null,null,null,null,null,null,null,{"$f":"Раздел2!C199","v":0}]
[null,"Спортивная йога","192",0,0,0,0,0,0,null,null,null,null,null,null,null,null,null,null,null,null,null,null,null,null,null,null,null,null,null,null,null,null,null,null,null,{"$f":"Раздел2!C200","v":0}]
[null,"Спортивно-прикладное собаководство","193",0,0,0,0,0,0,null,null,null,null,null,null,null,null,null,null,null,null,null,null,null,null,null,null,null,null,null,null,null,null,null,null,null,{"$f":"Раздел2!C201","v":0}]
[null,"Спортивное метание ножа","194",{"$f":"SUM(E201:G201)","v":0},{"$f":"SUM(J201,O201,T201,Y201,AD201)","v":0},{"$f":"SUM(K201,P201,U201,Z201,AE201)","v":0},{"$f":"SUM(L201,Q201,V201,AA201,AF201)","v":0},{"$f":"SUM(M201,R201,W201,AB201,AG201)","v":0},{"$f":"SUM(N201,S201,X201,AC201,AH201,)","v":0},null,null,null,null,null,null,null,null,null,null,null,null,null,null,null,null,null,null,null,null,null,null,null,null,null,null,null,{"$f":"Раздел2!C202","v":0}]
[null,"Спортивное ориентирование","195",0,0,0,0,0,0,null,null,null,null,null,null,null,null,null,null,null,null,null,null,null,null,null,null,null,null,null,null,null,null,null,null,null,{"$f":"Раздел2!C203","v":0}]
[null,"Спортивный бридж","196",0,0,0,0,0,0,null,null,null,null,null,null,null,null,null,null,null,null,null,null,null,null,null,null,null,null,null,null,null,null,null,null,null,{"$f":"Раздел2!C204","v":0}]
[null,"Спортивный туризм","197",0,0,0,0,0,0,null,null,null,null,null,null,null,null,null,null,null,null,null,null,null,null,null,null,null,null,null,null,null,null,null,null,null,{"$f":"Раздел2!C205","v":0}]
[null,"Стендовая стрельба - всего","198",0,0,0,0,0,0,{"$f":"SUM(J206:J209)","v":0},{"$f":"SUM(K206:K209)","v":0},0,0,0,0,0,0,0,0,0,0,0,0,0,0,0,0,0,0,0,0,0,0,0,null,null,{"$f":"Раздел2!C206","v":0}]
[null,"в том числе:\nТрап","199",0,0,0,0,0,0,null,null,null,null,null,null,null,null,null,null,null,null,null,null,null,null,null,null,null,null,null,null,null,null,null,null,null,{"$f":"Раздел2!C207","v":0}]
[null,"Скит","200",0,0,0,0,0,0,null,null,null,null,null,null,null,null,null,null,null,null,null,null,null,null,null,null,null,null,null,null,null,null,null,null,null,{"$f":"Раздел2!C208","v":0}]
[null,"Дубль-трап","201",0,0,0,0,0,0,null,null,null,null,null,null,null,null,null,null,null,null,null,null,null,null,null,null,null,null,null,null,null,null,null,null,null,{"$f":"Раздел2!C209","v":0}]
[null,"Спортинг","202",0,0,0,0,0,0,null,null,null,null,null,null,null,null,null,null,null,null,null,null,null,null,null,null,null,null,null,null,null,null,null,null,null,{"$f":"Раздел2!C210","v":0}]
[null,"Страйкбол","203",0,0,0,0,0,0,null,null,null,null,null,null,null,null,null,null,null,null,null,null,null,null,null,null,null,null,null,null,null,null,null,null,null,{"$f":"Раздел2!C211","v":0}]
[null,"Стрельба из арбалета","204",0,0,0,0,0,0,null,null,null,null,null,null,null,null,null,null,null,null,null,null,null,null,null,null,null,null,null,null,null,null,null,null,null,{"$f":"Раздел2!C212","v":0}]
[null,"Стрельба из лука - всего","205",0,0,0,0,0,0,{"$f":"SUM(J213:J215)","v":0},{"$f":"SUM(K213:K215)","v":0},0,0,0,0,0,0,0,0,0,0,0,0,0,0,0,0,0,0,0,0,0,0,0,null,null,{"$f":"Раздел2!C213","v":0}]
[null,"в том числе:\nКлассический лук","206",0,0,0,0,0,0,null,null,null,null,null,null,null,null,null,null,null,null,null,null,null,null,null,null,null,null,null,null,null,null,null,null,null,{"$f":"Раздел2!C214","v":0}]
[null,"   Блочный лук","207",0,0,0,0,0,0,null,null,null,null,null,null,null,null,null,null,null,null,null,null,null,null,null,null,null,null,null,null,null,null,null,null,null,{"$f":"Раздел2!C215","v":0}]
[null,"   Ачери ","208",0,0,0,0,0,0,null,null,null,null,null,null,null,null,null,null,null,null,null,null,null,null,null,null,null,null,null,null,null,null,null,null,null,{"$f":"Раздел2!C216","v":0}]
[null,"Судомодельный спорт","209",0,0,0,0,0,0,null,null,null,null,null,null,null,null,null,null,null,null,null,null,null,null,null,null,null,null,null,null,null,null,null,null,null,{"$f":"Раздел2!C217","v":0}]
[null,"Сумо","210",0,0,0,0,0,0,null,null,null,null,null,null,null,null,null,null,null,null,null,null,null,null,null,null,null,null,null,null,null,null,null,null,null,{"$f":"Раздел2!C218","v":0}]
[null,"Таврели","211",0,0,0,0,0,0,null,null,null,null,null,null,null,null,null,null,null,null,null,null,null,null,null,null,null,null,null,null,null,null,null,null,null,{"$f":"Раздел2!C219","v":0}]
[null,"Тайский бокс","212",0,0,0,0,0,0,null,null,null,null,null,null,null,null,null,null,null,null,null,null,null,null,null,null,null,null,null,null,null,null,null,null,null,{"$f":"Раздел2!C220","v":0}]
[null,"Танцевальный спорт","213",0,0,0,0,0,0,null,null,null,null,null,null,null,null,null,null,null,null,null,null,null,null,null,null,null,null,null,null,null,null,null,null,null,{"$f":"Раздел2!C221","v":0}]
[null,"Теннис","214",0,0,0,0,0,0,null,null,null,null,null,null,null,null,null,null,null,null,null,null,null,null,null,null,null,null,null,null,null,null,null,null,null,{"$f":"Раздел2!C222","v":0}]
[null,"Триатлон","215",0,0,0,0,0,0,null,null,null,null,null,null,null,null,null,null,null,null,null,null,null,null,null,null,null,null,null,null,null,null,null,null,null,{"$f":"Раздел2!C223","v":0}]
[null,"Тхэквондо (ВТФ)","216",0,0,0,0,0,0,null,null,null,null,null,null,null,null,null,null,null,null,null,null,null,null,null,null,null,null,null,null,null,null,null,null,null,{"$f":"Раздел2!C224","v":0}]
[null,"Тхэквондо ГТФ","217",0,0,0,0,0,0,null,null,null,null,null,null,null,null,null,null,null,null,null,null,null,null,null,null,null,null,null,null,null,null,null,null,null,{"$f":"Раздел2!C225","v":0}]
[null,"Тхэквондо ИТФ","218",0,0,0,0,0,0,null,null,null,null,null,null,null,null,null,null,null,null,null,null,null,null,null,null,null,null,null,null,null,null,null,null,null,{"$f":"Раздел2!C226","v":0}]
[null,"Тхэквондо МФТ","219",0,0,0,0,0,0,null,null,null,null,null,null,null,null,null,null,null,null,null,null,null,null,null,null,null,null,null,null,null,null,null,null,null,{"$f":"Раздел2!C227","v":0}]
[null,"Тяжелая атлетика","220",0,0,0,0,0,0,null,null,null,null,null,null,null,null,null,null,null,null,null,null,null,null,null,null,null,null,null,null,null,null,null,null,null,{"$f":"Раздел2!C228","v":0}]
[null,"Универсальный бой","221",0,0,0,0,0,0,null,null,null,null,null,null,null,null,null,null,null,null,null,null,null,null,null,null,null,null,null,null,null,null,null,null,null,{"$f":"Раздел2!C229","v":0}]
[null,"Ушу","222",0,0,0,0,0,0,null,null,null,null,null,null,null,null,null,null,null,null,null,null,null,null,null,null,null,null,null,null,null,null,null,null,null,{"$f":"Раздел2!C230","v":0}]
[null,"Фехтование - всего","223",0,0,0,0,0,0,{"$f":"SUM(J231:J234)","v":0},{"$f":"SUM(K231:K234)","v":0},0,0,0,0,0,0,0,0,0,0,0,0,0,0,0,0,0,0,0,0,0,0,0,null,null,{"$f":"Раздел2!C231","v":0}]
[null,"в том числе:\nРапира","224",0,0,0,0,0,0,null,null,null,null,null,null,null,null,null,null,null,null,null,null,null,null,null,null,null,null,null,null,null,null,null,null,null,{"$f":"Раздел2!C232","v":0}]
[null,"Сабля","225",0,0,0,0,0,0,null,null,null,null,null,null,null,null,null,null,null,null,null,null,null,null,null,null,null,null,null,null,null,null,null,null,null,{"$f":"Раздел2!C233","v":0}]
[null,"Шпага","226",0,0,0,0,0,0,null,null,null,null,null,null,null,null,null,null,null,null,null,null,null,null,null,null,null,null,null,null,null,null,null,null,null,{"$f":"Раздел2!C234","v":0}]
[null,"Арт-фехтование","227",0,0,0,0,0,0,null,null,null,null,null,null,null,null,null,null,null,null,null,null,null,null,null,null,null,null,null,null,null,null,null,null,null,{"$f":"Раздел2!C235","v":0}]
[null,"Фигурное катание на коньках","228",0,0,0,0,0,0,null,null,null,null,null,null,null,null,null,null,null,null,null,null,null,null,null,null,null,null,null,null,null,null,null,null,null,{"$f":"Раздел2!C236","v":0}]
[null,"Фитнес-аэробика","229",0,0,0,0,0,0,null,null,null,null,null,null,null,null,null,null,null,null,null,null,null,null,null,null,null,null,null,null,null,null,null,null,null,{"$f":"Раздел2!C237","v":1}]
[null,"Флаинг диск","230",0,0,0,0,0,0,null,null,null,null,null,null,null,null,null,null,null,null,null,null,null,null,null,null,null,null,null,null,null,null,null,null,null,{"$f":"Раздел2!C238","v":0}]
[null,"Флорбол","231",0,0,0,0,0,0,null,null,null,null,null,null,null,null,null,null,null,null,null,null,null,null,null,null,null,null,null,null,null,null,null,null,null,{"$f":"Раздел2!C239","v":0}]
[null,"Фристайл - всего","232",0,0,0,0,0,0,{"$f":"SUM(J240:J245)","v":0},{"$f":"SUM(K240:K245)","v":0},0,0,0,0,0,0,0,0,0,0,0,0,0,0,0,0,0,0,0,0,0,0,0,null,null,{"$f":"Раздел2!C240","v":0}]
[null,"в том числе:\nАкробатика","233",0,0,0,0,0,0,null,null,null,null,null,null,null,null,null,null,null,null,null,null,null,null,null,null,null,null,null,null,null,null,null,null,null,{"$f":"Раздел2!C241","v":0}]
[null,"Биг-эйр","234",0,0,0,0,0,0,null,null,null,null,null,null,null,null,null,null,null,null,null,null,null,null,null,null,null,null,null,null,null,null,null,null,null,{"$f":"Раздел2!C242","v":0}]
[null,"Могул","235",0,0,0,0,0,0,null,null,null,null,null,null,null,null,null,null,null,null,null,null,null,null,null,null,null,null,null,null,null,null,null,null,null,{"$f":"Раздел2!C243","v":0}]
[null,"Ски-кросс","236",0,0,0,0,0,0,null,null,null,null,null,null,null,null,null,null,null,null,null,null,null,null,null,null,null,null,null,null,null,null,null,null,null,{"$f":"Раздел2!C244","v":0}]
[null,"Хаф-пайп","237",0,0,0,0,0,0,null,null,null,null,null,null,null,null,null,null,null,null,null,null,null,null,null,null,null,null,null,null,null,null,null,null,null,{"$f":"Раздел2!C245","v":0}]
[null,"Слоуп-стайл","238",0,0,0,0,0,0,null,null,null,null,null,null,null,null,null,null,null,null,null,null,null,null,null,null,null,null,null,null,null,null,null,null,null,{"$f":"Раздел2!C246","v":0}]
[null,"Функциональное многоборье","239",0,0,0,0,0,0,null,null,null,null,null,null,null,null,null,null,null,null,null,null,null,null,null,null,null,null,null,null,null,null,null,null,null,{"$f":"Раздел2!C247","v":0}]
[null,"Футбол - всего","240",0,0,0,0,0,0,{"$f":"SUM(J248:J253)","v":0},{"$f":"SUM(K248:K253)","v":0},0,0,0,0,0,0,0,0,0,0,0,0,0,0,0,0,0,0,0,0,0,0,0,null,null,{"$f":"Раздел2!C248","v":1}]
[null,"в том числе:\nФутбол (муж.)","241",0,0,0,0,0,0,null,null,null,null,null,null,null,null,null,null,null,null,null,null,null,null,null,null,null,null,null,null,null,null,null,null,null,{"$f":"Раздел2!C249","v":0}]
[null,"Футбол (жен.)","242",0,0,0,0,0,0,null,null,null,null,null,null,null,null,null,null,null,null,null,null,null,null,null,null,null,null,null,null,null,null,null,null,null,{"$f":"Раздел2!C250","v":0}]
[null,"Мини-футбол (футзал)","243",0,0,0,0,0,0,null,null,null,null,null,null,null,null,null,null,null,null,null,null,null,null,null,null,null,null,null,null,null,null,null,null,null,{"$f":"Раздел2!C251","v":1}]
[null,"Пляжный футбол","244",0,0,0,0,0,0,null,null,null,null,null,null,null,null,null,null,null,null,null,null,null,null,null,null,null,null,null,null,null,null,null,null,null,{"$f":"Раздел2!C252","v":0}]
[null,"Футбол 6х6, 7х7, 8х8","245",0,0,0,0,0,0,null,null,null,null,null,null,null,null,null,null,null,null,null,null,null,null,null,null,null,null,null,null,null,null,null,null,null,{"$f":"Раздел2!C253","v":0}]
[null,"Интерактивный футбол","246",0,0,0,0,0,0,null,null,null,null,null,null,null,null,null,null,null,null,null,null,null,null,null,null,null,null,null,null,null,null,null,null,null,{"$f":"Раздел2!C254","v":0}]
[null,"Футгольф","247",0,0,0,0,0,0,null,null,null,null,null,null,null,null,null,null,null,null,null,null,null,null,null,null,null,null,null,null,null,null,null,null,null,{"$f":"Раздел2!C255","v":0}]
[null,"Хапкидо","248",0,0,0,0,0,0,null,null,null,null,null,null,null,null,null,null,null,null,null,null,null,null,null,null,null,null,null,null,null,null,null,null,null,{"$f":"Раздел2!C256","v":0}]
[null,"Хапсагай","249",0,0,0,0,0,0,null,null,null,null,null,null,null,null,null,null,null,null,null,null,null,null,null,null,null,null,null,null,null,null,null,null,null,{"$f":"Раздел2!C257","v":0}]
[null,"Хоккей - всего","250",0,0,0,0,0,0,{"$f":"SUM(J258:J259)","v":0},{"$f":"SUM(K258:K259)","v":0},0,0,0,0,0,0,0,0,0,0,0,0,0,0,0,0,0,0,0,0,0,0,0,null,null,{"$f":"Раздел2!C258","v":0}]
[null,"в том числе:\nХоккей (муж.)","251",0,0,0,0,0,0,null,null,null,null,null,null,null,null,null,null,null,null,null,null,null,null,null,null,null,null,null,null,null,null,null,null,null,{"$f":"Раздел2!C259","v":0}]
[null,"Хоккей (жен.)","252",0,0,0,0,0,0,null,null,null,null,null,null,null,null,null,null,null,null,null,null,null,null,null,null,null,null,null,null,null,null,null,null,null,{"$f":"Раздел2!C260","v":0}]
[null,"Хоккей на траве - всего","253",0,0,0,0,0,0,{"$f":"SUM(J261:J263)","v":0},{"$f":"SUM(K261:K263)","v":0},0,0,0,0,0,0,0,0,0,0,0,0,0,0,0,0,0,0,0,0,0,0,0,null,null,{"$f":"Раздел2!C261","v":0}]
[null,"в том числе:\nХоккей на траве (муж.)","254",0,0,0,0,0,0,null,null,null,null,null,null,null,null,null,null,null,null,null,null,null,null,null,null,null,null,null,null,null,null,null,null,null,{"$f":"Раздел2!C262","v":0}]
[null,"Хоккей на траве (жен.)","255",0,0,0,0,0,0,null,null,null,null,null,null,null,null,null,null,null,null,null,null,null,null,null,null,null,null,null,null,null,null,null,null,null,{"$f":"Раздел2!C263","v":0}]
[null,"Индорхоккей","256",0,0,0,0,0,0,null,null,null,null,null,null,null,null,null,null,null,null,null,null,null,null,null,null,null,null,null,null,null,null,null,null,null,{"$f":"Раздел2!C264","v":0}]
[null,"Хоккей с мячом","257",0,0,0,0,0,0,null,null,null,null,null,null,null,null,null,null,null,null,null,null,null,null,null,null,null,null,null,null,null,null,null,null,null,{"$f":"Раздел2!C265","v":0}]
[null,"Художественная гимнастика","258",{"$f":"SUM(E265:G265)","v":0},{"$f":"SUM(J265,O265,T265,Y265,AD265)","v":0},{"$f":"SUM(K265,P265,U265,Z265,AE265)","v":0},{"$f":"SUM(L265,Q265,V265,AA265,AF265)","v":0},{"$f":"SUM(M265,R265,W265,AB265,AG265)","v":0},{"$f":"SUM(N265,S265,X265,AC265,AH265,)","v":0},null,null,null,null,null,null,null,null,null,null,null,null,null,null,null,null,null,null,null,null,null,null,null,null,null,null,null,{"$f":"Раздел2!C266","v":0}]
[null,"Хуреш","259",0,0,0,0,0,0,null,null,null,null,null,null,null,null,null,null,null,null,null,null,null,null,null,null,null,null,null,null,null,null,null,null,null,{"$f":"Раздел2!C267","v":0}]
[null,"Чир спорт","260",0,0,0,0,0,0,null,null,null,null,null,null,null,null,null,null,null,null,null,null,null,null,null,null,null,null,null,null,null,null,null,null,null,{"$f":"Раздел2!C268","v":0}]
[null,"Шахматы","261",0,0,0,0,0,0,null,null,null,null,null,null,null,null,null,null,null,null,null,null,null,null,null,null,null,null,null,null,null,null,null,null,null,{"$f":"Раздел2!C269","v":0}]
[null,"Шашки","262",0,0,0,0,0,0,null,null,null,null,null,null,null,null,null,null,null,null,null,null,null,null,null,null,null,null,null,null,null,null,null,null,null,{"$f":"Раздел2!C270","v":0}]
[null,"Шодсанлат","263",0,0,0,0,0,0,null,null,null,null,null,null,null,null,null,null,null,null,null,null,null,null,null,null,null,null,null,null,null,null,null,null,null,{"$f":"Раздел2!C271","v":0}]
[null,"Эстетическая гимнастика","264",0,0,0,0,0,0,null,null,null,null,null,null,null,null,null,null,null,null,null,null,null,null,null,null,null,null,null,null,null,null,null,null,null,{"$f":"Раздел2!C272","v":0}]
[null,"Якутские национальные прыжки","265",0,{"$f":"SUM(J272,O272,T272,Y272,AD272)","v":0},{"$f":"SUM(K272,P272,U272,Z272,AE272)","v":0},0,0,0,null,null,null,null,null,null,null,null,null,null,null,null,null,null,null,null,null,null,null,null,null,null,null,null,null,null,null,{"$f":"Раздел2!C273","v":0}]
[null,"ИТОГО","266",5,2,2,1,3,3,{"$f":"SUM(J8:J20,J24:J27,J30:J35,J46:J51,J56:J58,J40:J43,J62:J72,J77:J86,J90:J96,J99:J104,J112:J117,J118:J126,J129:J134,J137,J142:J143,J149:J152,J158:J164,J165:J179,J180:J192,J198:J205,J210:J212,J216:J220,J221:J230,J235:J239,J246:J247,J254:J257,J260,J264:J272)","v":0},{"$f":"SUM(K8:K20,K24:K27,K30:K35,K46:K51,K56:K58,K40:K43,K62:K72,K77:K86,K90:K96,K99:K104,K112:K117,K118:K126,K129:K134,K137,K142:K143,K149:K152,K158:K164,K165:K179,K180:K192,K198:K205,K210:K212,K216:K220,K221:K230,K235:K239,K246:K247,K254:K257,K260,K264:K272)","v":0},{"$f":"SUM(L8:L20,L24:L27,L30:L35,L46:L51,L56:L58,L40:L43,L62:L72,L77:L86,L90:L96,L99:L104,L112:L117,L118:L126,L129:L134,L137,L142:L143,L149:L152,L158:L164,L165:L179,L180:L192,L198:L205,L210:L212,L216:L220,L221:L230,L235:L239,L246:L247,L254:L257,L260,L264:L272)","v":0},0,0,0,1,0,1,0,2,1,1,2,3,0,0,0,0,0,0,0,0,0,0,null,null,{"$f":"Раздел2!C274","v":8}]

{"sheet":"Раздел8","index":8,"n_rows":273,"n_cols":62,"rows_kept":273,"cut":false,"hidden":false,"merged":[[2,1,5,1],[2,2,2,32],[2,33,2,57],[2,0,5,0],[0,0,0,32],[2,60,5,60],[3,2,4,7],[3,8,4,12],[3,13,4,17],[3,18,4,22],[3,23,4,27],[3,28,4,32],[3,33,4,37],[3,38,4,42],[3,43,4,47],[3,48,4,52],[3,53,4,57],[0,58,126,58],[1,23,1,32],[1,50,1,57]]}
["Раздел VIII. Международные спортивные соревнования"]
[null,null,null,null,null,null,null,null,null,null,null,null,null,null,null,null,null,null,null,null,null,null,null,"Коды по ОКЕИ: единица - 642"]
["Виды спорта","№ строки","Результаты выступлений на соревнованиях",null,null,null,null,null,null,null,null,null,null,null,null,null,null,null,null,null,null,null,null,null,null,null,null,null,null,null,null,null,null,"Результаты выступлений на соревнованиях",null,null,null,null,null,null,null,null,null,null,null,null,null,null,null,null,null,null,null,null,null,null,null,null,null,null,"Раздел2 графа3\nЧисло отделений"]
[null,null,"Всего",null,null,null,null,null,"Олимпийские игры",null,null,null,null,"Чемпионат мира",null,null,null,null,"Юношеские Олимпийские игры",null,null,null,null,"Первенство мира",null,null,null,null,"Кубок мира",null,null,null,null,"Этапы Кубка мира",null,null,null,null,"Чемпионат Европы",null,null,null,null,"Первенство Европы",null,null,null,null,"Кубок Европы",null,null,null,null,"Прочие официальные между-народные соревнования"]
[]
[null,null,"медали \n(1-3 место)",1,2,3,"4-6","учас-тие",1,2,3,"4-6","учас-тие",1,2,3,"4-6","учас-тие",1,2,3,"4-6","учас-тие",1,2,3,"4-6","учас-тие",1,2,3,"4-6","учас-тие",1,2,3,"4-6","учас-тие",1,2,3,"4-6","учас-тие",1,2,3,"4-6","учас-тие",1,2,3,"4-6","учас-тие",1,2,3,"4-6","учас-тие"]
[1,2,3,4,5,6,7,8,9,10,11,12,13,14,15,16,17,18,19,20,21,22,23,24,25,26,27,28,29,30,31,32,33,34,35,36,37,38,39,40,41,42,43,44,45,46,47,48,49,50,51,52,53,54,55,56,57,58,null,null,null,"ЦСР?"]
["Авиамодельный спорт","01",{"$f":"SUM(D8:F8)","v":0},{"$f":"SUM(I8,N8,S8,X8,AC8,AH8,AM8,AR8,AW8,BB8)","v":0},{"$f":"SUM(J8,O8,T8,Y8,AD8,AI8,AN8,AS8,AX8,BC8)","v":0},{"$f":"SUM(K8,P8,U8,Z8,AE8,AJ8,AO8,AT8,AY8,BD8)","v":0},{"$f":"SUM(L8,Q8,V8,AA8,AF8,AK8,AP8,AU8,AZ8,BE8)","v":0},{"$f":"SUM(M8,R8,W8,AB8,AG8,AL8,AQ8,AV8,BA8,BF8)","v":0},null,null,null,null,null,null,null,null,null,null,null,null,null,null,null,null,null,null,null,null,null,null,null,null,null,null,null,null,null,null,null,null,null,null,null,null,null,null,null,null,null,null,null,null,null,null,null,null,null,null,null,null,{"$f":"Раздел2!C9","v":0},{"$f":"Раздел1!I18","v":0}]
["Автомобильный спорт","02",{"$f":"SUM(D9:F9)","v":0},{"$f":"SUM(I9,N9,S9,X9,AC9,AH9,AM9,AR9,AW9,BB9)","v":0},{"$f":"SUM(J9,O9,T9,Y9,AD9,AI9,AN9,AS9,AX9,BC9)","v":0},{"$f":"SUM(K9,P9,U9,Z9,AE9,AJ9,AO9,AT9,AY9,BD9)","v":0},{"$f":"SUM(L9,Q9,V9,AA9,AF9,AK9,AP9,AU9,AZ9,BE9)","v":0},{"$f":"SUM(M9,R9,W9,AB9,AG9,AL9,AQ9,AV9,BA9,BF9)","v":0},null,null,null,null,null,null,null,null,null,null,null,null,null,null,null,null,null,null,null,null,null,null,null,null,null,null,null,null,null,null,null,null,null,null,null,null,null,null,null,null,null,null,null,null,null,null,null,null,null,null,null,null,{"$f":"Раздел2!C10","v":0}]
["Автомодельный спорт","03",0,0,0,0,0,0,null,null,null,null,null,null,null,null,null,null,null,null,null,null,null,null,null,null,null,null,null,null,null,null,null,null,null,null,null,null,null,null,null,null,null,null,null,null,null,null,null,null,null,null,null,null,null,null,null,null,null,null,{"$f":"Раздел2!C11","v":0}]
["Айкидо","04",0,0,0,0,0,0,null,null,null,null,null,null,null,null,null,null,null,null,null,null,null,null,null,null,null,null,null,null,null,null,null,null,null,null,null,null,null,null,null,null,null,null,null,null,null,null,null,null,null,null,null,null,null,null,null,null,null,null,{"$f":"Раздел2!C12","v":1}]
["Айсшток","05",0,0,0,0,0,0,null,null,null,null,null,null,null,null,null,null,null,null,null,null,null,null,null,null,null,null,null,null,null,null,null,null,null,null,null,null,null,null,null,null,null,null,null,null,null,null,null,null,null,null,null,null,null,null,null,null,null,null,{"$f":"Раздел2!C13","v":0}]
["Акробатический рок-н-ролл","06",0,0,0,0,0,0,null,null,null,null,null,null,null,null,null,null,null,null,null,null,null,null,null,null,null,null,null,null,null,null,null,null,null,null,null,null,null,null,null,null,null,null,null,null,null,null,null,null,null,null,null,null,null,null,null,null,null,null,{"$f":"Раздел2!C14","v":0}]
["Альпинизм","07",0,0,0,0,0,0,null,null,null,null,null,null,null,null,null,null,null,null,null,null,null,null,null,null,null,null,null,null,null,null,null,null,null,null,null,null,null,null,null,null,null,null,null,null,null,null,null,null,null,null,null,null,null,null,null,null,null,null,{"$f":"Раздел2!C15","v":0}]
["Американский футбол","08",0,0,0,0,0,0,null,null,null,null,null,null,null,null,null,null,null,null,null,null,null,null,null,null,null,null,null,null,null,null,null,null,null,null,null,null,null,null,null,null,null,null,null,null,null,null,null,null,null,null,null,null,null,null,null,null,null,null,{"$f":"Раздел2!C16","v":0}]
["Армейский рукопашный бой","09",0,0,0,0,0,0,null,null,null,null,null,null,null,null,null,null,null,null,null,null,null,null,null,null,null,null,null,null,null,null,null,null,null,null,null,null,null,null,null,null,null,null,null,null,null,null,null,null,null,null,null,null,null,null,null,null,null,null,{"$f":"Раздел2!C17","v":0}]
["Армейское тактико-стрелковое многоборье","10",0,0,0,0,0,0,null,null,null,null,null,null,null,null,null,null,null,null,null,null,null,null,null,null,null,null,null,null,null,null,null,null,null,null,null,null,null,null,null,null,null,null,null,null,null,null,null,null,null,null,null,null,null,null,null,null,null,null,{"$f":"Раздел2!C18","v":0}]
["Армрестлинг","11",0,0,0,0,0,0,null,null,null,null,null,null,null,null,null,null,null,null,null,null,null,null,null,null,null,null,null,null,null,null,null,null,null,null,null,null,null,null,null,null,null,null,null,null,null,null,null,null,null,null,null,null,null,null,null,null,null,null,{"$f":"Раздел2!C19","v":0}]
["Бадминтон","12",0,0,0,0,0,0,null,null,null,null,null,null,null,null,null,null,null,null,null,null,null,null,null,null,null,null,null,null,null,null,null,null,null,null,null,null,null,null,null,null,null,null,null,null,null,null,null,null,null,null,null,null,null,null,null,null,null,null,{"$f":"Раздел2!C20","v":0}]
["Баскетбол - всего","13",0,0,0,0,0,0,{"$f":"SUM(I21:I23)","v":0},{"$f":"SUM(J21:J23)","v":0},0,0,0,0,0,0,0,0,0,0,0,0,0,0,0,0,0,0,0,0,0,0,0,0,0,0,0,0,0,0,0,0,0,0,0,0,0,0,0,0,0,0,0,0,0,0,0,0,null,null,{"$f":"Раздел2!C21","v":1}]
["в том числе:\nБаскетбол (муж.)","14",0,0,0,0,0,0,null,null,null,null,null,null,null,null,null,null,null,null,null,null,null,null,null,null,null,null,null,null,null,null,null,null,null,null,null,null,null,null,null,null,null,null,null,null,null,null,null,null,null,null,null,null,null,null,null,null,null,null,{"$f":"Раздел2!C22","v":1}]
["Баскетбол (жен.)","15",0,0,0,0,0,0,null,null,null,null,null,null,null,null,null,null,null,null,null,null,null,null,null,null,null,null,null,null,null,null,null,null,null,null,null,null,null,null,null,null,null,null,null,null,null,null,null,null,null,null,null,null,null,null,null,null,null,null,{"$f":"Раздел2!C23","v":1}]
["Баскетбол 3х3","16",0,0,0,0,0,0,null,null,null,null,null,null,null,null,null,null,null,null,null,null,null,null,null,null,null,null,null,null,null,null,null,null,null,null,null,null,null,null,null,null,null,null,null,null,null,null,null,null,null,null,null,null,null,null,null,null,null,null,{"$f":"Раздел2!C24","v":0}]
["Бейсбол","17",0,0,0,0,0,0,null,null,null,null,null,null,null,null,null,null,null,null,null,null,null,null,null,null,null,null,null,null,null,null,null,null,null,null,null,null,null,null,null,null,null,null,null,null,null,null,null,null,null,null,null,null,null,null,null,null,null,null,{"$f":"Раздел2!C25","v":0}]
["Биатлон","18",0,0,0,0,0,0,null,null,null,null,null,null,null,null,null,null,null,null,null,null,null,null,null,null,null,null,null,null,null,null,null,null,null,null,null,null,null,null,null,null,null,null,null,null,null,null,null,null,null,null,null,null,null,null,null,null,null,null,{"$f":"Раздел2!C26","v":0}]
["Бильярдный спорт","19",0,0,0,0,0,0,null,null,null,null,null,null,null,null,null,null,null,null,null,null,null,null,null,null,null,null,null,null,null,null,null,null,null,null,null,null,null,null,null,null,null,null,null,null,null,null,null,null,null,null,null,null,null,null,null,null,null,null,{"$f":"Раздел2!C27","v":0}]
["Бобслей - всего","20",0,0,0,0,0,0,{"$f":"SUM(I28:I29)","v":0},{"$f":"SUM(J28:J29)","v":0},0,0,0,0,0,0,0,0,0,0,0,0,0,0,0,0,0,0,0,0,0,0,0,0,0,0,0,0,0,0,0,0,0,0,0,0,0,0,0,0,0,0,0,0,0,0,0,0,null,null,{"$f":"Раздел2!C28","v":0}]
["в том числе:\nБобслей","21",0,0,0,0,0,0,null,null,null,null,null,null,null,null,null,null,null,null,null,null,null,null,null,null,null,null,null,null,null,null,null,null,null,null,null,null,null,null,null,null,null,null,null,null,null,null,null,null,null,null,null,null,null,null,null,null,null,null,{"$f":"Раздел2!C29","v":0}]
["Скелетон","22",0,0,0,0,0,0,null,null,null,null,null,null,null,null,null,null,null,null,null,null,null,null,null,null,null,null,null,null,null,null,null,null,null,null,null,null,null,null,null,null,null,null,null,null,null,null,null,null,null,null,null,null,null,null,null,null,null,null,{"$f":"Раздел2!C30","v":0}]
["Бодибилдинг","23",0,0,0,0,0,0,null,null,null,null,null,null,null,null,null,null,null,null,null,null,null,null,null,null,null,null,null,null,null,null,null,null,null,null,null,null,null,null,null,null,null,null,null,null,null,null,null,null,null,null,null,null,null,null,null,null,null,null,{"$f":"Раздел2!C31","v":0}]
["Бокс","24",0,0,0,0,0,0,null,null,null,null,null,null,null,null,null,null,null,null,null,null,null,null,null,null,null,null,null,null,null,null,null,null,null,null,null,null,null,null,null,null,null,null,null,null,null,null,null,null,null,null,null,null,null,null,null,null,null,null,{"$f":"Раздел2!C32","v":0}]
["Борьба на поясах","25",0,0,0,0,0,0,null,null,null,null,null,null,null,null,null,null,null,null,null,null,null,null,null,null,null,null,null,null,null,null,null,null,null,null,null,null,null,null,null,null,null,null,null,null,null,null,null,null,null,null,null,null,null,null,null,null,null,null,{"$f":"Раздел2!C33","v":0}]
["Боулинг","26",0,0,0,0,0,0,null,null,null,null,null,null,null,null,null,null,null,null,null,null,null,null,null,null,null,null,null,null,null,null,null,null,null,null,null,null,null,null,null,null,null,null,null,null,null,null,null,null,null,null,null,null,null,null,null,null,null,null,{"$f":"Раздел2!C34","v":0}]
["Боулспорт","27",0,0,0,0,0,0,null,null,null,null,null,null,null,null,null,null,null,null,null,null,null,null,null,null,null,null,null,null,null,null,null,null,null,null,null,null,null,null,null,null,null,null,null,null,null,null,null,null,null,null,null,null,null,null,null,null,null,null,{"$f":"Раздел2!C35","v":0}]
["Велосипедный спорт - всего","28",0,0,0,0,0,0,{"$f":"SUM(I36:I39)","v":0},{"$f":"SUM(J36:J39)","v":0},0,0,0,0,0,0,0,0,0,0,0,0,0,0,0,0,0,0,0,0,0,0,0,0,0,0,0,0,0,0,0,0,0,0,0,0,0,0,0,0,0,0,0,0,0,0,0,0,null,null,{"$f":"Раздел2!C36","v":0}]
["в том числе:\nBMX","29",0,0,0,0,0,0,null,null,null,null,null,null,null,null,null,null,null,null,null,null,null,null,null,null,null,null,null,null,null,null,null,null,null,null,null,null,null,null,null,null,null,null,null,null,null,null,null,null,null,null,null,null,null,null,null,null,null,null,{"$f":"Раздел2!C37","v":0}]
["Маунтинбайк","30",0,0,0,0,0,0,null,null,null,null,null,null,null,null,null,null,null,null,null,null,null,null,null,null,null,null,null,null,null,null,null,null,null,null,null,null,null,null,null,null,null,null,null,null,null,null,null,null,null,null,null,null,null,null,null,null,null,null,{"$f":"Раздел2!C38","v":0}]
["Трек","31",0,0,0,0,0,0,null,null,null,null,null,null,null,null,null,null,null,null,null,null,null,null,null,null,null,null,null,null,null,null,null,null,null,null,null,null,null,null,null,null,null,null,null,null,null,null,null,null,null,null,null,null,null,null,null,null,null,null,{"$f":"Раздел2!C39","v":0}]
["Шоссе","32",0,0,0,0,0,0,null,null,null,null,null,null,null,null,null,null,null,null,null,null,null,null,null,null,null,null,null,null,null,null,null,null,null,null,null,null,null,null,null,null,null,null,null,null,null,null,null,null,null,null,null,null,null,null,null,null,null,null,{"$f":"Раздел2!C40","v":0}]
["Вертолетный спорт","33",0,0,0,0,0,0,null,null,null,null,null,null,null,null,null,null,null,null,null,null,null,null,null,null,null,null,null,null,null,null,null,null,null,null,null,null,null,null,null,null,null,null,null,null,null,null,null,null,null,null,null,null,null,null,null,null,null,null,{"$f":"Раздел2!C41","v":0}]
["Водно-моторный спорт","34",0,0,0,0,0,0,null,null,null,null,null,null,null,null,null,null,null,null,null,null,null,null,null,null,null,null,null,null,null,null,null,null,null,null,null,null,null,null,null,null,null,null,null,null,null,null,null,null,null,null,null,null,null,null,null,null,null,null,{"$f":"Раздел2!C42","v":0}]
["Водно-спасательное многоборье","35",0,0,0,0,0,0,null,null,null,null,null,null,null,null,null,null,null,null,null,null,null,null,null,null,null,null,null,null,null,null,null,null,null,null,null,null,null,null,null,null,null,null,null,null,null,null,null,null,null,null,null,null,null,null,null,null,null,null,{"$f":"Раздел2!C43","v":0}]
["Водное поло - всего ","36",0,0,0,0,0,0,{"$f":"SUM(I44:I45)","v":0},{"$f":"SUM(J44:J45)","v":0},0,0,0,0,0,0,0,0,0,0,0,0,0,0,0,0,0,0,0,0,0,0,0,0,0,0,0,0,0,0,0,0,0,0,0,0,0,0,0,0,0,0,0,0,0,0,0,0,null,null,{"$f":"Раздел2!C44","v":0}]
["в том числе:\nВодное поло (муж.)","37",0,0,0,0,0,0,null,null,null,null,null,null,null,null,null,null,null,null,null,null,null,null,null,null,null,null,null,null,null,null,null,null,null,null,null,null,null,null,null,null,null,null,null,null,null,null,null,null,null,null,null,null,null,null,null,null,null,null,{"$f":"Раздел2!C45","v":0}]
["Водное поло (жен.)","38",0,0,0,0,0,0,null,null,null,null,null,null,null,null,null,null,null,null,null,null,null,null,null,null,null,null,null,null,null,null,null,null,null,null,null,null,null,null,null,null,null,null,null,null,null,null,null,null,null,null,null,null,null,null,null,null,null,null,{"$f":"Раздел2!C46","v":0}]
["Воднолыжный спорт","39",0,0,0,0,0,0,null,null,null,null,null,null,null,null,null,null,null,null,null,null,null,null,null,null,null,null,null,null,null,null,null,null,null,null,null,null,null,null,null,null,null,null,null,null,null,null,null,null,null,null,null,null,null,null,null,null,null,null,{"$f":"Раздел2!C47","v":0}]
["Военно-прикладной спорт","40",0,0,0,0,0,0,null,null,null,null,null,null,null,null,null,null,null,null,null,null,null,null,null,null,null,null,null,null,null,null,null,null,null,null,null,null,null,null,null,null,null,null,null,null,null,null,null,null,null,null,null,null,null,null,null,null,null,null,{"$f":"Раздел2!C48","v":0}]
["Военно-спортивное многоборье","41",0,0,0,0,0,0,null,null,null,null,null,null,null,null,null,null,null,null,null,null,null,null,null,null,null,null,null,null,null,null,null,null,null,null,null,null,null,null,null,null,null,null,null,null,null,null,null,null,null,null,null,null,null,null,null,null,null,null,{"$f":"Раздел2!C49","v":0}]
["Воздухоплавательный спорт","42",0,0,0,0,0,0,null,null,null,null,null,null,null,null,null,null,null,null,null,null,null,null,null,null,null,null,null,null,null,null,null,null,null,null,null,null,null,null,null,null,null,null,null,null,null,null,null,null,null,null,null,null,null,null,null,null,null,null,{"$f":"Раздел2!C50","v":0}]
["Воздушно-силовая атлетика","43",0,0,0,0,0,0,null,null,null,null,null,null,null,null,null,null,null,null,null,null,null,null,null,null,null,null,null,null,null,null,null,null,null,null,null,null,null,null,null,null,null,null,null,null,null,null,null,null,null,null,null,null,null,null,null,null,null,null,{"$f":"Раздел2!C51","v":0}]
["Волейбол - всего","44",0,0,0,0,0,0,{"$f":"SUM(I52:I55)","v":0},{"$f":"SUM(J52:J55)","v":0},0,0,0,0,0,0,0,0,0,0,0,0,0,0,0,0,0,0,0,0,0,0,0,0,0,0,0,0,0,0,0,0,0,0,0,0,0,0,0,0,0,0,0,0,0,0,0,0,null,null,{"$f":"Раздел2!C52","v":1}]
["в том числе:\nВолейбол (муж.)","45",0,0,0,0,0,0,null,null,null,null,null,null,null,null,null,null,null,null,null,null,null,null,null,null,null,null,null,null,null,null,null,null,null,null,null,null,null,null,null,null,null,null,null,null,null,null,null,null,null,null,null,null,null,null,null,null,null,null,{"$f":"Раздел2!C53","v":1}]
["Волейбол (жен.)","46",0,0,0,0,0,0,null,null,null,null,null,null,null,null,null,null,null,null,null,null,null,null,null,null,null,null,null,null,null,null,null,null,null,null,null,null,null,null,null,null,null,null,null,null,null,null,null,null,null,null,null,null,null,null,null,null,null,null,{"$f":"Раздел2!C54","v":1}]
["Пляжный волейбол (муж.)","47",0,0,0,0,0,0,null,null,null,null,null,null,null,null,null,null,null,null,null,null,null,null,null,null,null,null,null,null,null,null,null,null,null,null,null,null,null,null,null,null,null,null,null,null,null,null,null,null,null,null,null,null,null,null,null,null,null,null,{"$f":"Раздел2!C55","v":0}]
["Пляжный волейбол (жен.)","48",0,0,0,0,0,0,null,null,null,null,null,null,null,null,null,null,null,null,null,null,null,null,null,null,null,null,null,null,null,null,null,null,null,null,null,null,null,null,null,null,null,null,null,null,null,null,null,null,null,null,null,null,null,null,null,null,null,null,{"$f":"Раздел2!C56","v":0}]
["Восточное боевое единоборство","49",0,0,0,0,0,0,null,null,null,null,null,null,null,null,null,null,null,null,null,null,null,null,null,null,null,null,null,null,null,null,null,null,null,null,null,null,null,null,null,null,null,null,null,null,null,null,null,null,null,null,null,null,null,null,null,null,null,null,{"$f":"Раздел2!C57","v":0}]
["Всестилевое каратэ","50",0,0,0,0,0,0,null,null,null,null,null,null,null,null,null,null,null,null,null,null,null,null,null,null,null,null,null,null,null,null,null,null,null,null,null,null,null,null,null,null,null,null,null,null,null,null,null,null,null,null,null,null,null,null,null,null,null,null,{"$f":"Раздел2!C58","v":0}]
["Гандбол - всего","51",0,0,0,0,0,0,{"$f":"SUM(I59:I61)","v":0},{"$f":"SUM(J59:J61)","v":0},0,0,0,0,0,0,0,0,0,0,0,0,0,0,0,0,0,0,0,0,0,0,0,0,0,0,0,0,0,0,0,0,0,0,0,0,0,0,0,0,0,0,0,0,0,0,0,0,null,null,{"$f":"Раздел2!C59","v":0}]
["в том числе:\nГандбол (муж.)","52",0,0,0,0,0,0,null,null,null,null,null,null,null,null,null,null,null,null,null,null,null,null,null,null,null,null,null,null,null,null,null,null,null,null,null,null,null,null,null,null,null,null,null,null,null,null,null,null,null,null,null,null,null,null,null,null,null,null,{"$f":"Раздел2!C60","v":0}]
["Гандбол (жен.)","53",0,0,0,0,0,0,null,null,null,null,null,null,null,null,null,null,null,null,null,null,null,null,null,null,null,null,null,null,null,null,null,null,null,null,null,null,null,null,null,null,null,null,null,null,null,null,null,null,null,null,null,null,null,null,null,null,null,null,{"$f":"Раздел2!C61","v":0}]
["Пляжный гандбол","54",0,0,0,0,0,0,null,null,null,null,null,null,null,null,null,null,null,null,null,null,null,null,null,null,null,null,null,null,null,null,null,null,null,null,null,null,null,null,null,null,null,null,null,null,null,null,null,null,null,null,null,null,null,null,null,null,null,null,{"$f":"Раздел2!C62","v":0}]
["Гиревой спорт","55",0,0,0,0,0,0,null,null,null,null,null,null,null,null,null,null,null,null,null,null,null,null,null,null,null,null,null,null,null,null,null,null,null,null,null,null,null,null,null,null,null,null,null,null,null,null,null,null,null,null,null,null,null,null,null,null,null,null,{"$f":"Раздел2!C63","v":0}]
["Го","56",0,0,0,0,0,0,null,null,null,null,null,null,null,null,null,null,null,null,null,null,null,null,null,null,null,null,null,null,null,null,null,null,null,null,null,null,null,null,null,null,null,null,null,null,null,null,null,null,null,null,null,null,null,null,null,null,null,null,{"$f":"Раздел2!C64","v":0}]
["Гольф","57",0,0,0,0,0,0,null,null,null,null,null,null,null,null,null,null,null,null,null,null,null,null,null,null,null,null,null,null,null,null,null,null,null,null,null,null,null,null,null,null,null,null,null,null,null,null,null,null,null,null,null,null,null,null,null,null,null,null,{"$f":"Раздел2!C65","v":0}]
["Гонки на охотничьих лыжах","58",0,0,0,0,0,0,null,null,null,null,null,null,null,null,null,null,null,null,null,null,null,null,null,null,null,null,null,null,null,null,null,null,null,null,null,null,null,null,null,null,null,null,null,null,null,null,null,null,null,null,null,null,null,null,null,null,null,null,{"$f":"Раздел2!C66","v":0}]
["Гонки с препятствиями","59",0,0,0,0,0,0,null,null,null,null,null,null,null,null,null,null,null,null,null,null,null,null,null,null,null,null,null,null,null,null,null,null,null,null,null,null,null,null,null,null,null,null,null,null,null,null,null,null,null,null,null,null,null,null,null,null,null,null,{"$f":"Раздел2!C67","v":0}]
["Горнолыжный спорт","60",0,0,0,0,0,0,null,null,null,null,null,null,null,null,null,null,null,null,null,null,null,null,null,null,null,null,null,null,null,null,null,null,null,null,null,null,null,null,null,null,null,null,null,null,null,null,null,null,null,null,null,null,null,null,null,null,null,null,{"$f":"Раздел2!C68","v":0}]
["Городошный спорт","61",0,0,0,0,0,0,null,null,null,null,null,null,null,null,null,null,null,null,null,null,null,null,null,null,null,null,null,null,null,null,null,null,null,null,null,null,null,null,null,null,null,null,null,null,null,null,null,null,null,null,null,null,null,null,null,null,null,null,{"$f":"Раздел2!C69","v":0}]
["Гребля на байдарках и каноэ","62",0,0,0,0,0,0,null,null,null,null,null,null,null,null,null,null,null,null,null,null,null,null,null,null,null,null,null,null,null,null,null,null,null,null,null,null,null,null,null,null,null,null,null,null,null,null,null,null,null,null,null,null,null,null,null,null,null,null,{"$f":"Раздел2!C70","v":0}]
["Гребля на шлюпках","63",0,0,0,0,0,0,null,null,null,null,null,null,null,null,null,null,null,null,null,null,null,null,null,null,null,null,null,null,null,null,null,null,null,null,null,null,null,null,null,null,null,null,null,null,null,null,null,null,null,null,null,null,null,null,null,null,null,null,{"$f":"Раздел2!C71","v":0}]
["Гребной слалом","64",0,0,0,0,0,0,null,null,null,null,null,null,null,null,null,null,null,null,null,null,null,null,null,null,null,null,null,null,null,null,null,null,null,null,null,null,null,null,null,null,null,null,null,null,null,null,null,null,null,null,null,null,null,null,null,null,null,null,{"$f":"Раздел2!C72","v":0}]
["Гребной спорт - всего","65",0,0,0,0,0,0,{"$f":"SUM(I73:I76)","v":0},{"$f":"SUM(J73:J76)","v":0},0,0,0,0,0,0,0,0,0,0,0,0,0,0,0,0,0,0,0,0,0,0,0,0,0,0,0,0,0,0,0,0,0,0,0,0,0,0,0,0,0,0,0,0,0,0,0,0,null,null,{"$f":"Раздел2!C73","v":0}]
["в том числе:\nАкадемическая гребля","66",{"$f":"SUM(D73:F73)","v":0},{"$f":"SUM(I73,N73,S73,X73,AC73,AH73,AM73,AR73,AW73,BB73)","v":0},{"$f":"SUM(J73,O73,T73,Y73,AD73,AI73,AN73,AS73,AX73,BC73)","v":0},{"$f":"SUM(K73,P73,U73,Z73,AE73,AJ73,AO73,AT73,AY73,BD73)","v":0},{"$f":"SUM(L73,Q73,V73,AA73,AF73,AK73,AP73,AU73,AZ73,BE73)","v":0},{"$f":"SUM(M73,R73,W73,AB73,AG73,AL73,AQ73,AV73,BA73,BF73)","v":0},null,null,null,null,null,null,null,null,null,null,null,null,null,null,null,null,null,null,null,null,null,null,null,null,null,null,null,null,null,null,null,null,null,null,null,null,null,null,null,null,null,null,null,null,null,null,null,null,null,null,null,null,{"$f":"Раздел2!C74","v":0}]
["Гребля-индор","67",0,0,0,0,0,0,null,null,null,null,null,null,null,null,null,null,null,null,null,null,null,null,null,null,null,null,null,null,null,null,null,null,null,null,null,null,null,null,null,null,null,null,null,null,null,null,null,null,null,null,null,null,null,null,null,null,null,null,{"$f":"Раздел2!C75","v":0}]
["Народная гребля","68",0,0,0,0,0,0,null,null,null,null,null,null,null,null,null,null,null,null,null,null,null,null,null,null,null,null,null,null,null,null,null,null,null,null,null,null,null,null,null,null,null,null,null,null,null,null,null,null,null,null,null,null,null,null,null,null,null,null,{"$f":"Раздел2!C76","v":0}]
["Прибрежная гребля","69",0,0,0,0,0,0,null,null,null,null,null,null,null,null,null,null,null,null,null,null,null,null,null,null,null,null,null,null,null,null,null,null,null,null,null,null,null,null,null,null,null,null,null,null,null,null,null,null,null,null,null,null,null,null,null,null,null,null,{"$f":"Раздел2!C77","v":0}]
["Гребно-парусное двоеборье","70",0,0,0,0,0,0,null,null,null,null,null,null,null,null,null,null,null,null,null,null,null,null,null,null,null,null,null,null,null,null,null,null,null,null,null,null,null,null,null,null,null,null,null,null,null,null,null,null,null,null,null,null,null,null,null,null,null,null,{"$f":"Раздел2!C78","v":0}]
["Дартс","71",0,0,0,0,0,0,null,null,null,null,null,null,null,null,null,null,null,null,null,null,null,null,null,null,null,null,null,null,null,null,null,null,null,null,null,null,null,null,null,null,null,null,null,null,null,null,null,null,null,null,null,null,null,null,null,null,null,null,{"$f":"Раздел2!C79","v":0}]
["Джиу-джитсу","72",0,0,0,0,0,0,null,null,null,null,null,null,null,null,null,null,null,null,null,null,null,null,null,null,null,null,null,null,null,null,null,null,null,null,null,null,null,null,null,null,null,null,null,null,null,null,null,null,null,null,null,null,null,null,null,null,null,null,{"$f":"Раздел2!C80","v":0}]
["Дзюдо","73",0,0,0,0,0,0,null,null,null,null,null,null,null,null,null,null,null,null,null,null,null,null,null,null,null,null,null,null,null,null,null,null,null,null,null,null,null,null,null,null,null,null,null,null,null,null,null,null,null,null,null,null,null,null,null,null,null,null,{"$f":"Раздел2!C81","v":0}]
["Ездовой спорт","74",0,0,0,0,0,0,null,null,null,null,null,null,null,null,null,null,null,null,null,null,null,null,null,null,null,null,null,null,null,null,null,null,null,null,null,null,null,null,null,null,null,null,null,null,null,null,null,null,null,null,null,null,null,null,null,null,null,null,{"$f":"Раздел2!C82","v":0}]
["Капоэйра","75",0,0,0,0,0,0,null,null,null,null,null,null,null,null,null,null,null,null,null,null,null,null,null,null,null,null,null,null,null,null,null,null,null,null,null,null,null,null,null,null,null,null,null,null,null,null,null,null,null,null,null,null,null,null,null,null,null,null,{"$f":"Раздел2!C83","v":0}]
["Каратэ","76",0,0,0,0,0,0,null,null,null,null,null,null,null,null,null,null,null,null,null,null,null,null,null,null,null,null,null,null,null,null,null,null,null,null,null,null,null,null,null,null,null,null,null,null,null,null,null,null,null,null,null,null,null,null,null,null,null,null,{"$f":"Раздел2!C84","v":0}]
["Кендо","77",0,0,0,0,0,0,null,null,null,null,null,null,null,null,null,null,null,null,null,null,null,null,null,null,null,null,null,null,null,null,null,null,null,null,null,null,null,null,null,null,null,null,null,null,null,null,null,null,null,null,null,null,null,null,null,null,null,null,{"$f":"Раздел2!C85","v":0}]
["Керешу","78",0,0,0,0,0,0,null,null,null,null,null,null,null,null,null,null,null,null,null,null,null,null,null,null,null,null,null,null,null,null,null,null,null,null,null,null,null,null,null,null,null,null,null,null,null,null,null,null,null,null,null,null,null,null,null,null,null,null,{"$f":"Раздел2!C86","v":0}]
["Кёрлинг - всего","79",0,0,0,0,0,0,{"$f":"SUM(I87:I89)","v":0},{"$f":"SUM(J87:J89)","v":0},0,0,0,0,0,0,0,0,0,0,0,0,0,0,0,0,0,0,0,0,0,0,0,0,0,0,0,0,0,0,0,0,0,0,0,0,0,0,0,0,0,0,0,0,0,0,0,0,null,null,{"$f":"Раздел2!C87","v":0}]
["в том числе:\nКерлинг (муж.)","80",0,0,0,0,0,0,null,null,null,null,null,null,null,null,null,null,null,null,null,null,null,null,null,null,null,null,null,null,null,null,null,null,null,null,null,null,null,null,null,null,null,null,null,null,null,null,null,null,null,null,null,null,null,null,null,null,null,null,{"$f":"Раздел2!C88","v":0}]
["Керлинг (жен.)","81",0,0,0,0,0,0,null,null,null,null,null,null,null,null,null,null,null,null,null,null,null,null,null,null,null,null,null,null,null,null,null,null,null,null,null,null,null,null,null,null,null,null,null,null,null,null,null,null,null,null,null,null,null,null,null,null,null,null,{"$f":"Раздел2!C89","v":0}]
["Кёрлинг – смешанные пары","82",0,0,0,0,0,0,null,null,null,null,null,null,null,null,null,null,null,null,null,null,null,null,null,null,null,null,null,null,null,null,null,null,null,null,null,null,null,null,null,null,null,null,null,null,null,null,null,null,null,null,null,null,null,null,null,null,null,null,{"$f":"Раздел2!C90","v":0}]
["Кикбоксинг","83",0,0,0,0,0,0,null,null,null,null,null,null,null,null,null,null,null,null,null,null,null,null,null,null,null,null,null,null,null,null,null,null,null,null,null,null,null,null,null,null,null,null,null,null,null,null,null,null,null,null,null,null,null,null,null,null,null,null,{"$f":"Раздел2!C91","v":0}]
["Кинологический спорт","84",0,0,0,0,0,0,null,null,null,null,null,null,null,null,null,null,null,null,null,null,null,null,null,null,null,null,null,null,null,null,null,null,null,null,null,null,null,null,null,null,null,null,null,null,null,null,null,null,null,null,null,null,null,null,null,null,null,null,{"$f":"Раздел2!C92","v":0}]
["Киокусинкай","85",0,0,0,0,0,0,null,null,null,null,null,null,null,null,null,null,null,null,null,null,null,null,null,null,null,null,null,null,null,null,null,null,null,null,null,null,null,null,null,null,null,null,null,null,null,null,null,null,null,null,null,null,null,null,null,null,null,null,{"$f":"Раздел2!C93","v":0}]
["Комплексное единоборство","86",0,0,0,0,0,0,null,null,null,null,null,null,null,null,null,null,null,null,null,null,null,null,null,null,null,null,null,null,null,null,null,null,null,null,null,null,null,null,null,null,null,null,null,null,null,null,null,null,null,null,null,null,null,null,null,null,null,null,{"$f":"Раздел2!C94","v":0}]
["Компьютерный спорт","87",0,0,0,0,0,0,null,null,null,null,null,null,null,null,null,null,null,null,null,null,null,null,null,null,null,null,null,null,null,null,null,null,null,null,null,null,null,null,null,null,null,null,null,null,null,null,null,null,null,null,null,null,null,null,null,null,null,null,{"$f":"Раздел2!C95","v":0}]
["Конный спорт","88",0,0,0,0,0,0,null,null,null,null,null,null,null,null,null,null,null,null,null,null,null,null,null,null,null,null,null,null,null,null,null,null,null,null,null,null,null,null,null,null,null,null,null,null,null,null,null,null,null,null,null,null,null,null,null,null,null,null,{"$f":"Раздел2!C96","v":0}]
["Конькобежный спорт - всего","89",0,0,0,0,0,0,{"$f":"SUM(I97:I98)","v":0},{"$f":"SUM(J97:J98)","v":0},0,0,0,0,0,0,0,0,0,0,0,0,0,0,0,0,0,0,0,0,0,0,0,0,0,0,0,0,0,0,0,0,0,0,0,0,0,0,0,0,0,0,0,0,0,0,0,0,null,null,{"$f":"Раздел2!C97","v":0}]
["в том числе:\nКонькобежный спорт","90",0,0,0,0,0,0,null,null,null,null,null,null,null,null,null,null,null,null,null,null,null,null,null,null,null,null,null,null,null,null,null,null,null,null,null,null,null,null,null,null,null,null,null,null,null,null,null,null,null,null,null,null,null,null,null,null,null,null,{"$f":"Раздел2!C98","v":0}]
["Шорт-трек","91",0,0,0,0,0,0,null,null,null,null,null,null,null,null,null,null,null,null,null,null,null,null,null,null,null,null,null,null,null,null,null,null,null,null,null,null,null,null,null,null,null,null,null,null,null,null,null,null,null,null,null,null,null,null,null,null,null,null,{"$f":"Раздел2!C99","v":0}]
["Корэш","92",0,0,0,0,0,0,null,null,null,null,null,null,null,null,null,null,null,null,null,null,null,null,null,null,null,null,null,null,null,null,null,null,null,null,null,null,null,null,null,null,null,null,null,null,null,null,null,null,null,null,null,null,null,null,null,null,null,null,{"$f":"Раздел2!C100","v":0}]
["Корфбол","93",0,0,0,0,0,0,null,null,null,null,null,null,null,null,null,null,null,null,null,null,null,null,null,null,null,null,null,null,null,null,null,null,null,null,null,null,null,null,null,null,null,null,null,null,null,null,null,null,null,null,null,null,null,null,null,null,null,null,{"$f":"Раздел2!C101","v":0}]
["Крикет","94",0,0,0,0,0,0,null,null,null,null,null,null,null,null,null,null,null,null,null,null,null,null,null,null,null,null,null,null,null,null,null,null,null,null,null,null,null,null,null,null,null,null,null,null,null,null,null,null,null,null,null,null,null,null,null,null,null,null,{"$f":"Раздел2!C102","v":0}]
["Кудо","95",0,0,0,0,0,0,null,null,null,null,null,null,null,null,null,null,null,null,null,null,null,null,null,null,null,null,null,null,null,null,null,null,null,null,null,null,null,null,null,null,null,null,null,null,null,null,null,null,null,null,null,null,null,null,null,null,null,null,{"$f":"Раздел2!C103","v":0}]
["Лапта","96",0,0,0,0,0,0,null,null,null,null,null,null,null,null,null,null,null,null,null,null,null,null,null,null,null,null,null,null,null,null,null,null,null,null,null,null,null,null,null,null,null,null,null,null,null,null,null,null,null,null,null,null,null,null,null,null,null,null,{"$f":"Раздел2!C104","v":0}]
["Легкая атлетика - всего","97",0,0,0,0,0,0,{"$f":"SUM(I105:I111)","v":0},{"$f":"SUM(J105:J111)","v":0},0,0,0,0,0,0,0,0,0,0,0,0,0,0,0,0,0,0,0,0,0,0,0,0,0,0,0,0,0,0,0,0,0,0,0,0,0,0,0,0,0,0,0,0,0,0,0,0,null,null,{"$f":"Раздел2!C105","v":0}]
["в том числе:\nСпринтерский и барьерный бег","98",0,0,0,0,0,0,null,null,null,null,null,null,null,null,null,null,null,null,null,null,null,null,null,null,null,null,null,null,null,null,null,null,null,null,null,null,null,null,null,null,null,null,null,null,null,null,null,null,null,null,null,null,null,null,null,null,null,null,{"$f":"Раздел2!C106","v":0}]
["Бег на средние дистанции и бег с препятствиями","99",0,0,0,0,0,0,null,null,null,null,null,null,null,null,null,null,null,null,null,null,null,null,null,null,null,null,null,null,null,null,null,null,null,null,null,null,null,null,null,null,null,null,null,null,null,null,null,null,null,null,null,null,null,null,null,null,null,null,{"$f":"Раздел2!C107","v":0}]
["Бег на длинные и сверхдлинные дистанции","100",0,0,0,0,0,0,null,null,null,null,null,null,null,null,null,null,null,null,null,null,null,null,null,null,null,null,null,null,null,null,null,null,null,null,null,null,null,null,null,null,null,null,null,null,null,null,null,null,null,null,null,null,null,null,null,null,null,null,{"$f":"Раздел2!C108","v":0}]
["Многоборья","101",0,0,0,0,0,0,null,null,null,null,null,null,null,null,null,null,null,null,null,null,null,null,null,null,null,null,null,null,null,null,null,null,null,null,null,null,null,null,null,null,null,null,null,null,null,null,null,null,null,null,null,null,null,null,null,null,null,null,{"$f":"Раздел2!C109","v":0}]
["Прыжки","102",0,0,0,0,0,0,null,null,null,null,null,null,null,null,null,null,null,null,null,null,null,null,null,null,null,null,null,null,null,null,null,null,null,null,null,null,null,null,null,null,null,null,null,null,null,null,null,null,null,null,null,null,null,null,null,null,null,null,{"$f":"Раздел2!C110","v":0}]
["Метания","103",0,0,0,0,0,0,null,null,null,null,null,null,null,null,null,null,null,null,null,null,null,null,null,null,null,null,null,null,null,null,null,null,null,null,null,null,null,null,null,null,null,null,null,null,null,null,null,null,null,null,null,null,null,null,null,null,null,null,{"$f":"Раздел2!C111","v":0}]
["Спортивная ходьба","104",0,0,0,0,0,0,null,null,null,null,null,null,null,null,null,null,null,null,null,null,null,null,null,null,null,null,null,null,null,null,null,null,null,null,null,null,null,null,null,null,null,null,null,null,null,null,null,null,null,null,null,null,null,null,null,null,null,null,{"$f":"Раздел2!C112","v":0}]
["Лыжное двоеборье","105",0,0,0,0,0,0,null,null,null,null,null,null,null,null,null,null,null,null,null,null,null,null,null,null,null,null,null,null,null,null,null,null,null,null,null,null,null,null,null,null,null,null,null,null,null,null,null,null,null,null,null,null,null,null,null,null,null,null,{"$f":"Раздел2!C113","v":0}]
["Лыжные гонки","106",0,0,0,0,0,0,null,null,null,null,null,null,null,null,null,null,null,null,null,null,null,null,null,null,null,null,null,null,null,null,null,null,null,null,null,null,null,null,null,null,null,null,null,null,null,null,null,null,null,null,null,null,null,null,null,null,null,null,{"$f":"Раздел2!C114","v":1}]
["Мас-рестлинг","107",0,0,0,0,0,0,null,null,null,null,null,null,null,null,null,null,null,null,null,null,null,null,null,null,null,null,null,null,null,null,null,null,null,null,null,null,null,null,null,null,null,null,null,null,null,null,null,null,null,null,null,null,null,null,null,null,null,null,{"$f":"Раздел2!C115","v":0}]
["Международное военно-спортивное многоборье","108",0,0,0,0,0,0,null,null,null,null,null,null,null,null,null,null,null,null,null,null,null,null,null,null,null,null,null,null,null,null,null,null,null,null,null,null,null,null,null,null,null,null,null,null,null,null,null,null,null,null,null,null,null,null,null,null,null,null,{"$f":"Раздел2!C116","v":0}]
["Многоборье кинологов","109",0,0,0,0,0,0,null,null,null,null,null,null,null,null,null,null,null,null,null,null,null,null,null,null,null,null,null,null,null,null,null,null,null,null,null,null,null,null,null,null,null,null,null,null,null,null,null,null,null,null,null,null,null,null,null,null,null,null,{"$f":"Раздел2!C117","v":0}]
["Многоборье спасателей МЧС России","110",0,0,0,0,0,0,null,null,null,null,null,null,null,null,null,null,null,null,null,null,null,null,null,null,null,null,null,null,null,null,null,null,null,null,null,null,null,null,null,null,null,null,null,null,null,null,null,null,null,null,null,null,null,null,null,null,null,null,{"$f":"Раздел2!C118","v":0}]
["Морское многоборье","111",0,0,0,0,0,0,null,null,null,null,null,null,null,null,null,null,null,null,null,null,null,null,null,null,null,null,null,null,null,null,null,null,null,null,null,null,null,null,null,null,null,null,null,null,null,null,null,null,null,null,null,null,null,null,null,null,null,null,{"$f":"Раздел2!C119","v":0}]
["Мотоциклетный спорт","112",0,0,0,0,0,0,null,null,null,null,null,null,null,null,null,null,null,null,null,null,null,null,null,null,null,null,null,null,null,null,null,null,null,null,null,null,null,null,null,null,null,null,null,null,null,null,null,null,null,null,null,null,null,null,null,null,null,null,{"$f":"Раздел2!C120","v":0}]
["Настольный теннис","113",0,0,0,0,0,0,null,null,null,null,null,null,null,null,null,null,null,null,null,null,null,null,null,null,null,null,null,null,null,null,null,null,null,null,null,null,null,null,null,null,null,null,null,null,null,null,null,null,null,null,null,null,null,null,null,null,null,null,{"$f":"Раздел2!C121","v":0}]
["Падел","114",0,0,0,0,0,0,null,null,null,null,null,null,null,null,null,null,null,null,null,null,null,null,null,null,null,null,null,null,null,null,null,null,null,null,null,null,null,null,null,null,null,null,null,null,null,null,null,null,null,null,null,null,null,null,null,null,null,null,{"$f":"Раздел2!C122","v":0}]
["Парашютный спорт","115",0,0,0,0,0,0,null,null,null,null,null,null,null,null,null,null,null,null,null,null,null,null,null,null,null,null,null,null,null,null,null,null,null,null,null,null,null,null,null,null,null,null,null,null,null,null,null,null,null,null,null,null,null,null,null,null,null,null,{"$f":"Раздел2!C123","v":0}]
["Парусный спорт","116",0,0,0,0,0,0,null,null,null,null,null,null,null,null,null,null,null,null,null,null,null,null,null,null,null,null,null,null,null,null,null,null,null,null,null,null,null,null,null,null,null,null,null,null,null,null,null,null,null,null,null,null,null,null,null,null,null,null,{"$f":"Раздел2!C124","v":0}]
["Пауэрлифтинг","117",0,0,0,0,0,0,null,null,null,null,null,null,null,null,null,null,null,null,null,null,null,null,null,null,null,null,null,null,null,null,null,null,null,null,null,null,null,null,null,null,null,null,null,null,null,null,null,null,null,null,null,null,null,null,null,null,null,null,{"$f":"Раздел2!C125","v":1}]
["Перетягивание каната","118",0,0,0,0,0,0,null,null,null,null,null,null,null,null,null,null,null,null,null,null,null,null,null,null,null,null,null,null,null,null,null,null,null,null,null,null,null,null,null,null,null,null,null,null,null,null,null,null,null,null,null,null,null,null,null,null,null,null,{"$f":"Раздел2!C126","v":0}]
["Плавание - всего","119",0,0,0,0,0,0,{"$f":"SUM(I127:I128)","v":0},{"$f":"SUM(J127:J128)","v":0},0,0,0,0,0,0,0,0,0,0,0,0,0,0,0,0,0,0,0,0,0,0,0,0,0,0,0,0,0,0,0,0,0,0,0,0,0,0,0,0,0,0,0,0,0,0,0,0,null,null,{"$f":"Раздел2!C127","v":0}]
["в том числе:\nПлавание ","120",0,0,0,0,0,0,null,null,null,null,null,null,null,null,null,null,null,null,null,null,null,null,null,null,null,null,null,null,null,null,null,null,null,null,null,null,null,null,null,null,null,null,null,null,null,null,null,null,null,null,null,null,null,null,null,null,null,null,{"$f":"Раздел2!C128","v":0}]
["Открытая вода","121",0,0,0,0,0,0,null,null,null,null,null,null,null,null,null,null,null,null,null,null,null,null,null,null,null,null,null,null,null,null,null,null,null,null,null,null,null,null,null,null,null,null,null,null,null,null,null,null,null,null,null,null,null,null,null,null,null,null,{"$f":"Раздел2!C129","v":0}]
["Планерный спорт","122",0,0,0,0,0,0,null,null,null,null,null,null,null,null,null,null,null,null,null,null,null,null,null,null,null,null,null,null,null,null,null,null,null,null,null,null,null,null,null,null,null,null,null,null,null,null,null,null,null,null,null,null,null,null,null,null,null,null,{"$f":"Раздел2!C130","v":0}]
["Подводный спорт","123",0,0,0,0,0,0,null,null,null,null,null,null,null,null,null,null,null,null,null,null,null,null,null,null,null,null,null,null,null,null,null,null,null,null,null,null,null,null,null,null,null,null,null,null,null,null,null,null,null,null,null,null,null,null,null,null,null,null,{"$f":"Раздел2!C131","v":0}]
["Пожарно-спасательный спорт","124",0,0,0,0,0,0,null,null,null,null,null,null,null,null,null,null,null,null,null,null,null,null,null,null,null,null,null,null,null,null,null,null,null,null,null,null,null,null,null,null,null,null,null,null,null,null,null,null,null,null,null,null,null,null,null,null,null,null,{"$f":"Раздел2!C132","v":0}]
["Полиатлон","125",0,0,0,0,0,0,null,null,null,null,null,null,null,null,null,null,null,null,null,null,null,null,null,null,null,null,null,null,null,null,null,null,null,null,null,null,null,null,null,null,null,null,null,null,null,null,null,null,null,null,null,null,null,null,null,null,null,null,{"$f":"Раздел2!C133","v":0}]
["Практическая стрельба","126",0,0,0,0,0,0,null,null,null,null,null,null,null,null,null,null,null,null,null,null,null,null,null,null,null,null,null,null,null,null,null,null,null,null,null,null,null,null,null,null,null,null,null,null,null,null,null,null,null,null,null,null,null,null,null,null,null,null,{"$f":"Раздел2!C134","v":0}]
["Прыжки в воду - всего","127",0,0,0,0,0,0,{"$f":"SUM(I135:I136)","v":0},{"$f":"SUM(J135:J136)","v":0},0,0,0,0,0,0,0,0,0,0,0,0,0,0,0,0,0,0,0,0,0,0,0,0,0,0,0,0,0,0,0,0,0,0,0,0,0,0,0,0,0,0,0,0,0,0,0,0,null,null,{"$f":"Раздел2!C135","v":0}]
["в том числе:\nПрыжки в воду","128",0,0,0,0,0,0,null,null,null,null,null,null,null,null,null,null,null,null,null,null,null,null,null,null,null,null,null,null,null,null,null,null,null,null,null,null,null,null,null,null,null,null,null,null,null,null,null,null,null,null,null,null,null,null,null,null,null,null,{"$f":"Раздел2!C136","v":0}]
["Прыжки в открытый водоем","129",0,0,0,0,0,0,null,null,null,null,null,null,null,null,null,null,null,null,null,null,null,null,null,null,null,null,null,null,null,null,null,null,null,null,null,null,null,null,null,null,null,null,null,null,null,null,null,null,null,null,null,null,null,null,null,null,null,null,{"$f":"Раздел2!C137","v":0}]
["Прыжки на батуте - всего","130",{"$f":"SUM(D137:F137)","v":0},{"$f":"SUM(I137,N137,S137,X137,AC137,AH137,AM137,AR137,AW137,BB137)","v":0},{"$f":"SUM(J137,O137,T137,Y137,AD137,AI137,AN137,AS137,AX137,BC137)","v":0},{"$f":"SUM(K137,P137,U137,Z137,AE137,AJ137,AO137,AT137,AY137,BD137)","v":0},{"$f":"SUM(L137,Q137,V137,AA137,AF137,AK137,AP137,AU137,AZ137,BE137)","v":0},{"$f":"SUM(M137,R137,W137,AB137,AG137,AL137,AQ137,AV137,BA137,BF137)","v":0},{"$f":"SUM(I138:I141)","v":0},{"$f":"SUM(J138:J141)","v":0},0,0,0,0,0,0,0,0,0,0,0,0,0,0,0,0,0,0,0,0,0,0,0,0,0,0,0,0,0,0,0,0,0,0,0,0,0,0,0,0,0,0,0,0,0,0,0,0,null,null,{"$f":"Раздел2!C138","v":0}]
["в том числе:\nАкробатическая дорожка","131",0,0,0,0,0,0,null,null,null,null,null,null,null,null,null,null,null,null,null,null,null,null,null,null,null,null,null,null,null,null,null,null,null,null,null,null,null,null,null,null,null,null,null,null,null,null,null,null,null,null,null,null,null,null,null,null,null,null,{"$f":"Раздел2!C139","v":0}]
["Двойной минитрамп","132",0,0,0,0,0,0,null,null,null,null,null,null,null,null,null,null,null,null,null,null,null,null,null,null,null,null,null,null,null,null,null,null,null,null,null,null,null,null,null,null,null,null,null,null,null,null,null,null,null,null,null,null,null,null,null,null,null,null,{"$f":"Раздел2!C140","v":0}]
["Индивидуальные прыжки","133",0,0,0,0,0,0,null,null,null,null,null,null,null,null,null,null,null,null,null,null,null,null,null,null,null,null,null,null,null,null,null,null,null,null,null,null,null,null,null,null,null,null,null,null,null,null,null,null,null,null,null,null,null,null,null,null,null,null,{"$f":"Раздел2!C141","v":0}]
["Синхронные прыжки","134",0,0,0,0,0,0,null,null,null,null,null,null,null,null,null,null,null,null,null,null,null,null,null,null,null,null,null,null,null,null,null,null,null,null,null,null,null,null,null,null,null,null,null,null,null,null,null,null,null,null,null,null,null,null,null,null,null,null,{"$f":"Раздел2!C142","v":0}]
["Прыжки на лыжах с трамплина","135",0,0,0,0,0,0,null,null,null,null,null,null,null,null,null,null,null,null,null,null,null,null,null,null,null,null,null,null,null,null,null,null,null,null,null,null,null,null,null,null,null,null,null,null,null,null,null,null,null,null,null,null,null,null,null,null,null,null,{"$f":"Раздел2!C143","v":0}]
["Пулевая стрельба - всего","136",0,0,0,0,0,0,{"$f":"SUM(I144:I148)","v":0},{"$f":"SUM(J144:J148)","v":0},0,0,0,0,0,0,0,0,0,0,0,0,0,0,0,0,0,0,0,0,0,0,0,0,0,0,0,0,0,0,0,0,0,0,0,0,0,0,0,0,0,0,0,0,0,0,0,0,null,null,{"$f":"Раздел2!C144","v":0}]
["в том числе:\nПневматическая винтовка","137",0,0,0,0,0,0,null,null,null,null,null,null,null,null,null,null,null,null,null,null,null,null,null,null,null,null,null,null,null,null,null,null,null,null,null,null,null,null,null,null,null,null,null,null,null,null,null,null,null,null,null,null,null,null,null,null,null,null,{"$f":"Раздел2!C145","v":0}]
["Пневматический пистолет","138",0,0,0,0,0,0,null,null,null,null,null,null,null,null,null,null,null,null,null,null,null,null,null,null,null,null,null,null,null,null,null,null,null,null,null,null,null,null,null,null,null,null,null,null,null,null,null,null,null,null,null,null,null,null,null,null,null,null,{"$f":"Раздел2!C146","v":0}]
["Малокалиберная винтовка","139",0,0,0,0,0,0,null,null,null,null,null,null,null,null,null,null,null,null,null,null,null,null,null,null,null,null,null,null,null,null,null,null,null,null,null,null,null,null,null,null,null,null,null,null,null,null,null,null,null,null,null,null,null,null,null,null,null,null,{"$f":"Раздел2!C147","v":0}]
["Малокалиберный пистолет","140",0,0,0,0,0,0,null,null,null,null,null,null,null,null,null,null,null,null,null,null,null,null,null,null,null,null,null,null,null,null,null,null,null,null,null,null,null,null,null,null,null,null,null,null,null,null,null,null,null,null,null,null,null,null,null,null,null,null,{"$f":"Раздел2!C148","v":0}]
["Движущаяся мишень","141",0,0,0,0,0,0,null,null,null,null,null,null,null,null,null,null,null,null,null,null,null,null,null,null,null,null,null,null,null,null,null,null,null,null,null,null,null,null,null,null,null,null,null,null,null,null,null,null,null,null,null,null,null,null,null,null,null,null,{"$f":"Раздел2!C149","v":0}]
["Пэйнтбол","142",0,0,0,0,0,0,null,null,null,null,null,null,null,null,null,null,null,null,null,null,null,null,null,null,null,null,null,null,null,null,null,null,null,null,null,null,null,null,null,null,null,null,null,null,null,null,null,null,null,null,null,null,null,null,null,null,null,null,{"$f":"Раздел2!C150","v":0}]
["Радиоспорт","143",0,0,0,0,0,0,null,null,null,null,null,null,null,null,null,null,null,null,null,null,null,null,null,null,null,null,null,null,null,null,null,null,null,null,null,null,null,null,null,null,null,null,null,null,null,null,null,null,null,null,null,null,null,null,null,null,null,null,{"$f":"Раздел2!C151","v":0}]
["Рафтинг","144",0,0,0,0,0,0,null,null,null,null,null,null,null,null,null,null,null,null,null,null,null,null,null,null,null,null,null,null,null,null,null,null,null,null,null,null,null,null,null,null,null,null,null,null,null,null,null,null,null,null,null,null,null,null,null,null,null,null,{"$f":"Раздел2!C152","v":0}]
["Регби - всего","145",0,0,0,0,0,0,{"$f":"SUM(I153:I157)","v":0},{"$f":"SUM(J153:J157)","v":0},0,0,0,0,0,0,0,0,0,0,0,0,0,0,0,0,0,0,0,0,0,0,0,0,0,0,0,0,0,0,0,0,0,0,0,0,0,0,0,0,0,0,0,0,0,0,0,0,null,null,{"$f":"Раздел2!C153","v":0}]
["в том числе:\nРегби","146",0,0,0,0,0,0,null,null,null,null,null,null,null,null,null,null,null,null,null,null,null,null,null,null,null,null,null,null,null,null,null,null,null,null,null,null,null,null,null,null,null,null,null,null,null,null,null,null,null,null,null,null,null,null,null,null,null,null,{"$f":"Раздел2!C154","v":0}]
["Регби 7 (муж.)","147",0,0,0,0,0,0,null,null,null,null,null,null,null,null,null,null,null,null,null,null,null,null,null,null,null,null,null,null,null,null,null,null,null,null,null,null,null,null,null,null,null,null,null,null,null,null,null,null,null,null,null,null,null,null,null,null,null,null,{"$f":"Раздел2!C155","v":0}]
["Регби 7 (жен.)","148",0,0,0,0,0,0,null,null,null,null,null,null,null,null,null,null,null,null,null,null,null,null,null,null,null,null,null,null,null,null,null,null,null,null,null,null,null,null,null,null,null,null,null,null,null,null,null,null,null,null,null,null,null,null,null,null,null,null,{"$f":"Раздел2!C156","v":0}]
["Регби - пляжное","149",0,0,0,0,0,0,null,null,null,null,null,null,null,null,null,null,null,null,null,null,null,null,null,null,null,null,null,null,null,null,null,null,null,null,null,null,null,null,null,null,null,null,null,null,null,null,null,null,null,null,null,null,null,null,null,null,null,null,{"$f":"Раздел2!C157","v":0}]
["Регби на снегу","150",0,0,0,0,0,0,null,null,null,null,null,null,null,null,null,null,null,null,null,null,null,null,null,null,null,null,null,null,null,null,null,null,null,null,null,null,null,null,null,null,null,null,null,null,null,null,null,null,null,null,null,null,null,null,null,null,null,null,{"$f":"Раздел2!C158","v":0}]
["Регбол","151",0,0,0,0,0,0,null,null,null,null,null,null,null,null,null,null,null,null,null,null,null,null,null,null,null,null,null,null,null,null,null,null,null,null,null,null,null,null,null,null,null,null,null,null,null,null,null,null,null,null,null,null,null,null,null,null,null,null,{"$f":"Раздел2!C159","v":0}]
["Роллер спорт","152",0,0,0,0,0,0,null,null,null,null,null,null,null,null,null,null,null,null,null,null,null,null,null,null,null,null,null,null,null,null,null,null,null,null,null,null,null,null,null,null,null,null,null,null,null,null,null,null,null,null,null,null,null,null,null,null,null,null,{"$f":"Раздел2!C160","v":0}]
["Роуп скиппинг (спортивная скакалка)","153",0,0,0,0,0,0,null,null,null,null,null,null,null,null,null,null,null,null,null,null,null,null,null,null,null,null,null,null,null,null,null,null,null,null,null,null,null,null,null,null,null,null,null,null,null,null,null,null,null,null,null,null,null,null,null,null,null,null,{"$f":"Раздел2!C161","v":0}]
["Рукопашный бой","154",0,0,0,0,0,0,null,null,null,null,null,null,null,null,null,null,null,null,null,null,null,null,null,null,null,null,null,null,null,null,null,null,null,null,null,null,null,null,null,null,null,null,null,null,null,null,null,null,null,null,null,null,null,null,null,null,null,null,{"$f":"Раздел2!C162","v":1}]
["Рыболовный спорт","155",0,0,0,0,0,0,null,null,null,null,null,null,null,null,null,null,null,null,null,null,null,null,null,null,null,null,null,null,null,null,null,null,null,null,null,null,null,null,null,null,null,null,null,null,null,null,null,null,null,null,null,null,null,null,null,null,null,null,{"$f":"Раздел2!C163","v":0}]
["Сават","156",0,0,0,0,0,0,null,null,null,null,null,null,null,null,null,null,null,null,null,null,null,null,null,null,null,null,null,null,null,null,null,null,null,null,null,null,null,null,null,null,null,null,null,null,null,null,null,null,null,null,null,null,null,null,null,null,null,null,{"$f":"Раздел2!C164","v":0}]
["Самбо","157",0,0,0,0,0,0,null,null,null,null,null,null,null,null,null,null,null,null,null,null,null,null,null,null,null,null,null,null,null,null,null,null,null,null,null,null,null,null,null,null,null,null,null,null,null,null,null,null,null,null,null,null,null,null,null,null,null,null,{"$f":"Раздел2!C165","v":0}]
["Самолетный спорт","158",0,0,0,0,0,0,null,null,null,null,null,null,null,null,null,null,null,null,null,null,null,null,null,null,null,null,null,null,null,null,null,null,null,null,null,null,null,null,null,null,null,null,null,null,null,null,null,null,null,null,null,null,null,null,null,null,null,null,{"$f":"Раздел2!C166","v":0}]
["Санный спорт","159",0,0,0,0,0,0,null,null,null,null,null,null,null,null,null,null,null,null,null,null,null,null,null,null,null,null,null,null,null,null,null,null,null,null,null,null,null,null,null,null,null,null,null,null,null,null,null,null,null,null,null,null,null,null,null,null,null,null,{"$f":"Раздел2!C167","v":0}]
["Северное многоборье","160",0,0,0,0,0,0,null,null,null,null,null,null,null,null,null,null,null,null,null,null,null,null,null,null,null,null,null,null,null,null,null,null,null,null,null,null,null,null,null,null,null,null,null,null,null,null,null,null,null,null,null,null,null,null,null,null,null,null,{"$f":"Раздел2!C168","v":0}]
["Серфинг","161",0,0,0,0,0,0,null,null,null,null,null,null,null,null,null,null,null,null,null,null,null,null,null,null,null,null,null,null,null,null,null,null,null,null,null,null,null,null,null,null,null,null,null,null,null,null,null,null,null,null,null,null,null,null,null,null,null,null,{"$f":"Раздел2!C169","v":0}]
["Силовой экстрим","162",0,0,0,0,0,0,null,null,null,null,null,null,null,null,null,null,null,null,null,null,null,null,null,null,null,null,null,null,null,null,null,null,null,null,null,null,null,null,null,null,null,null,null,null,null,null,null,null,null,null,null,null,null,null,null,null,null,null,{"$f":"Раздел2!C170","v":0}]
["Синхронное плавание","163",0,0,0,0,0,0,null,null,null,null,null,null,null,null,null,null,null,null,null,null,null,null,null,null,null,null,null,null,null,null,null,null,null,null,null,null,null,null,null,null,null,null,null,null,null,null,null,null,null,null,null,null,null,null,null,null,null,null,{"$f":"Раздел2!C171","v":0}]
["Скалолазание","164",0,0,0,0,0,0,null,null,null,null,null,null,null,null,null,null,null,null,null,null,null,null,null,null,null,null,null,null,null,null,null,null,null,null,null,null,null,null,null,null,null,null,null,null,null,null,null,null,null,null,null,null,null,null,null,null,null,null,{"$f":"Раздел2!C172","v":0}]
["Сквош","165",0,0,0,0,0,0,null,null,null,null,null,null,null,null,null,null,null,null,null,null,null,null,null,null,null,null,null,null,null,null,null,null,null,null,null,null,null,null,null,null,null,null,null,null,null,null,null,null,null,null,null,null,null,null,null,null,null,null,{"$f":"Раздел2!C173","v":0}]
["Скейтбординг","166",0,0,0,0,0,0,null,null,null,null,null,null,null,null,null,null,null,null,null,null,null,null,null,null,null,null,null,null,null,null,null,null,null,null,null,null,null,null,null,null,null,null,null,null,null,null,null,null,null,null,null,null,null,null,null,null,null,null,{"$f":"Раздел2!C174","v":0}]
["Служебно-боевая стрельба ","167",0,0,0,0,0,0,null,null,null,null,null,null,null,null,null,null,null,null,null,null,null,null,null,null,null,null,null,null,null,null,null,null,null,null,null,null,null,null,null,null,null,null,null,null,null,null,null,null,null,null,null,null,null,null,null,null,null,null,{"$f":"Раздел2!C175","v":0}]
["Служебно-прикладной спорт","168",0,0,0,0,0,0,null,null,null,null,null,null,null,null,null,null,null,null,null,null,null,null,null,null,null,null,null,null,null,null,null,null,null,null,null,null,null,null,null,null,null,null,null,null,null,null,null,null,null,null,null,null,null,null,null,null,null,null,{"$f":"Раздел2!C176","v":0}]
["Служебно-прикладной спорт ФСО России","169",0,0,0,0,0,0,null,null,null,null,null,null,null,null,null,null,null,null,null,null,null,null,null,null,null,null,null,null,null,null,null,null,null,null,null,null,null,null,null,null,null,null,null,null,null,null,null,null,null,null,null,null,null,null,null,null,null,null,{"$f":"Раздел2!C177","v":0}]
["Служебно-прикладной спорт ФТС России","170",0,0,0,0,0,0,null,null,null,null,null,null,null,null,null,null,null,null,null,null,null,null,null,null,null,null,null,null,null,null,null,null,null,null,null,null,null,null,null,null,null,null,null,null,null,null,null,null,null,null,null,null,null,null,null,null,null,null,{"$f":"Раздел2!C178","v":0}]
["Служебное двоеборье","171",0,0,0,0,0,0,null,null,null,null,null,null,null,null,null,null,null,null,null,null,null,null,null,null,null,null,null,null,null,null,null,null,null,null,null,null,null,null,null,null,null,null,null,null,null,null,null,null,null,null,null,null,null,null,null,null,null,null,{"$f":"Раздел2!C179","v":0}]
["Служебное единоборство","172",0,0,0,0,0,0,null,null,null,null,null,null,null,null,null,null,null,null,null,null,null,null,null,null,null,null,null,null,null,null,null,null,null,null,null,null,null,null,null,null,null,null,null,null,null,null,null,null,null,null,null,null,null,null,null,null,null,null,{"$f":"Раздел2!C180","v":0}]
["Служебное многоборье","173",0,0,0,0,0,0,null,null,null,null,null,null,null,null,null,null,null,null,null,null,null,null,null,null,null,null,null,null,null,null,null,null,null,null,null,null,null,null,null,null,null,null,null,null,null,null,null,null,null,null,null,null,null,null,null,null,null,null,{"$f":"Раздел2!C181","v":0}]
["Служебный биатлон","174",0,0,0,0,0,0,null,null,null,null,null,null,null,null,null,null,null,null,null,null,null,null,null,null,null,null,null,null,null,null,null,null,null,null,null,null,null,null,null,null,null,null,null,null,null,null,null,null,null,null,null,null,null,null,null,null,null,null,{"$f":"Раздел2!C182","v":0}]
["Спасательный спорт","175",0,0,0,0,0,0,null,null,null,null,null,null,null,null,null,null,null,null,null,null,null,null,null,null,null,null,null,null,null,null,null,null,null,null,null,null,null,null,null,null,null,null,null,null,null,null,null,null,null,null,null,null,null,null,null,null,null,null,{"$f":"Раздел2!C183","v":0}]
["Стрельба из боевого ручного стрелкового оружия","176",0,0,0,0,0,0,null,null,null,null,null,null,null,null,null,null,null,null,null,null,null,null,null,null,null,null,null,null,null,null,null,null,null,null,null,null,null,null,null,null,null,null,null,null,null,null,null,null,null,null,null,null,null,null,null,null,null,null,{"$f":"Раздел2!C184","v":0}]
["Стрельба из штатного или табельного оружия","177",0,0,0,0,0,0,null,null,null,null,null,null,null,null,null,null,null,null,null,null,null,null,null,null,null,null,null,null,null,null,null,null,null,null,null,null,null,null,null,null,null,null,null,null,null,null,null,null,null,null,null,null,null,null,null,null,null,null,{"$f":"Раздел2!C185","v":0}]
["Смешанное боевое единоборство (ММА)","178",0,0,0,0,0,0,null,null,null,null,null,null,null,null,null,null,null,null,null,null,null,null,null,null,null,null,null,null,null,null,null,null,null,null,null,null,null,null,null,null,null,null,null,null,null,null,null,null,null,null,null,null,null,null,null,null,null,null,{"$f":"Раздел2!C186","v":0}]
["Сноуборд","179",0,0,0,0,0,0,null,null,null,null,null,null,null,null,null,null,null,null,null,null,null,null,null,null,null,null,null,null,null,null,null,null,null,null,null,null,null,null,null,null,null,null,null,null,null,null,null,null,null,null,null,null,null,null,null,null,null,null,{"$f":"Раздел2!C187","v":0}]
["Современное пятиборье","180",0,0,0,0,0,0,null,null,null,null,null,null,null,null,null,null,null,null,null,null,null,null,null,null,null,null,null,null,null,null,null,null,null,null,null,null,null,null,null,null,null,null,null,null,null,null,null,null,null,null,null,null,null,null,null,null,null,null,{"$f":"Раздел2!C188","v":0}]
["Софтбол","181",0,0,0,0,0,0,null,null,null,null,null,null,null,null,null,null,null,null,null,null,null,null,null,null,null,null,null,null,null,null,null,null,null,null,null,null,null,null,null,null,null,null,null,null,null,null,null,null,null,null,null,null,null,null,null,null,null,null,{"$f":"Раздел2!C189","v":0}]
["Спорт сверхлегкой авиации","182",0,0,0,0,0,0,null,null,null,null,null,null,null,null,null,null,null,null,null,null,null,null,null,null,null,null,null,null,null,null,null,null,null,null,null,null,null,null,null,null,null,null,null,null,null,null,null,null,null,null,null,null,null,null,null,null,null,null,{"$f":"Раздел2!C190","v":0}]
["Спортивная акробатика","183",0,0,0,0,0,0,null,null,null,null,null,null,null,null,null,null,null,null,null,null,null,null,null,null,null,null,null,null,null,null,null,null,null,null,null,null,null,null,null,null,null,null,null,null,null,null,null,null,null,null,null,null,null,null,null,null,null,null,{"$f":"Раздел2!C191","v":0}]
["Спортивная аэробика","184",0,0,0,0,0,0,null,null,null,null,null,null,null,null,null,null,null,null,null,null,null,null,null,null,null,null,null,null,null,null,null,null,null,null,null,null,null,null,null,null,null,null,null,null,null,null,null,null,null,null,null,null,null,null,null,null,null,null,{"$f":"Раздел2!C192","v":0}]
["Спортивная борьба - всего","185",0,0,0,0,0,0,{"$f":"SUM(I193:I197)","v":0},{"$f":"SUM(J193:J197)","v":0},0,0,0,0,0,0,0,0,0,0,0,0,0,0,0,0,0,0,0,0,0,0,0,0,0,0,0,0,0,0,0,0,0,0,0,0,0,0,0,0,0,0,0,0,0,0,0,0,null,null,{"$f":"Раздел2!C193","v":0}]
["в том числе:\nВольная борьба","186",0,0,0,0,0,0,null,null,null,null,null,null,null,null,null,null,null,null,null,null,null,null,null,null,null,null,null,null,null,null,null,null,null,null,null,null,null,null,null,null,null,null,null,null,null,null,null,null,null,null,null,null,null,null,null,null,null,null,{"$f":"Раздел2!C194","v":0}]
["Греко-римская борьба","187",0,0,0,0,0,0,null,null,null,null,null,null,null,null,null,null,null,null,null,null,null,null,null,null,null,null,null,null,null,null,null,null,null,null,null,null,null,null,null,null,null,null,null,null,null,null,null,null,null,null,null,null,null,null,null,null,null,null,{"$f":"Раздел2!C195","v":0}]
["Грэпплинг","188",0,0,0,0,0,0,null,null,null,null,null,null,null,null,null,null,null,null,null,null,null,null,null,null,null,null,null,null,null,null,null,null,null,null,null,null,null,null,null,null,null,null,null,null,null,null,null,null,null,null,null,null,null,null,null,null,null,null,{"$f":"Раздел2!C196","v":0}]
["Грэпплинг-ги","189",0,0,0,0,0,0,null,null,null,null,null,null,null,null,null,null,null,null,null,null,null,null,null,null,null,null,null,null,null,null,null,null,null,null,null,null,null,null,null,null,null,null,null,null,null,null,null,null,null,null,null,null,null,null,null,null,null,null,{"$f":"Раздел2!C197","v":0}]
["Панкратион","190",0,0,0,0,0,0,null,null,null,null,null,null,null,null,null,null,null,null,null,null,null,null,null,null,null,null,null,null,null,null,null,null,null,null,null,null,null,null,null,null,null,null,null,null,null,null,null,null,null,null,null,null,null,null,null,null,null,null,{"$f":"Раздел2!C198","v":0}]
["Спортивная гимнастика","191",0,0,0,0,0,0,null,null,null,null,null,null,null,null,null,null,null,null,null,null,null,null,null,null,null,null,null,null,null,null,null,null,null,null,null,null,null,null,null,null,null,null,null,null,null,null,null,null,null,null,null,null,null,null,null,null,null,null,{"$f":"Раздел2!C199","v":0}]
["Спортивная йога","192",0,0,0,0,0,0,null,null,null,null,null,null,null,null,null,null,null,null,null,null,null,null,null,null,null,null,null,null,null,null,null,null,null,null,null,null,null,null,null,null,null,null,null,null,null,null,null,null,null,null,null,null,null,null,null,null,null,null,{"$f":"Раздел2!C200","v":0}]
["Спортивно-прикладное собаководство","193",0,0,0,0,0,0,null,null,null,null,null,null,null,null,null,null,null,null,null,null,null,null,null,null,null,null,null,null,null,null,null,null,null,null,null,null,null,null,null,null,null,null,null,null,null,null,null,null,null,null,null,null,null,null,null,null,null,null,{"$f":"Раздел2!C201","v":0}]
["Спортивное метание ножа","194",{"$f":"SUM(D201:F201)","v":0},{"$f":"SUM(I201,N201,S201,X201,AC201,AH201,AM201,AR201,AW201,BB201)","v":0},{"$f":"SUM(J201,O201,T201,Y201,AD201,AI201,AN201,AS201,AX201,BC201)","v":0},{"$f":"SUM(K201,P201,U201,Z201,AE201,AJ201,AO201,AT201,AY201,BD201)","v":0},{"$f":"SUM(L201,Q201,V201,AA201,AF201,AK201,AP201,AU201,AZ201,BE201)","v":0},{"$f":"SUM(M201,R201,W201,AB201,AG201,AL201,AQ201,AV201,BA201,BF201)","v":0},null,null,null,null,null,null,null,null,null,null,null,null,null,null,null,null,null,null,null,null,null,null,null,null,null,null,null,null,null,null,null,null,null,null,null,null,null,null,null,null,null,null,null,null,null,null,null,null,null,null,null,null,{"$f":"Раздел2!C202","v":0}]
["Спортивное ориентирование","195",0,0,0,0,0,0,null,null,null,null,null,null,null,null,null,null,null,null,null,null,null,null,null,null,null,null,null,null,null,null,null,null,null,null,null,null,null,null,null,null,null,null,null,null,null,null,null,null,null,null,null,null,null,null,null,null,null,null,{"$f":"Раздел2!C203","v":0}]
["Спортивный бридж","196",0,0,0,0,0,0,null,null,null,null,null,null,null,null,null,null,null,null,null,null,null,null,null,null,null,null,null,null,null,null,null,null,null,null,null,null,null,null,null,null,null,null,null,null,null,null,null,null,null,null,null,null,null,null,null,null,null,null,{"$f":"Раздел2!C204","v":0}]
["Спортивный туризм","197",0,0,0,0,0,0,null,null,null,null,null,null,null,null,null,null,null,null,null,null,null,null,null,null,null,null,null,null,null,null,null,null,null,null,null,null,null,null,null,null,null,null,null,null,null,null,null,null,null,null,null,null,null,null,null,null,null,null,{"$f":"Раздел2!C205","v":0}]
["Стендовая стрельба - всего","198",0,0,0,0,0,0,{"$f":"SUM(I206:I209)","v":0},{"$f":"SUM(J206:J209)","v":0},0,0,0,0,0,0,0,0,0,0,0,0,0,0,0,0,0,0,0,0,0,0,0,0,0,0,0,0,0,0,0,0,0,0,0,0,0,0,0,0,0,0,0,0,0,0,0,0,null,null,{"$f":"Раздел2!C206","v":0}]
["в том числе:\nТрап","199",0,0,0,0,0,0,null,null,null,null,null,null,null,null,null,null,null,null,null,null,null,null,null,null,null,null,null,null,null,null,null,null,null,null,null,null,null,null,null,null,null,null,null,null,null,null,null,null,null,null,null,null,null,null,null,null,null,null,{"$f":"Раздел2!C207","v":0}]
["Скит","200",0,0,0,0,0,0,null,null,null,null,null,null,null,null,null,null,null,null,null,null,null,null,null,null,null,null,null,null,null,null,null,null,null,null,null,null,null,null,null,null,null,null,null,null,null,null,null,null,null,null,null,null,null,null,null,null,null,null,{"$f":"Раздел2!C208","v":0}]
["Дубль-трап","201",0,0,0,0,0,0,null,null,null,null,null,null,null,null,null,null,null,null,null,null,null,null,null,null,null,null,null,null,null,null,null,null,null,null,null,null,null,null,null,null,null,null,null,null,null,null,null,null,null,null,null,null,null,null,null,null,null,null,{"$f":"Раздел2!C209","v":0}]
["Спортинг","202",0,0,0,0,0,0,null,null,null,null,null,null,null,null,null,null,null,null,null,null,null,null,null,null,null,null,null,null,null,null,null,null,null,null,null,null,null,null,null,null,null,null,null,null,null,null,null,null,null,null,null,null,null,null,null,null,null,null,{"$f":"Раздел2!C210","v":0}]
["Страйкбол","203",0,0,0,0,0,0,null,null,null,null,null,null,null,null,null,null,null,null,null,null,null,null,null,null,null,null,null,null,null,null,null,null,null,null,null,null,null,null,null,null,null,null,null,null,null,null,null,null,null,null,null,null,null,null,null,null,null,null,{"$f":"Раздел2!C211","v":0}]
["Стрельба из арбалета","204",0,0,0,0,0,0,null,null,null,null,null,null,null,null,null,null,null,null,null,null,null,null,null,null,null,null,null,null,null,null,null,null,null,null,null,null,null,null,null,null,null,null,null,null,null,null,null,null,null,null,null,null,null,null,null,null,null,null,{"$f":"Раздел2!C212","v":0}]
["Стрельба из лука - всего","205",0,0,0,0,0,0,{"$f":"SUM(I213:I215)","v":0},{"$f":"SUM(J213:J215)","v":0},0,0,0,0,0,0,0,0,0,0,0,0,0,0,0,0,0,0,0,0,0,0,0,0,0,0,0,0,0,0,0,0,0,0,0,0,0,0,0,0,0,0,0,0,0,0,0,0,null,null,{"$f":"Раздел2!C213","v":0}]
["в том числе:\nКлассический лук","206",0,0,0,0,0,0,null,null,null,null,null,null,null,null,null,null,null,null,null,null,null,null,null,null,null,null,null,null,null,null,null,null,null,null,null,null,null,null,null,null,null,null,null,null,null,null,null,null,null,null,null,null,null,null,null,null,null,null,{"$f":"Раздел2!C214","v":0}]
["   Блочный лук","207",0,0,0,0,0,0,null,null,null,null,null,null,null,null,null,null,null,null,null,null,null,null,null,null,null,null,null,null,null,null,null,null,null,null,null,null,null,null,null,null,null,null,null,null,null,null,null,null,null,null,null,null,null,null,null,null,null,null,{"$f":"Раздел2!C215","v":0}]
["   Ачери ","208",0,0,0,0,0,0,null,null,null,null,null,null,null,null,null,null,null,null,null,null,null,null,null,null,null,null,null,null,null,null,null,null,null,null,null,null,null,null,null,null,null,null,null,null,null,null,null,null,null,null,null,null,null,null,null,null,null,null,{"$f":"Раздел2!C216","v":0}]
["Судомодельный спорт","209",0,0,0,0,0,0,null,null,null,null,null,null,null,null,null,null,null,null,null,null,null,null,null,null,null,null,null,null,null,null,null,null,null,null,null,null,null,null,null,null,null,null,null,null,null,null,null,null,null,null,null,null,null,null,null,null,null,null,{"$f":"Раздел2!C217","v":0}]
["Сумо","210",0,0,0,0,0,0,null,null,null,null,null,null,null,null,null,null,null,null,null,null,null,null,null,null,null,null,null,null,null,null,null,null,null,null,null,null,null,null,null,null,null,null,null,null,null,null,null,null,null,null,null,null,null,null,null,null,null,null,{"$f":"Раздел2!C218","v":0}]
["Таврели","211",0,0,0,0,0,0,null,null,null,null,null,null,null,null,null,null,null,null,null,null,null,null,null,null,null,null,null,null,null,null,null,null,null,null,null,null,null,null,null,null,null,null,null,null,null,null,null,null,null,null,null,null,null,null,null,null,null,null,{"$f":"Раздел2!C219","v":0}]
["Тайский бокс","212",0,0,0,0,0,0,null,null,null,null,null,null,null,null,null,null,null,null,null,null,null,null,null,null,null,null,null,null,null,null,null,null,null,null,null,null,null,null,null,null,null,null,null,null,null,null,null,null,null,null,null,null,null,null,null,null,null,null,{"$f":"Раздел2!C220","v":0}]
["Танцевальный спорт","213",0,0,0,0,0,0,null,null,null,null,null,null,null,null,null,null,null,null,null,null,null,null,null,null,null,null,null,null,null,null,null,null,null,null,null,null,null,null,null,null,null,null,null,null,null,null,null,null,null,null,null,null,null,null,null,null,null,null,{"$f":"Раздел2!C221","v":0}]
["Теннис","214",0,0,0,0,0,0,null,null,null,null,null,null,null,null,null,null,null,null,null,null,null,null,null,null,null,null,null,null,null,null,null,null,null,null,null,null,null,null,null,null,null,null,null,null,null,null,null,null,null,null,null,null,null,null,null,null,null,null,{"$f":"Раздел2!C222","v":0}]
["Триатлон","215",0,0,0,0,0,0,null,null,null,null,null,null,null,null,null,null,null,null,null,null,null,null,null,null,null,null,null,null,null,null,null,null,null,null,null,null,null,null,null,null,null,null,null,null,null,null,null,null,null,null,null,null,null,null,null,null,null,null,{"$f":"Раздел2!C223","v":0}]
["Тхэквондо (ВТФ)","216",0,0,0,0,0,0,null,null,null,null,null,null,null,null,null,null,null,null,null,null,null,null,null,null,null,null,null,null,null,null,null,null,null,null,null,null,null,null,null,null,null,null,null,null,null,null,null,null,null,null,null,null,null,null,null,null,null,null,{"$f":"Раздел2!C224","v":0}]
["Тхэквондо ГТФ","217",0,0,0,0,0,0,null,null,null,null,null,null,null,null,null,null,null,null,null,null,null,null,null,null,null,null,null,null,null,null,null,null,null,null,null,null,null,null,null,null,null,null,null,null,null,null,null,null,null,null,null,null,null,null,null,null,null,null,{"$f":"Раздел2!C225","v":0}]
["Тхэквондо ИТФ","218",0,0,0,0,0,0,null,null,null,null,null,null,null,null,null,null,null,null,null,null,null,null,null,null,null,null,null,null,null,null,null,null,null,null,null,null,null,null,null,null,null,null,null,null,null,null,null,null,null,null,null,null,null,null,null,null,null,null,{"$f":"Раздел2!C226","v":0}]
["Тхэквондо МФТ","219",0,0,0,0,0,0,null,null,null,null,null,null,null,null,null,null,null,null,null,null,null,null,null,null,null,null,null,null,null,null,null,null,null,null,null,null,null,null,null,null,null,null,null,null,null,null,null,null,null,null,null,null,null,null,null,null,null,null,{"$f":"Раздел2!C227","v":0}]
["Тяжелая атлетика","220",0,0,0,0,0,0,null,null,null,null,null,null,null,null,null,null,null,null,null,null,null,null,null,null,null,null,null,null,null,null,null,null,null,null,null,null,null,null,null,null,null,null,null,null,null,null,null,null,null,null,null,null,null,null,null,null,null,null,{"$f":"Раздел2!C228","v":0}]
["Универсальный бой","221",0,0,0,0,0,0,null,null,null,null,null,null,null,null,null,null,null,null,null,null,null,null,null,null,null,null,null,null,null,null,null,null,null,null,null,null,null,null,null,null,null,null,null,null,null,null,null,null,null,null,null,null,null,null,null,null,null,null,{"$f":"Раздел2!C229","v":0}]
["Ушу","222",0,0,0,0,0,0,null,null,null,null,null,null,null,null,null,null,null,null,null,null,null,null,null,null,null,null,null,null,null,null,null,null,null,null,null,null,null,null,null,null,null,null,null,null,null,null,null,null,null,null,null,null,null,null,null,null,null,null,{"$f":"Раздел2!C230","v":0}]
["Фехтование - всего","223",0,0,0,0,0,0,{"$f":"SUM(I231:I234)","v":0},{"$f":"SUM(J231:J234)","v":0},0,0,0,0,0,0,0,0,0,0,0,0,0,0,0,0,0,0,0,0,0,0,0,0,0,0,0,0,0,0,0,0,0,0,0,0,0,0,0,0,0,0,0,0,0,0,0,0,null,null,{"$f":"Раздел2!C231","v":0}]
["в том числе:\nРапира","224",0,0,0,0,0,0,null,null,null,null,null,null,null,null,null,null,null,null,null,null,null,null,null,null,null,null,null,null,null,null,null,null,null,null,null,null,null,null,null,null,null,null,null,null,null,null,null,null,null,null,null,null,null,null,null,null,null,null,{"$f":"Раздел2!C232","v":0}]
["Сабля","225",0,0,0,0,0,0,null,null,null,null,null,null,null,null,null,null,null,null,null,null,null,null,null,null,null,null,null,null,null,null,null,null,null,null,null,null,null,null,null,null,null,null,null,null,null,null,null,null,null,null,null,null,null,null,null,null,null,null,{"$f":"Раздел2!C233","v":0}]
["Шпага","226",0,0,0,0,0,0,null,null,null,null,null,null,null,null,null,null,null,null,null,null,null,null,null,null,null,null,null,null,null,null,null,null,null,null,null,null,null,null,null,null,null,null,null,null,null,null,null,null,null,null,null,null,null,null,null,null,null,null,{"$f":"Раздел2!C234","v":0}]
["Арт-фехтование","227",0,0,0,0,0,0,null,null,null,null,null,null,null,null,null,null,null,null,null,null,null,null,null,null,null,null,null,null,null,null,null,null,null,null,null,null,null,null,null,null,null,null,null,null,null,null,null,null,null,null,null,null,null,null,null,null,null,null,{"$f":"Раздел2!C235","v":0}]
["Фигурное катание на коньках","228",0,0,0,0,0,0,null,null,null,null,null,null,null,null,null,null,null,null,null,null,null,null,null,null,null,null,null,null,null,null,null,null,null,null,null,null,null,null,null,null,null,null,null,null,null,null,null,null,null,null,null,null,null,null,null,null,null,null,{"$f":"Раздел2!C236","v":0}]
["Фитнес-аэробика","229",0,0,0,0,0,0,null,null,null,null,null,null,null,null,null,null,null,null,null,null,null,null,null,null,null,null,null,null,null,null,null,null,null,null,null,null,null,null,null,null,null,null,null,null,null,null,null,null,null,null,null,null,null,null,null,null,null,null,{"$f":"Раздел2!C237","v":1}]
["Флаинг диск","230",0,0,0,0,0,0,null,null,null,null,null,null,null,null,null,null,null,null,null,null,null,null,null,null,null,null,null,null,null,null,null,null,null,null,null,null,null,null,null,null,null,null,null,null,null,null,null,null,null,null,null,null,null,null,null,null,null,null,{"$f":"Раздел2!C238","v":0}]
["Флорбол","231",0,0,0,0,0,0,null,null,null,null,null,null,null,null,null,null,null,null,null,null,null,null,null,null,null,null,null,null,null,null,null,null,null,null,null,null,null,null,null,null,null,null,null,null,null,null,null,null,null,null,null,null,null,null,null,null,null,null,{"$f":"Раздел2!C239","v":0}]
["Фристайл - всего","232",0,0,0,0,0,0,{"$f":"SUM(I240:I245)","v":0},{"$f":"SUM(J240:J245)","v":0},0,0,0,0,0,0,0,0,0,0,0,0,0,0,0,0,0,0,0,0,0,0,0,0,0,0,0,0,0,0,0,0,0,0,0,0,0,0,0,0,0,0,0,0,0,0,0,0,null,null,{"$f":"Раздел2!C240","v":0}]
["в том числе:\nАкробатика","233",0,0,0,0,0,0,null,null,null,null,null,null,null,null,null,null,null,null,null,null,null,null,null,null,null,null,null,null,null,null,null,null,null,null,null,null,null,null,null,null,null,null,null,null,null,null,null,null,null,null,null,null,null,null,null,null,null,null,{"$f":"Раздел2!C241","v":0}]
["Биг-эйр","234",0,0,0,0,0,0,null,null,null,null,null,null,null,null,null,null,null,null,null,null,null,null,null,null,null,null,null,null,null,null,null,null,null,null,null,null,null,null,null,null,null,null,null,null,null,null,null,null,null,null,null,null,null,null,null,null,null,null,{"$f":"Раздел2!C242","v":0}]
["Могул","235",0,0,0,0,0,0,null,null,null,null,null,null,null,null,null,null,null,null,null,null,null,null,null,null,null,null,null,null,null,null,null,null,null,null,null,null,null,null,null,null,null,null,null,null,null,null,null,null,null,null,null,null,null,null,null,null,null,null,{"$f":"Раздел2!C243","v":0}]
["Ски-кросс","236",0,0,0,0,0,0,null,null,null,null,null,null,null,null,null,null,null,null,null,null,null,null,null,null,null,null,null,null,null,null,null,null,null,null,null,null,null,null,null,null,null,null,null,null,null,null,null,null,null,null,null,null,null,null,null,null,null,null,{"$f":"Раздел2!C244","v":0}]
["Хаф-пайп","237",0,0,0,0,0,0,null,null,null,null,null,null,null,null,null,null,null,null,null,null,null,null,null,null,null,null,null,null,null,null,null,null,null,null,null,null,null,null,null,null,null,null,null,null,null,null,null,null,null,null,null,null,null,null,null,null,null,null,{"$f":"Раздел2!C245","v":0}]
["Слоуп-стайл","238",0,0,0,0,0,0,null,null,null,null,null,null,null,null,null,null,null,null,null,null,null,null,null,null,null,null,null,null,null,null,null,null,null,null,null,null,null,null,null,null,null,null,null,null,null,null,null,null,null,null,null,null,null,null,null,null,null,null,{"$f":"Раздел2!C246","v":0}]
["Функциональное многоборье","239",0,0,0,0,0,0,null,null,null,null,null,null,null,null,null,null,null,null,null,null,null,null,null,null,null,null,null,null,null,null,null,null,null,null,null,null,null,null,null,null,null,null,null,null,null,null,null,null,null,null,null,null,null,null,null,null,null,null,{"$f":"Раздел2!C247","v":0}]
["Футбол - всего","240",0,0,0,0,0,0,{"$f":"SUM(I248:I253)","v":0},{"$f":"SUM(J248:J253)","v":0},0,0,0,0,0,0,0,0,0,0,0,0,0,0,0,0,0,0,0,0,0,0,0,0,0,0,0,0,0,0,0,0,0,0,0,0,0,0,0,0,0,0,0,0,0,0,0,0,null,null,{"$f":"Раздел2!C248","v":1}]
["в том числе:\nФутбол (муж.)","241",0,0,0,0,0,0,null,null,null,null,null,null,null,null,null,null,null,null,null,null,null,null,null,null,null,null,null,null,null,null,null,null,null,null,null,null,null,null,null,null,null,null,null,null,null,null,null,null,null,null,null,null,null,null,null,null,null,null,{"$f":"Раздел2!C249","v":0}]
["Футбол (жен.)","242",0,0,0,0,0,0,null,null,null,null,null,null,null,null,null,null,null,null,null,null,null,null,null,null,null,null,null,null,null,null,null,null,null,null,null,null,null,null,null,null,null,null,null,null,null,null,null,null,null,null,null,null,null,null,null,null,null,null,{"$f":"Раздел2!C250","v":0}]
["Мини-футбол (футзал)","243",0,0,0,0,0,0,null,null,null,null,null,null,null,null,null,null,null,null,null,null,null,null,null,null,null,null,null,null,null,null,null,null,null,null,null,null,null,null,null,null,null,null,null,null,null,null,null,null,null,null,null,null,null,null,null,null,null,null,{"$f":"Раздел2!C251","v":1}]
["Пляжный футбол","244",0,0,0,0,0,0,null,null,null,null,null,null,null,null,null,null,null,null,null,null,null,null,null,null,null,null,null,null,null,null,null,null,null,null,null,null,null,null,null,null,null,null,null,null,null,null,null,null,null,null,null,null,null,null,null,null,null,null,{"$f":"Раздел2!C252","v":0}]
["Футбол 6х6, 7х7, 8х8","245",0,0,0,0,0,0,null,null,null,null,null,null,null,null,null,null,null,null,null,null,null,null,null,null,null,null,null,null,null,null,null,null,null,null,null,null,null,null,null,null,null,null,null,null,null,null,null,null,null,null,null,null,null,null,null,null,null,null,{"$f":"Раздел2!C253","v":0}]
["Интерактивный футбол","246",0,0,0,0,0,0,null,null,null,null,null,null,null,null,null,null,null,null,null,null,null,null,null,null,null,null,null,null,null,null,null,null,null,null,null,null,null,null,null,null,null,null,null,null,null,null,null,null,null,null,null,null,null,null,null,null,null,null,{"$f":"Раздел2!C254","v":0}]
["Футгольф","247",0,0,0,0,0,0,null,null,null,null,null,null,null,null,null,null,null,null,null,null,null,null,null,null,null,null,null,null,null,null,null,null,null,null,null,null,null,null,null,null,null,null,null,null,null,null,null,null,null,null,null,null,null,null,null,null,null,null,{"$f":"Раздел2!C255","v":0}]
["Хапкидо","248",0,0,0,0,0,0,null,null,null,null,null,null,null,null,null,null,null,null,null,null,null,null,null,null,null,null,null,null,null,null,null,null,null,null,null,null,null,null,null,null,null,null,null,null,null,null,null,null,null,null,null,null,null,null,null,null,null,null,{"$f":"Раздел2!C256","v":0}]
["Хапсагай","249",0,0,0,0,0,0,null,null,null,null,null,null,null,null,null,null,null,null,null,null,null,null,null,null,null,null,null,null,null,null,null,null,null,null,null,null,null,null,null,null,null,null,null,null,null,null,null,null,null,null,null,null,null,null,null,null,null,null,{"$f":"Раздел2!C257","v":0}]
["Хоккей - всего","250",0,0,0,0,0,0,{"$f":"SUM(I258:I259)","v":0},{"$f":"SUM(J258:J259)","v":0},0,0,0,0,0,0,0,0,0,0,0,0,0,0,0,0,0,0,0,0,0,0,0,0,0,0,0,0,0,0,0,0,0,0,0,0,0,0,0,0,0,0,0,0,0,0,0,0,null,null,{"$f":"Раздел2!C258","v":0}]
["в том числе:\nХоккей (муж.)","251",0,0,0,0,0,0,null,null,null,null,null,null,null,null,null,null,null,null,null,null,null,null,null,null,null,null,null,null,null,null,null,null,null,null,null,null,null,null,null,null,null,null,null,null,null,null,null,null,null,null,null,null,null,null,null,null,null,null,{"$f":"Раздел2!C259","v":0}]
["Хоккей (жен.)","252",0,0,0,0,0,0,null,null,null,null,null,null,null,null,null,null,null,null,null,null,null,null,null,null,null,null,null,null,null,null,null,null,null,null,null,null,null,null,null,null,null,null,null,null,null,null,null,null,null,null,null,null,null,null,null,null,null,null,{"$f":"Раздел2!C260","v":0}]
["Хоккей на траве - всего","253",0,0,0,0,0,0,{"$f":"SUM(I261:I263)","v":0},{"$f":"SUM(J261:J263)","v":0},0,0,0,0,0,0,0,0,0,0,0,0,0,0,0,0,0,0,0,0,0,0,0,0,0,0,0,0,0,0,0,0,0,0,0,0,0,0,0,0,0,0,0,0,0,0,0,0,null,null,{"$f":"Раздел2!C261","v":0}]
["в том числе:\nХоккей на траве (муж.)","254",0,0,0,0,0,0,null,null,null,null,null,null,null,null,null,null,null,null,null,null,null,null,null,null,null,null,null,null,null,null,null,null,null,null,null,null,null,null,null,null,null,null,null,null,null,null,null,null,null,null,null,null,null,null,null,null,null,null,{"$f":"Раздел2!C262","v":0}]
["Хоккей на траве (жен.)","255",0,0,0,0,0,0,null,null,null,null,null,null,null,null,null,null,null,null,null,null,null,null,null,null,null,null,null,null,null,null,null,null,null,null,null,null,null,null,null,null,null,null,null,null,null,null,null,null,null,null,null,null,null,null,null,null,null,null,{"$f":"Раздел2!C263","v":0}]
["Индорхоккей","256",0,0,0,0,0,0,null,null,null,null,null,null,null,null,null,null,null,null,null,null,null,null,null,null,null,null,null,null,null,null,null,null,null,null,null,null,null,null,null,null,null,null,null,null,null,null,null,null,null,null,null,null,null,null,null,null,null,null,{"$f":"Раздел2!C264","v":0}]
["Хоккей с мячом","257",0,0,0,0,0,0,null,null,null,null,null,null,null,null,null,null,null,null,null,null,null,null,null,null,null,null,null,null,null,null,null,null,null,null,null,null,null,null,null,null,null,null,null,null,null,null,null,null,null,null,null,null,null,null,null,null,null,null,{"$f":"Раздел2!C265","v":0}]
["Художественная гимнастика","258",{"$f":"SUM(D265:F265)","v":0},{"$f":"SUM(I265,N265,S265,X265,AC265,AH265,AM265,AR265,AW265,BB265)","v":0},{"$f":"SUM(J265,O265,T265,Y265,AD265,AI265,AN265,AS265,AX265,BC265)","v":0},{"$f":"SUM(K265,P265,U265,Z265,AE265,AJ265,AO265,AT265,AY265,BD265)","v":0},{"$f":"SUM(L265,Q265,V265,AA265,AF265,AK265,AP265,AU265,AZ265,BE265)","v":0},{"$f":"SUM(M265,R265,W265,AB265,AG265,AL265,AQ265,AV265,BA265,BF265)","v":0},null,null,null,null,null,null,null,null,null,null,null,null,null,null,null,null,null,null,null,null,null,null,null,null,null,null,null,null,null,null,null,null,null,null,null,null,null,null,null,null,null,null,null,null,null,null,null,null,null,null,null,null,{"$f":"Раздел2!C266","v":0}]
["Хуреш","259",0,0,0,0,0,0,null,null,null,null,null,null,null,null,null,null,null,null,null,null,null,null,null,null,null,null,null,null,null,null,null,null,null,null,null,null,null,null,null,null,null,null,null,null,null,null,null,null,null,null,null,null,null,null,null,null,null,null,{"$f":"Раздел2!C267","v":0}]
["Чир спорт","260",0,0,0,0,0,0,null,null,null,null,null,null,null,null,null,null,null,null,null,null,null,null,null,null,null,null,null,null,null,null,null,null,null,null,null,null,null,null,null,null,null,null,null,null,null,null,null,null,null,null,null,null,null,null,null,null,null,null,{"$f":"Раздел2!C268","v":0}]
["Шахматы","261",0,0,0,0,0,0,null,null,null,null,null,null,null,null,null,null,null,null,null,null,null,null,null,null,null,null,null,null,null,null,null,null,null,null,null,null,null,null,null,null,null,null,null,null,null,null,null,null,null,null,null,null,null,null,null,null,null,null,{"$f":"Раздел2!C269","v":0}]
["Шашки","262",0,0,0,0,0,0,null,null,null,null,null,null,null,null,null,null,null,null,null,null,null,null,null,null,null,null,null,null,null,null,null,null,null,null,null,null,null,null,null,null,null,null,null,null,null,null,null,null,null,null,null,null,null,null,null,null,null,null,{"$f":"Раздел2!C270","v":0}]
["Шодсанлат","263",0,0,0,0,0,0,null,null,null,null,null,null,null,null,null,null,null,null,null,null,null,null,null,null,null,null,null,null,null,null,null,null,null,null,null,null,null,null,null,null,null,null,null,null,null,null,null,null,null,null,null,null,null,null,null,null,null,null,{"$f":"Раздел2!C271","v":0}]
["Эстетическая гимнастика","264",0,0,0,0,0,0,null,null,null,null,null,null,null,null,null,null,null,null,null,null,null,null,null,null,null,null,null,null,null,null,null,null,null,null,null,null,null,null,null,null,null,null,null,null,null,null,null,null,null,null,null,null,null,null,null,null,null,null,{"$f":"Раздел2!C272","v":0}]
["Якутские национальные прыжки","265",0,0,0,0,0,0,null,null,null,null,null,null,null,null,null,null,null,null,null,null,null,null,null,null,null,null,null,null,null,null,null,null,null,null,null,null,null,null,null,null,null,null,null,null,null,null,null,null,null,null,null,null,null,null,null,null,null,null,{"$f":"Раздел2!C273","v":0}]
["ИТОГО","266",0,0,0,{"$f":"SUM(K273,P273,U273,Z273,AE273,AJ273,AO273,AT273,AY273,BD273)","v":0},0,0,{"$f":"SUM(I8:I20,I24:I27,I30:I35,I46:I51,I56:I58,I40:I43,I62:I72,I77:I86,I90:I96,I99:I104,I112:I117,I118:I126,I129:I134,I137,I142:I143,I149:I152,I158:I164,I165:I179,I180:I192,I198:I205,I210:I212,I216:I220,I221:I230,I235:I239,I246:I247,I254:I257,I260,I264:I272)","v":0},{"$f":"SUM(J8:J20,J24:J27,J30:J35,J46:J51,J56:J58,J40:J43,J62:J72,J77:J86,J90:J96,J99:J104,J112:J117,J118:J126,J129:J134,J137,J142:J143,J149:J152,J158:J164,J165:J179,J180:J192,J198:J205,J210:J212,J216:J220,J221:J230,J235:J239,J246:J247,J254:J257,J260,J264:J272)","v":0},{"$f":"SUM(K8:K20,K24:K27,K30:K35,K46:K51,K56:K58,K40:K43,K62:K72,K77:K86,K90:K96,K99:K104,K112:K117,K118:K126,K129:K134,K137,K142:K143,K149:K152,K158:K164,K165:K179,K180:K192,K198:K205,K210:K212,K216:K220,K221:K230,K235:K239,K246:K247,K254:K257,K260,K264:K272)","v":0},0,0,0,0,0,0,0,0,0,0,0,0,0,0,0,0,0,0,0,0,0,0,0,0,0,0,0,0,0,0,0,0,0,0,0,0,0,0,0,0,0,0,0,0,0,0,{"$f":"SUM(BF8:BF20,BF24:BF27,BF30:BF35,BF46:BF51,BF56:BF58,BF40:BF43,BF62:BF72,BF77:BF86,BF90:BF96,BF99:BF104,BF112:BF117,BF118:BF126,BF129:BF134,BF137,BF142:BF143,BF149:BF152,BF158:BF164,BF165:BF179,BF180:BF192,BF198:BF205,BF210:BF212,BF216:BF220,BF221:BF230,BF235:BF239,BF246:BF247,BF254:BF257,BF260,BF264:BF272)","v":0},null,null,{"$f":"Раздел2!C274","v":8}]

{"sheet":"Раздел9","index":9,"n_rows":276,"n_cols":34,"rows_kept":276,"cut":false,"hidden":false,"merged":[[6,29,7,29],[5,14,7,14],[5,15,7,15],[4,4,7,4],[2,1,7,1],[2,2,7,2],[5,13,7,13],[6,25,7,25],[6,26,7,26],[4,22,4,24],[4,25,5,27],[4,3,7,3],[0,0,128,0],[0,1,0,28],[1,25,1,30],[2,3,3,4],[2,5,2,28],[2,29,2,30],[3,5,3,6],[3,7,3,15],[3,16,3,24],[3,25,3,28],[3,29,5,30],[4,5,7,5],[4,6,7,6],[4,7,4,10],[4,11,7,11],[5,22,7,22],[6,30,7,30],[4,28,7,28],[5,7,7,7],[5,8,7,8],[5,9,6,10],[5,16,7,16],[5,17,7,17],[5,18,6,19],[5,23,7,23],[5,24,7,24],[6,27,7,27],[4,12,7,12],[4,13,4,15],[4,16,4,19],[4,20,7,20],[4,21,7,21]]}
[null,"Раздел IX. Тренерский состав"]
[null,null,null,null,null,null,null,null,null,null,null,null,null,null,null,null,null,null,null,null,null,null,null,null,null,"Код по ОКЕИ: человек – 792"]
[null,"Виды спорта","№ строки","Число тренеров и тренеров-преподавателей",null,"Тренеры",null,null,null,null,null,null,null,null,null,null,null,null,null,null,null,null,null,null,null,null,null,null,null,"Тренеры-преподаватели"]
[null,null,null,null,null,"Число тренеров",null,"штатные тренеры:",null,null,null,null,null,null,null,null,"совместители:",null,null,null,null,null,null,null,null,"из гр.6:",null,null,null,"Число тренеров-преподавателей"]
[null,null,null,"Всего","в том числе штатных","Всего","в том числе штатных","профессиональное образование",null,null,null,"Профессиональная переподготовка (за отчетный год)","Повышение квалификации (за отчетный год)","квалификационные категории",null,null,"профессиональное образование",null,null,null,"Профессиональная переподготовка (за отчетный год)","Повышение квалификации (за отчетный год)","квалификационные категории",null,null,"в возрасте:",null,null,"Звание «Заслуженный тренер России»"]
[null,null,null,null,null,null,null,"высшее","среднее","в том числе\nфизкультурное",null,null,null,"Высшая","Первая","Вторая","высшее","среднее","в том числе\nфизкультурное",null,null,null,"Высшая","Первая","Вторая"]
[null,null,null,null,null,null,null,null,null,null,null,null,null,null,null,null,null,null,null,null,null,null,null,null,null,"до 35 лет","от 36 до 64 лет","старше 64 лет",null,"Всего","в том числе штатных"]
[null,null,null,null,null,null,null,null,null,"высшее","среднее",null,null,null,null,null,null,null,"высшее","среднее"]
[null,1,2,3,4,5,6,7,8,9,10,11,12,13,14,15,16,17,18,19,20,21,22,23,24,25,26,27,28,29,30,null,"5 мин 6","р2"]
[null,"Авиамодельный спорт","01",{"$f":"SUM(F10,AD10)","v":0},{"$f":"SUM(G10,AE10)","v":0},null,null,null,null,null,null,null,null,null,null,null,null,null,null,null,null,null,null,null,null,null,null,null,null,null,null,null,{"$f":"F10-G10","v":0},{"$f":"Раздел2!C9","v":0}]
[null,"Автомобильный спорт","02",{"$f":"SUM(F11,AD11)","v":0},{"$f":"SUM(G11,AE11)","v":0},null,null,null,null,null,null,null,null,null,null,null,null,null,null,null,null,null,null,null,null,null,null,null,null,null,null,null,{"$f":"F11-G11","v":0},{"$f":"Раздел2!C10","v":0}]
[null,"Автомодельный спорт","03",0,0,null,null,null,null,null,null,null,null,null,null,null,null,null,null,null,null,null,null,null,null,null,null,null,null,null,null,null,0,{"$f":"Раздел2!C11","v":0}]
[null,"Айкидо","04",1,0,1,null,null,null,null,null,null,null,null,null,null,1,null,1,null,null,null,null,null,1,null,null,null,null,null,null,null,1,{"$f":"Раздел2!C12","v":1}]
[null,"Айсшток","05",0,0,null,null,null,null,null,null,null,null,null,null,null,null,null,null,null,null,null,null,null,null,null,null,null,null,null,null,null,0,{"$f":"Раздел2!C13","v":0}]
[null,"Акробатический рок-н-ролл","06",0,0,null,null,null,null,null,null,null,null,null,null,null,null,null,null,null,null,null,null,null,null,null,null,null,null,null,null,null,0,{"$f":"Раздел2!C14","v":0}]
[null,"Альпинизм","07",0,0,null,null,null,null,null,null,null,null,null,null,null,null,null,null,null,null,null,null,null,null,null,null,null,null,null,null,null,0,{"$f":"Раздел2!C15","v":0}]
[null,"Американский футбол","08",0,0,null,null,null,null,null,null,null,null,null,null,null,null,null,null,null,null,null,null,null,null,null,null,null,null,null,null,null,0,{"$f":"Раздел2!C16","v":0}]
[null,"Армейский рукопашный бой","09",0,0,null,null,null,null,null,null,null,null,null,null,null,null,null,null,null,null,null,null,null,null,null,null,null,null,null,null,null,0,{"$f":"Раздел2!C17","v":0}]
[null,"Армейское тактико-стрелковое многоборье","10",0,0,null,null,null,null,null,null,null,null,null,null,null,null,null,null,null,null,null,null,null,null,null,null,null,null,null,null,null,0,{"$f":"Раздел2!C18","v":0}]
[null,"Армрестлинг","11",0,0,null,null,null,null,null,null,null,null,null,null,null,null,null,null,null,null,null,null,null,null,null,null,null,null,null,null,null,0,{"$f":"Раздел2!C19","v":0}]
[null,"Бадминтон","12",0,0,null,null,null,null,null,null,null,null,null,null,null,null,null,null,null,null,null,null,null,null,null,null,null,null,null,null,null,0,{"$f":"Раздел2!C20","v":0}]
[null,"Баскетбол - всего","13",1,0,{"$f":"SUM(F23:F25)","v":1},{"$f":"SUM(G23:G25)","v":0},0,0,0,0,0,0,0,0,0,1,0,1,0,0,0,0,0,0,0,0,0,0,0,0,null,1,{"$f":"Раздел2!C21","v":1}]
[null,"в том числе:\nБаскетбол (муж.)","14",1,0,1,null,null,null,null,null,null,null,null,null,null,1,null,1,null,null,null,null,null,null,null,null,null,null,null,null,null,1,{"$f":"Раздел2!C22","v":1}]
[null,"Баскетбол (жен.)","15",0,0,null,null,null,null,null,null,null,null,null,null,null,null,null,null,null,null,null,null,null,null,null,null,null,null,null,null,null,0,{"$f":"Раздел2!C23","v":1}]
[null,"Баскетбол 3х3","16",0,0,null,null,null,null,null,null,null,null,null,null,null,null,null,null,null,null,null,null,null,null,null,null,null,null,null,null,null,0,{"$f":"Раздел2!C24","v":0}]
[null,"Бейсбол","17",0,0,null,null,null,null,null,null,null,null,null,null,null,null,null,null,null,null,null,null,null,null,null,null,null,null,null,null,null,0,{"$f":"Раздел2!C25","v":0}]
[null,"Биатлон","18",0,0,null,null,null,null,null,null,null,null,null,null,null,null,null,null,null,null,null,null,null,null,null,null,null,null,null,null,null,0,{"$f":"Раздел2!C26","v":0}]
[null,"Бильярдный спорт","19",0,0,null,null,null,null,null,null,null,null,null,null,null,null,null,null,null,null,null,null,null,null,null,null,null,null,null,null,null,0,{"$f":"Раздел2!C27","v":0}]
[null,"Бобслей - всего","20",0,0,{"$f":"SUM(F30:F31)","v":0},{"$f":"SUM(G30:G31)","v":0},0,0,0,0,0,0,0,0,0,0,0,0,0,0,0,0,0,0,0,0,0,0,0,0,null,0,{"$f":"Раздел2!C28","v":0}]
[null,"в том числе:\nБобслей","21",0,0,null,null,null,null,null,null,null,null,null,null,null,null,null,null,null,null,null,null,null,null,null,null,null,null,null,null,null,0,{"$f":"Раздел2!C29","v":0}]
[null,"Скелетон","22",0,0,null,null,null,null,null,null,null,null,null,null,null,null,null,null,null,null,null,null,null,null,null,null,null,null,null,null,null,0,{"$f":"Раздел2!C30","v":0}]
[null,"Бодибилдинг","23",0,0,null,null,null,null,null,null,null,null,null,null,null,null,null,null,null,null,null,null,null,null,null,null,null,null,null,null,null,0,{"$f":"Раздел2!C31","v":0}]
[null,"Бокс","24",0,0,null,null,null,null,null,null,null,null,null,null,null,null,null,null,null,null,null,null,null,null,null,null,null,null,null,null,null,0,{"$f":"Раздел2!C32","v":0}]
[null,"Борьба на поясах","25",0,0,null,null,null,null,null,null,null,null,null,null,null,null,null,null,null,null,null,null,null,null,null,null,null,null,null,null,null,0,{"$f":"Раздел2!C33","v":0}]
[null,"Боулинг","26",0,0,null,null,null,null,null,null,null,null,null,null,null,null,null,null,null,null,null,null,null,null,null,null,null,null,null,null,null,0,{"$f":"Раздел2!C34","v":0}]
[null,"Боулспорт","27",0,0,null,null,null,null,null,null,null,null,null,null,null,null,null,null,null,null,null,null,null,null,null,null,null,null,null,null,null,0,{"$f":"Раздел2!C35","v":0}]
[null,"Велосипедный спорт - всего","28",0,0,{"$f":"SUM(F38:F41)","v":0},{"$f":"SUM(G38:G41)","v":0},0,0,0,0,0,0,0,0,0,0,0,0,0,0,0,0,0,0,0,0,0,0,0,0,null,0,{"$f":"Раздел2!C36","v":0}]
[null,"в том числе:\nBMX","29",0,0,null,null,null,null,null,null,null,null,null,null,null,null,null,null,null,null,null,null,null,null,null,null,null,null,null,null,null,0,{"$f":"Раздел2!C37","v":0}]
[null,"Маунтинбайк","30",0,0,null,null,null,null,null,null,null,null,null,null,null,null,null,null,null,null,null,null,null,null,null,null,null,null,null,null,null,0,{"$f":"Раздел2!C38","v":0}]
[null,"Трек","31",0,0,null,null,null,null,null,null,null,null,null,null,null,null,null,null,null,null,null,null,null,null,null,null,null,null,null,null,null,0,{"$f":"Раздел2!C39","v":0}]
[null,"Шоссе","32",0,0,null,null,null,null,null,null,null,null,null,null,null,null,null,null,null,null,null,null,null,null,null,null,null,null,null,null,null,0,{"$f":"Раздел2!C40","v":0}]
[null,"Вертолетный спорт","33",0,0,null,null,null,null,null,null,null,null,null,null,null,null,null,null,null,null,null,null,null,null,null,null,null,null,null,null,null,0,{"$f":"Раздел2!C41","v":0}]
[null,"Водно-моторный спорт","34",0,0,null,null,null,null,null,null,null,null,null,null,null,null,null,null,null,null,null,null,null,null,null,null,null,null,null,null,null,0,{"$f":"Раздел2!C42","v":0}]
[null,"Водно-спасательное многоборье","35",0,0,null,null,null,null,null,null,null,null,null,null,null,null,null,null,null,null,null,null,null,null,null,null,null,null,null,null,null,0,{"$f":"Раздел2!C43","v":0}]
[null,"Водное поло - всего ","36",0,0,{"$f":"SUM(F46:F47)","v":0},{"$f":"SUM(G46:G47)","v":0},0,0,0,0,0,0,0,0,0,0,0,0,0,0,0,0,0,0,0,0,0,0,0,0,null,0,{"$f":"Раздел2!C44","v":0}]
[null,"в том числе:\nВодное поло (муж.)","37",0,0,null,null,null,null,null,null,null,null,null,null,null,null,null,null,null,null,null,null,null,null,null,null,null,null,null,null,null,0,{"$f":"Раздел2!C45","v":0}]
[null,"Водное поло (жен.)","38",0,0,null,null,null,null,null,null,null,null,null,null,null,null,null,null,null,null,null,null,null,null,null,null,null,null,null,null,null,0,{"$f":"Раздел2!C46","v":0}]
[null,"Воднолыжный спорт","39",0,0,null,null,null,null,null,null,null,null,null,null,null,null,null,null,null,null,null,null,null,null,null,null,null,null,null,null,null,0,{"$f":"Раздел2!C47","v":0}]
[null,"Военно-прикладной спорт","40",0,0,null,null,null,null,null,null,null,null,null,null,null,null,null,null,null,null,null,null,null,null,null,null,null,null,null,null,null,0,{"$f":"Раздел2!C48","v":0}]
[null,"Военно-спортивное многоборье","41",0,0,null,null,null,null,null,null,null,null,null,null,null,null,null,null,null,null,null,null,null,null,null,null,null,null,null,null,null,0,{"$f":"Раздел2!C49","v":0}]
[null,"Воздухоплавательный спорт","42",0,0,null,null,null,null,null,null,null,null,null,null,null,null,null,null,null,null,null,null,null,null,null,null,null,null,null,null,null,0,{"$f":"Раздел2!C50","v":0}]
[null,"Воздушно-силовая атлетика","43",0,0,null,null,null,null,null,null,null,null,null,null,null,null,null,null,null,null,null,null,null,null,null,null,null,null,null,null,null,0,{"$f":"Раздел2!C51","v":0}]
[null,"Волейбол - всего","44",3,0,{"$f":"SUM(F54:F57)","v":3},{"$f":"SUM(G54:G57)","v":0},0,0,0,0,0,0,0,0,0,3,0,3,0,0,0,1,0,0,0,0,0,0,0,0,null,3,{"$f":"Раздел2!C52","v":1}]
[null,"в том числе:\nВолейбол (муж.)","45",2,0,2,null,null,null,null,null,null,null,null,null,null,2,null,2,null,null,null,1,null,null,null,null,null,null,null,null,null,2,{"$f":"Раздел2!C53","v":1}]
[null,"Волейбол (жен.)","46",1,0,1,null,null,null,null,null,null,null,null,null,null,1,null,1,null,null,null,null,null,null,null,null,null,null,null,null,null,1,{"$f":"Раздел2!C54","v":1}]
[null,"Пляжный волейбол (муж.)","47",0,0,null,null,null,null,null,null,null,null,null,null,null,null,null,null,null,null,null,null,null,null,null,null,null,null,null,null,null,0,{"$f":"Раздел2!C55","v":0}]
[null,"Пляжный волейбол (жен.)","48",0,0,null,null,null,null,null,null,null,null,null,null,null,null,null,null,null,null,null,null,null,null,null,null,null,null,null,null,null,0,{"$f":"Раздел2!C56","v":0}]
[null,"Восточное боевое единоборство","49",0,0,null,null,null,null,null,null,null,null,null,null,null,null,null,null,null,null,null,null,null,null,null,null,null,null,null,null,null,0,{"$f":"Раздел2!C57","v":0}]
[null,"Всестилевое каратэ","50",0,0,null,null,null,null,null,null,null,null,null,null,null,null,null,null,null,null,null,null,null,null,null,null,null,null,null,null,null,0,{"$f":"Раздел2!C58","v":0}]
[null,"Гандбол - всего","51",0,0,{"$f":"SUM(F61:F63)","v":0},{"$f":"SUM(G61:G63)","v":0},0,0,0,0,0,0,0,0,0,0,0,0,0,0,0,0,0,0,0,0,0,0,0,0,null,0,{"$f":"Раздел2!C59","v":0}]
[null,"в том числе:\nГандбол (муж.)","52",0,0,null,null,null,null,null,null,null,null,null,null,null,null,null,null,null,null,null,null,null,null,null,null,null,null,null,null,null,0,{"$f":"Раздел2!C60","v":0}]
[null,"Гандбол (жен.)","53",0,0,null,null,null,null,null,null,null,null,null,null,null,null,null,null,null,null,null,null,null,null,null,null,null,null,null,null,null,0,{"$f":"Раздел2!C61","v":0}]
[null,"Пляжный гандбол","54",0,0,null,null,null,null,null,null,null,null,null,null,null,null,null,null,null,null,null,null,null,null,null,null,null,null,null,null,null,0,{"$f":"Раздел2!C62","v":0}]
[null,"Гиревой спорт","55",0,0,null,null,null,null,null,null,null,null,null,null,null,null,null,null,null,null,null,null,null,null,null,null,null,null,null,null,null,0,{"$f":"Раздел2!C63","v":0}]
[null,"Го","56",0,0,null,null,null,null,null,null,null,null,null,null,null,null,null,null,null,null,null,null,null,null,null,null,null,null,null,null,null,0,{"$f":"Раздел2!C64","v":0}]
[null,"Гольф","57",0,0,null,null,null,null,null,null,null,null,null,null,null,null,null,null,null,null,null,null,null,null,null,null,null,null,null,null,null,0,{"$f":"Раздел2!C65","v":0}]
[null,"Гонки на охотничьих лыжах","58",0,0,null,null,null,null,null,null,null,null,null,null,null,null,null,null,null,null,null,null,null,null,null,null,null,null,null,null,null,0,{"$f":"Раздел2!C66","v":0}]
[null,"Гонки с препятствиями","59",0,0,null,null,null,null,null,null,null,null,null,null,null,null,null,null,null,null,null,null,null,null,null,null,null,null,null,null,null,0,{"$f":"Раздел2!C67","v":0}]
[null,"Горнолыжный спорт","60",0,0,null,null,null,null,null,null,null,null,null,null,null,null,null,null,null,null,null,null,null,null,null,null,null,null,null,null,null,0,{"$f":"Раздел2!C68","v":0}]
[null,"Городошный спорт","61",0,0,null,null,null,null,null,null,null,null,null,null,null,null,null,null,null,null,null,null,null,null,null,null,null,null,null,null,null,0,{"$f":"Раздел2!C69","v":0}]
[null,"Гребля на байдарках и каноэ","62",0,0,null,null,null,null,null,null,null,null,null,null,null,null,null,null,null,null,null,null,null,null,null,null,null,null,null,null,null,0,{"$f":"Раздел2!C70","v":0}]
[null,"Гребля на шлюпках","63",0,0,null,null,null,null,null,null,null,null,null,null,null,null,null,null,null,null,null,null,null,null,null,null,null,null,null,null,null,0,{"$f":"Раздел2!C71","v":0}]
[null,"Гребной слалом","64",0,0,null,null,null,null,null,null,null,null,null,null,null,null,null,null,null,null,null,null,null,null,null,null,null,null,null,null,null,0,{"$f":"Раздел2!C72","v":0}]
[null,"Гребной спорт - всего","65",0,0,{"$f":"SUM(F75:F78)","v":0},{"$f":"SUM(G75:G78)","v":0},0,0,0,0,0,0,0,0,0,0,0,0,0,0,0,0,0,0,0,0,0,0,0,0,null,0,{"$f":"Раздел2!C73","v":0}]
[null,"в том числе:\nАкадемическая гребля","66",{"$f":"SUM(F75,AD75)","v":0},{"$f":"SUM(G75,AE75)","v":0},null,null,null,null,null,null,null,null,null,null,null,null,null,null,null,null,null,null,null,null,null,null,null,null,null,null,null,{"$f":"F75-G75","v":0},{"$f":"Раздел2!C74","v":0}]
[null,"Гребля-индор","67",0,0,null,null,null,null,null,null,null,null,null,null,null,null,null,null,null,null,null,null,null,null,null,null,null,null,null,null,null,0,{"$f":"Раздел2!C75","v":0}]
[null,"Народная гребля","68",0,0,null,null,null,null,null,null,null,null,null,null,null,null,null,null,null,null,null,null,null,null,null,null,null,null,null,null,null,0,{"$f":"Раздел2!C76","v":0}]
[null,"Прибрежная гребля","69",0,0,null,null,null,null,null,null,null,null,null,null,null,null,null,null,null,null,null,null,null,null,null,null,null,null,null,null,null,0,{"$f":"Раздел2!C77","v":0}]
[null,"Гребно-парусное двоеборье","70",0,0,null,null,null,null,null,null,null,null,null,null,null,null,null,null,null,null,null,null,null,null,null,null,null,null,null,null,null,0,{"$f":"Раздел2!C78","v":0}]
[null,"Дартс","71",0,0,null,null,null,null,null,null,null,null,null,null,null,null,null,null,null,null,null,null,null,null,null,null,null,null,null,null,null,0,{"$f":"Раздел2!C79","v":0}]
[null,"Джиу-джитсу","72",0,0,null,null,null,null,null,null,null,null,null,null,null,null,null,null,null,null,null,null,null,null,null,null,null,null,null,null,null,0,{"$f":"Раздел2!C80","v":0}]
[null,"Дзюдо","73",0,0,null,null,null,null,null,null,null,null,null,null,null,null,null,null,null,null,null,null,null,null,null,null,null,null,null,null,null,0,{"$f":"Раздел2!C81","v":0}]
[null,"Ездовой спорт","74",0,0,null,null,null,null,null,null,null,null,null,null,null,null,null,null,null,null,null,null,null,null,null,null,null,null,null,null,null,0,{"$f":"Раздел2!C82","v":0}]
[null,"Капоэйра","75",0,0,null,null,null,null,null,null,null,null,null,null,null,null,null,null,null,null,null,null,null,null,null,null,null,null,null,null,null,0,{"$f":"Раздел2!C83","v":0}]
[null,"Каратэ","76",0,0,null,null,null,null,null,null,null,null,null,null,null,null,null,null,null,null,null,null,null,null,null,null,null,null,null,null,null,0,{"$f":"Раздел2!C84","v":0}]
[null,"Кендо","77",0,0,null,null,null,null,null,null,null,null,null,null,null,null,null,null,null,null,null,null,null,null,null,null,null,null,null,null,null,0,{"$f":"Раздел2!C85","v":0}]
[null,"Керешу","78",0,0,null,null,null,null,null,null,null,null,null,null,null,null,null,null,null,null,null,null,null,null,null,null,null,null,null,null,null,0,{"$f":"Раздел2!C86","v":0}]
[null,"Кёрлинг - всего","79",0,0,{"$f":"SUM(F89:F91)","v":0},{"$f":"SUM(G89:G91)","v":0},0,0,0,0,0,0,0,0,0,0,0,0,0,0,0,0,0,0,0,0,0,0,0,0,null,0,{"$f":"Раздел2!C87","v":0}]
[null,"в том числе:\nКерлинг (муж.)","80",0,0,null,null,null,null,null,null,null,null,null,null,null,null,null,null,null,null,null,null,null,null,null,null,null,null,null,null,null,0,{"$f":"Раздел2!C88","v":0}]
[null,"Керлинг (жен.)","81",0,0,null,null,null,null,null,null,null,null,null,null,null,null,null,null,null,null,null,null,null,null,null,null,null,null,null,null,null,0,{"$f":"Раздел2!C89","v":0}]
[null,"Кёрлинг – смешанные пары","82",0,0,null,null,null,null,null,null,null,null,null,null,null,null,null,null,null,null,null,null,null,null,null,null,null,null,null,null,null,0,{"$f":"Раздел2!C90","v":0}]
[null,"Кикбоксинг","83",0,0,null,null,null,null,null,null,null,null,null,null,null,null,null,null,null,null,null,null,null,null,null,null,null,null,null,null,null,0,{"$f":"Раздел2!C91","v":0}]
[null,"Кинологический спорт","84",0,0,null,null,null,null,null,null,null,null,null,null,null,null,null,null,null,null,null,null,null,null,null,null,null,null,null,null,null,0,{"$f":"Раздел2!C92","v":0}]
[null,"Киокусинкай","85",0,0,null,null,null,null,null,null,null,null,null,null,null,null,null,null,null,null,null,null,null,null,null,null,null,null,null,null,null,0,{"$f":"Раздел2!C93","v":0}]
[null,"Комплексное единоборство","86",0,0,null,null,null,null,null,null,null,null,null,null,null,null,null,null,null,null,null,null,null,null,null,null,null,null,null,null,null,0,{"$f":"Раздел2!C94","v":0}]
[null,"Компьютерный спорт","87",0,0,null,null,null,null,null,null,null,null,null,null,null,null,null,null,null,null,null,null,null,null,null,null,null,null,null,null,null,0,{"$f":"Раздел2!C95","v":0}]
[null,"Конный спорт","88",0,0,null,null,null,null,null,null,null,null,null,null,null,null,null,null,null,null,null,null,null,null,null,null,null,null,null,null,null,0,{"$f":"Раздел2!C96","v":0}]
[null,"Конькобежный спорт - всего","89",0,0,{"$f":"SUM(F99:F100)","v":0},{"$f":"SUM(G99:G100)","v":0},0,0,0,0,0,0,0,0,0,0,0,0,0,0,0,0,0,0,0,0,0,0,0,0,null,0,{"$f":"Раздел2!C97","v":0}]
[null,"в том числе:\nКонькобежный спорт","90",0,0,null,null,null,null,null,null,null,null,null,null,null,null,null,null,null,null,null,null,null,null,null,null,null,null,null,null,null,0,{"$f":"Раздел2!C98","v":0}]
[null,"Шорт-трек","91",0,0,null,null,null,null,null,null,null,null,null,null,null,null,null,null,null,null,null,null,null,null,null,null,null,null,null,null,null,0,{"$f":"Раздел2!C99","v":0}]
[null,"Корэш","92",0,0,null,null,null,null,null,null,null,null,null,null,null,null,null,null,null,null,null,null,null,null,null,null,null,null,null,null,null,0,{"$f":"Раздел2!C100","v":0}]
[null,"Корфбол","93",0,0,null,null,null,null,null,null,null,null,null,null,null,null,null,null,null,null,null,null,null,null,null,null,null,null,null,null,null,0,{"$f":"Раздел2!C101","v":0}]
[null,"Крикет","94",0,0,null,null,null,null,null,null,null,null,null,null,null,null,null,null,null,null,null,null,null,null,null,null,null,null,null,null,null,0,{"$f":"Раздел2!C102","v":0}]
[null,"Кудо","95",0,0,null,null,null,null,null,null,null,null,null,null,null,null,null,null,null,null,null,null,null,null,null,null,null,null,null,null,null,0,{"$f":"Раздел2!C103","v":0}]
[null,"Лапта","96",0,0,null,null,null,null,null,null,null,null,null,null,null,null,null,null,null,null,null,null,null,null,null,null,null,null,null,null,null,0,{"$f":"Раздел2!C104","v":0}]
[null,"Легкая атлетика - всего","97",0,0,{"$f":"SUM(F107:F113)","v":0},{"$f":"SUM(G107:G113)","v":0},0,0,0,0,0,0,0,0,0,0,0,0,0,0,0,0,0,0,0,0,0,0,0,0,null,0,{"$f":"Раздел2!C105","v":0}]
[null,"в том числе:\nСпринтерский и барьерный бег","98",0,0,null,null,null,null,null,null,null,null,null,null,null,null,null,null,null,null,null,null,null,null,null,null,null,null,null,null,null,0,{"$f":"Раздел2!C106","v":0}]
[null,"Бег на средние дистанции и бег с препятствиями","99",0,0,null,null,null,null,null,null,null,null,null,null,null,null,null,null,null,null,null,null,null,null,null,null,null,null,null,null,null,0,{"$f":"Раздел2!C107","v":0}]
[null,"Бег на длинные и сверхдлинные дистанции","100",0,0,null,null,null,null,null,null,null,null,null,null,null,null,null,null,null,null,null,null,null,null,null,null,null,null,null,null,null,0,{"$f":"Раздел2!C108","v":0}]
[null,"Многоборья","101",0,0,null,null,null,null,null,null,null,null,null,null,null,null,null,null,null,null,null,null,null,null,null,null,null,null,null,null,null,0,{"$f":"Раздел2!C109","v":0}]
[null,"Прыжки","102",0,0,null,null,null,null,null,null,null,null,null,null,null,null,null,null,null,null,null,null,null,null,null,null,null,null,null,null,null,0,{"$f":"Раздел2!C110","v":0}]
[null,"Метания","103",0,0,null,null,null,null,null,null,null,null,null,null,null,null,null,null,null,null,null,null,null,null,null,null,null,null,null,null,null,0,{"$f":"Раздел2!C111","v":0}]
[null,"Спортивная ходьба","104",0,0,null,null,null,null,null,null,null,null,null,null,null,null,null,null,null,null,null,null,null,null,null,null,null,null,null,null,null,0,{"$f":"Раздел2!C112","v":0}]
[null,"Лыжное двоеборье","105",0,0,null,null,null,null,null,null,null,null,null,null,null,null,null,null,null,null,null,null,null,null,null,null,null,null,null,null,null,0,{"$f":"Раздел2!C113","v":0}]
[null,"Лыжные гонки","106",2,2,2,2,2,null,2,null,null,1,null,null,2,null,null,null,null,null,null,null,null,null,1,1,null,null,null,null,null,0,{"$f":"Раздел2!C114","v":1}]
[null,"Мас-рестлинг","107",0,0,null,null,null,null,null,null,null,null,null,null,null,null,null,null,null,null,null,null,null,null,null,null,null,null,null,null,null,0,{"$f":"Раздел2!C115","v":0}]
[null,"Международное военно-спортивное многоборье","108",0,0,null,null,null,null,null,null,null,null,null,null,null,null,null,null,null,null,null,null,null,null,null,null,null,null,null,null,null,0,{"$f":"Раздел2!C116","v":0}]
[null,"Многоборье кинологов","109",0,0,null,null,null,null,null,null,null,null,null,null,null,null,null,null,null,null,null,null,null,null,null,null,null,null,null,null,null,0,{"$f":"Раздел2!C117","v":0}]
[null,"Многоборье спасателей МЧС России","110",0,0,null,null,null,null,null,null,null,null,null,null,null,null,null,null,null,null,null,null,null,null,null,null,null,null,null,null,null,0,{"$f":"Раздел2!C118","v":0}]
[null,"Морское многоборье","111",0,0,null,null,null,null,null,null,null,null,null,null,null,null,null,null,null,null,null,null,null,null,null,null,null,null,null,null,null,0,{"$f":"Раздел2!C119","v":0}]
[null,"Мотоциклетный спорт","112",0,0,null,null,null,null,null,null,null,null,null,null,null,null,null,null,null,null,null,null,null,null,null,null,null,null,null,null,null,0,{"$f":"Раздел2!C120","v":0}]
[null,"Настольный теннис","113",0,0,null,null,null,null,null,null,null,null,null,null,null,null,null,null,null,null,null,null,null,null,null,null,null,null,null,null,null,0,{"$f":"Раздел2!C121","v":0}]
[null,"Падел","114",0,0,null,null,null,null,null,null,null,null,null,null,null,null,null,null,null,null,null,null,null,null,null,null,null,null,null,null,null,0,{"$f":"Раздел2!C122","v":0}]
[null,"Парашютный спорт","115",0,0,null,null,null,null,null,null,null,null,null,null,null,null,null,null,null,null,null,null,null,null,null,null,null,null,null,null,null,0,{"$f":"Раздел2!C123","v":0}]
[null,"Парусный спорт","116",0,0,null,null,null,null,null,null,null,null,null,null,null,null,null,null,null,null,null,null,null,null,null,null,null,null,null,null,null,0,{"$f":"Раздел2!C124","v":0}]
[null,"Пауэрлифтинг","117",4,2,4,2,2,null,2,null,null,null,2,null,null,2,null,2,null,null,null,null,null,null,1,1,null,null,null,null,null,2,{"$f":"Раздел2!C125","v":1}]
[null,"Перетягивание каната","118",0,0,null,null,null,null,null,null,null,null,null,null,null,null,null,null,null,null,null,null,null,null,null,null,null,null,null,null,null,0,{"$f":"Раздел2!C126","v":0}]
[null,"Плавание - всего","119",0,0,{"$f":"SUM(F129:F130)","v":0},{"$f":"SUM(G129:G130)","v":0},0,0,0,0,0,0,0,0,0,0,0,0,0,0,0,0,0,0,0,0,0,0,0,0,null,0,{"$f":"Раздел2!C127","v":0}]
[null,"в том числе:\nПлавание ","120",0,0,null,null,null,null,null,null,null,null,null,null,null,null,null,null,null,null,null,null,null,null,null,null,null,null,null,null,null,0,{"$f":"Раздел2!C128","v":0}]
[null,"Открытая вода","121",0,0,null,null,null,null,null,null,null,null,null,null,null,null,null,null,null,null,null,null,null,null,null,null,null,null,null,null,null,0,{"$f":"Раздел2!C129","v":0}]
[null,"Планерный спорт","122",0,0,null,null,null,null,null,null,null,null,null,null,null,null,null,null,null,null,null,null,null,null,null,null,null,null,null,null,null,0,{"$f":"Раздел2!C130","v":0}]
[null,"Подводный спорт","123",0,0,null,null,null,null,null,null,null,null,null,null,null,null,null,null,null,null,null,null,null,null,null,null,null,null,null,null,null,0,{"$f":"Раздел2!C131","v":0}]
[null,"Пожарно-спасательный спорт","124",0,0,null,null,null,null,null,null,null,null,null,null,null,null,null,null,null,null,null,null,null,null,null,null,null,null,null,null,null,0,{"$f":"Раздел2!C132","v":0}]
[null,"Полиатлон","125",0,0,null,null,null,null,null,null,null,null,null,null,null,null,null,null,null,null,null,null,null,null,null,null,null,null,null,null,null,0,{"$f":"Раздел2!C133","v":0}]
[null,"Практическая стрельба","126",0,0,null,null,null,null,null,null,null,null,null,null,null,null,null,null,null,null,null,null,null,null,null,null,null,null,null,null,null,0,{"$f":"Раздел2!C134","v":0}]
[null,"Прыжки в воду - всего","127",0,0,{"$f":"SUM(F137:F138)","v":0},{"$f":"SUM(G137:G138)","v":0},0,0,0,0,0,0,0,0,0,0,0,0,0,0,0,0,0,0,0,0,0,0,0,0,null,0,{"$f":"Раздел2!C135","v":0}]
[null,"в том числе:\nПрыжки в воду","128",0,0,null,null,null,null,null,null,null,null,null,null,null,null,null,null,null,null,null,null,null,null,null,null,null,null,null,null,null,0,{"$f":"Раздел2!C136","v":0}]
[null,"Прыжки в открытый водоем","129",0,0,null,null,null,null,null,null,null,null,null,null,null,null,null,null,null,null,null,null,null,null,null,null,null,null,null,null,null,0,{"$f":"Раздел2!C137","v":0}]
[null,"Прыжки на батуте - всего","130",{"$f":"SUM(F139,AD139)","v":0},{"$f":"SUM(G139,AE139)","v":0},{"$f":"SUM(F140:F143)","v":0},{"$f":"SUM(G140:G143)","v":0},0,0,0,0,0,0,0,0,0,0,0,0,0,0,0,0,0,0,0,0,0,0,0,0,null,{"$f":"F139-G139","v":0},{"$f":"Раздел2!C138","v":0}]
[null,"в том числе:\nАкробатическая дорожка","131",0,0,null,null,null,null,null,null,null,null,null,null,null,null,null,null,null,null,null,null,null,null,null,null,null,null,null,null,null,0,{"$f":"Раздел2!C139","v":0}]
[null,"Двойной минитрамп","132",0,0,null,null,null,null,null,null,null,null,null,null,null,null,null,null,null,null,null,null,null,null,null,null,null,null,null,null,null,0,{"$f":"Раздел2!C140","v":0}]
[null,"Индивидуальные прыжки","133",0,0,null,null,null,null,null,null,null,null,null,null,null,null,null,null,null,null,null,null,null,null,null,null,null,null,null,null,null,0,{"$f":"Раздел2!C141","v":0}]
[null,"Синхронные прыжки","134",0,0,null,null,null,null,null,null,null,null,null,null,null,null,null,null,null,null,null,null,null,null,null,null,null,null,null,null,null,0,{"$f":"Раздел2!C142","v":0}]
[null,"Прыжки на лыжах с трамплина","135",0,0,null,null,null,null,null,null,null,null,null,null,null,null,null,null,null,null,null,null,null,null,null,null,null,null,null,null,null,0,{"$f":"Раздел2!C143","v":0}]
[null,"Пулевая стрельба - всего","136",0,0,{"$f":"SUM(F146:F150)","v":0},{"$f":"SUM(G146:G150)","v":0},0,0,0,0,0,0,0,0,0,0,0,0,0,0,0,0,0,0,0,0,0,0,0,0,null,0,{"$f":"Раздел2!C144","v":0}]
[null,"в том числе:\nПневматическая винтовка","137",0,0,null,null,null,null,null,null,null,null,null,null,null,null,null,null,null,null,null,null,null,null,null,null,null,null,null,null,null,0,{"$f":"Раздел2!C145","v":0}]
[null,"Пневматический пистолет","138",0,0,null,null,null,null,null,null,null,null,null,null,null,null,null,null,null,null,null,null,null,null,null,null,null,null,null,null,null,0,{"$f":"Раздел2!C146","v":0}]
[null,"Малокалиберная винтовка","139",0,0,null,null,null,null,null,null,null,null,null,null,null,null,null,null,null,null,null,null,null,null,null,null,null,null,null,null,null,0,{"$f":"Раздел2!C147","v":0}]
[null,"Малокалиберный пистолет","140",0,0,null,null,null,null,null,null,null,null,null,null,null,null,null,null,null,null,null,null,null,null,null,null,null,null,null,null,null,0,{"$f":"Раздел2!C148","v":0}]
[null,"Движущаяся мишень","141",0,0,null,null,null,null,null,null,null,null,null,null,null,null,null,null,null,null,null,null,null,null,null,null,null,null,null,null,null,0,{"$f":"Раздел2!C149","v":0}]
[null,"Пэйнтбол","142",0,0,null,null,null,null,null,null,null,null,null,null,null,null,null,null,null,null,null,null,null,null,null,null,null,null,null,null,null,0,{"$f":"Раздел2!C150","v":0}]
[null,"Радиоспорт","143",0,0,null,null,null,null,null,null,null,null,null,null,null,null,null,null,null,null,null,null,null,null,null,null,null,null,null,null,null,0,{"$f":"Раздел2!C151","v":0}]
[null,"Рафтинг","144",0,0,null,null,null,null,null,null,null,null,null,null,null,null,null,null,null,null,null,null,null,null,null,null,null,null,null,null,null,0,{"$f":"Раздел2!C152","v":0}]
[null,"Регби - всего","145",0,0,{"$f":"SUM(F155:F159)","v":0},{"$f":"SUM(G155:G159)","v":0},0,0,0,0,0,0,0,0,0,0,0,0,0,0,0,0,0,0,0,0,0,0,0,0,null,0,{"$f":"Раздел2!C153","v":0}]
[null,"в том числе:\nРегби","146",0,0,null,null,null,null,null,null,null,null,null,null,null,null,null,null,null,null,null,null,null,null,null,null,null,null,null,null,null,0,{"$f":"Раздел2!C154","v":0}]
[null,"Регби 7 (муж.)","147",0,0,null,null,null,null,null,null,null,null,null,null,null,null,null,null,null,null,null,null,null,null,null,null,null,null,null,null,null,0,{"$f":"Раздел2!C155","v":0}]
[null,"Регби 7 (жен.)","148",0,0,null,null,null,null,null,null,null,null,null,null,null,null,null,null,null,null,null,null,null,null,null,null,null,null,null,null,null,0,{"$f":"Раздел2!C156","v":0}]
[null,"Регби - пляжное","149",0,0,null,null,null,null,null,null,null,null,null,null,null,null,null,null,null,null,null,null,null,null,null,null,null,null,null,null,null,0,{"$f":"Раздел2!C157","v":0}]
[null,"Регби на снегу","150",0,0,null,null,null,null,null,null,null,null,null,null,null,null,null,null,null,null,null,null,null,null,null,null,null,null,null,null,null,0,{"$f":"Раздел2!C158","v":0}]
[null,"Регбол","151",0,0,null,null,null,null,null,null,null,null,null,null,null,null,null,null,null,null,null,null,null,null,null,null,null,null,null,null,null,0,{"$f":"Раздел2!C159","v":0}]
[null,"Роллер спорт","152",0,0,null,null,null,null,null,null,null,null,null,null,null,null,null,null,null,null,null,null,null,null,null,null,null,null,null,null,null,0,{"$f":"Раздел2!C160","v":0}]
[null,"Роуп скиппинг (спортивная скакалка)","153",0,0,null,null,null,null,null,null,null,null,null,null,null,null,null,null,null,null,null,null,null,null,null,null,null,null,null,null,null,0,{"$f":"Раздел2!C161","v":0}]
[null,"Рукопашный бой","154",1,1,1,1,1,null,1,null,null,null,1,null,null,null,null,null,null,null,null,null,null,null,null,1,null,null,null,null,null,0,{"$f":"Раздел2!C162","v":1}]
[null,"Рыболовный спорт","155",0,0,null,null,null,null,null,null,null,null,null,null,null,null,null,null,null,null,null,null,null,null,null,null,null,null,null,null,null,0,{"$f":"Раздел2!C163","v":0}]
[null,"Сават","156",0,0,null,null,null,null,null,null,null,null,null,null,null,null,null,null,null,null,null,null,null,null,null,null,null,null,null,null,null,0,{"$f":"Раздел2!C164","v":0}]
[null,"Самбо","157",0,0,null,null,null,null,null,null,null,null,null,null,null,null,null,null,null,null,null,null,null,null,null,null,null,null,null,null,null,0,{"$f":"Раздел2!C165","v":0}]
[null,"Самолетный спорт","158",0,0,null,null,null,null,null,null,null,null,null,null,null,null,null,null,null,null,null,null,null,null,null,null,null,null,null,null,null,0,{"$f":"Раздел2!C166","v":0}]
[null,"Санный спорт","159",0,0,null,null,null,null,null,null,null,null,null,null,null,null,null,null,null,null,null,null,null,null,null,null,null,null,null,null,null,0,{"$f":"Раздел2!C167","v":0}]
[null,"Северное многоборье","160",0,0,null,null,null,null,null,null,null,null,null,null,null,null,null,null,null,null,null,null,null,null,null,null,null,null,null,null,null,0,{"$f":"Раздел2!C168","v":0}]
[null,"Серфинг","161",0,0,null,null,null,null,null,null,null,null,null,null,null,null,null,null,null,null,null,null,null,null,null,null,null,null,null,null,null,0,{"$f":"Раздел2!C169","v":0}]
[null,"Силовой экстрим","162",0,0,null,null,null,null,null,null,null,null,null,null,null,null,null,null,null,null,null,null,null,null,null,null,null,null,null,null,null,0,{"$f":"Раздел2!C170","v":0}]
[null,"Синхронное плавание","163",0,0,null,null,null,null,null,null,null,null,null,null,null,null,null,null,null,null,null,null,null,null,null,null,null,null,null,null,null,0,{"$f":"Раздел2!C171","v":0}]
[null,"Скалолазание","164",0,0,null,null,null,null,null,null,null,null,null,null,null,null,null,null,null,null,null,null,null,null,null,null,null,null,null,null,null,0,{"$f":"Раздел2!C172","v":0}]
[null,"Сквош","165",0,0,null,null,null,null,null,null,null,null,null,null,null,null,null,null,null,null,null,null,null,null,null,null,null,null,null,null,null,0,{"$f":"Раздел2!C173","v":0}]
[null,"Скейтбординг","166",0,0,null,null,null,null,null,null,null,null,null,null,null,null,null,null,null,null,null,null,null,null,null,null,null,null,null,null,null,0,{"$f":"Раздел2!C174","v":0}]
[null,"Служебно-боевая стрельба ","167",0,0,null,null,null,null,null,null,null,null,null,null,null,null,null,null,null,null,null,null,null,null,null,null,null,null,null,null,null,0,{"$f":"Раздел2!C175","v":0}]
[null,"Служебно-прикладной спорт","168",0,0,null,null,null,null,null,null,null,null,null,null,null,null,null,null,null,null,null,null,null,null,null,null,null,null,null,null,null,0,{"$f":"Раздел2!C176","v":0}]
[null,"Служебно-прикладной спорт ФСО России","169",0,0,null,null,null,null,null,null,null,null,null,null,null,null,null,null,null,null,null,null,null,null,null,null,null,null,null,null,null,0,{"$f":"Раздел2!C177","v":0}]
[null,"Служебно-прикладной спорт ФТС России","170",0,0,null,null,null,null,null,null,null,null,null,null,null,null,null,null,null,null,null,null,null,null,null,null,null,null,null,null,null,0,{"$f":"Раздел2!C178","v":0}]
[null,"Служебное двоеборье","171",0,0,null,null,null,null,null,null,null,null,null,null,null,null,null,null,null,null,null,null,null,null,null,null,null,null,null,null,null,0,{"$f":"Раздел2!C179","v":0}]
[null,"Служебное единоборство","172",0,0,null,null,null,null,null,null,null,null,null,null,null,null,null,null,null,null,null,null,null,null,null,null,null,null,null,null,null,0,{"$f":"Раздел2!C180","v":0}]
[null,"Служебное многоборье","173",0,0,null,null,null,null,null,null,null,null,null,null,null,null,null,null,null,null,null,null,null,null,null,null,null,null,null,null,null,0,{"$f":"Раздел2!C181","v":0}]
[null,"Служебный биатлон","174",0,0,null,null,null,null,null,null,null,null,null,null,null,null,null,null,null,null,null,null,null,null,null,null,null,null,null,null,null,0,{"$f":"Раздел2!C182","v":0}]
[null,"Спасательный спорт","175",0,0,null,null,null,null,null,null,null,null,null,null,null,null,null,null,null,null,null,null,null,null,null,null,null,null,null,null,null,0,{"$f":"Раздел2!C183","v":0}]
[null,"Стрельба из боевого ручного стрелкового оружия","176",0,0,null,null,null,null,null,null,null,null,null,null,null,null,null,null,null,null,null,null,null,null,null,null,null,null,null,null,null,0,{"$f":"Раздел2!C184","v":0}]
[null,"Стрельба из штатного или табельного оружия","177",0,0,null,null,null,null,null,null,null,null,null,null,null,null,null,null,null,null,null,null,null,null,null,null,null,null,null,null,null,0,{"$f":"Раздел2!C185","v":0}]
[null,"Смешанное боевое единоборство (ММА)","178",0,0,null,null,null,null,null,null,null,null,null,null,null,null,null,null,null,null,null,null,null,null,null,null,null,null,null,null,null,0,{"$f":"Раздел2!C186","v":0}]
[null,"Сноуборд","179",0,0,null,null,null,null,null,null,null,null,null,null,null,null,null,null,null,null,null,null,null,null,null,null,null,null,null,null,null,0,{"$f":"Раздел2!C187","v":0}]
[null,"Современное пятиборье","180",0,0,null,null,null,null,null,null,null,null,null,null,null,null,null,null,null,null,null,null,null,null,null,null,null,null,null,null,null,0,{"$f":"Раздел2!C188","v":0}]
[null,"Софтбол","181",0,0,null,null,null,null,null,null,null,null,null,null,null,null,null,null,null,null,null,null,null,null,null,null,null,null,null,null,null,0,{"$f":"Раздел2!C189","v":0}]
[null,"Спорт сверхлегкой авиации","182",0,0,null,null,null,null,null,null,null,null,null,null,null,null,null,null,null,null,null,null,null,null,null,null,null,null,null,null,null,0,{"$f":"Раздел2!C190","v":0}]
[null,"Спортивная акробатика","183",0,0,null,null,null,null,null,null,null,null,null,null,null,null,null,null,null,null,null,null,null,null,null,null,null,null,null,null,null,0,{"$f":"Раздел2!C191","v":0}]
[null,"Спортивная аэробика","184",0,0,null,null,null,null,null,null,null,null,null,null,null,null,null,null,null,null,null,null,null,null,null,null,null,null,null,null,null,0,{"$f":"Раздел2!C192","v":0}]
[null,"Спортивная борьба - всего","185",0,0,{"$f":"SUM(F195:F199)","v":0},{"$f":"SUM(G195:G199)","v":0},0,0,0,0,0,0,0,0,0,0,0,0,0,0,0,0,0,0,0,0,0,0,0,0,null,0,{"$f":"Раздел2!C193","v":0}]
[null,"в том числе:\nВольная борьба","186",0,0,null,null,null,null,null,null,null,null,null,null,null,null,null,null,null,null,null,null,null,null,null,null,null,null,null,null,null,0,{"$f":"Раздел2!C194","v":0}]
[null,"Греко-римская борьба","187",0,0,null,null,null,null,null,null,null,null,null,null,null,null,null,null,null,null,null,null,null,null,null,null,null,null,null,null,null,0,{"$f":"Раздел2!C195","v":0}]
[null,"Грэпплинг","188",0,0,null,null,null,null,null,null,null,null,null,null,null,null,null,null,null,null,null,null,null,null,null,null,null,null,null,null,null,0,{"$f":"Раздел2!C196","v":0}]
[null,"Грэпплинг-ги","189",0,0,null,null,null,null,null,null,null,null,null,null,null,null,null,null,null,null,null,null,null,null,null,null,null,null,null,null,null,0,{"$f":"Раздел2!C197","v":0}]
[null,"Панкратион","190",0,0,null,null,null,null,null,null,null,null,null,null,null,null,null,null,null,null,null,null,null,null,null,null,null,null,null,null,null,0,{"$f":"Раздел2!C198","v":0}]
[null,"Спортивная гимнастика","191",0,0,null,null,null,null,null,null,null,null,null,null,null,null,null,null,null,null,null,null,null,null,null,null,null,null,null,null,null,0,{"$f":"Раздел2!C199","v":0}]
[null,"Спортивная йога","192",0,0,null,null,null,null,null,null,null,null,null,null,null,null,null,null,null,null,null,null,null,null,null,null,null,null,null,null,null,0,{"$f":"Раздел2!C200","v":0}]
[null,"Спортивно-прикладное собаководство","193",0,0,null,null,null,null,null,null,null,null,null,null,null,null,null,null,null,null,null,null,null,null,null,null,null,null,null,null,null,0,{"$f":"Раздел2!C201","v":0}]
[null,"Спортивное метание ножа","194",{"$f":"SUM(F203,AD203)","v":0},{"$f":"SUM(G203,AE203)","v":0},null,null,null,null,null,null,null,null,null,null,null,null,null,null,null,null,null,null,null,null,null,null,null,null,null,null,null,{"$f":"F203-G203","v":0},{"$f":"Раздел2!C202","v":0}]
[null,"Спортивное ориентирование","195",0,0,null,null,null,null,null,null,null,null,null,null,null,null,null,null,null,null,null,null,null,null,null,null,null,null,null,null,null,0,{"$f":"Раздел2!C203","v":0}]
[null,"Спортивный бридж","196",0,0,null,null,null,null,null,null,null,null,null,null,null,null,null,null,null,null,null,null,null,null,null,null,null,null,null,null,null,0,{"$f":"Раздел2!C204","v":0}]
[null,"Спортивный туризм","197",0,0,null,null,null,null,null,null,null,null,null,null,null,null,null,null,null,null,null,null,null,null,null,null,null,null,null,null,null,0,{"$f":"Раздел2!C205","v":0}]
[null,"Стендовая стрельба - всего","198",0,0,{"$f":"SUM(F208:F211)","v":0},{"$f":"SUM(G208:G211)","v":0},0,0,0,0,0,0,0,0,0,0,0,0,0,0,0,0,0,0,0,0,0,0,0,0,null,0,{"$f":"Раздел2!C206","v":0}]
[null,"в том числе:\nТрап","199",0,0,null,null,null,null,null,null,null,null,null,null,null,null,null,null,null,null,null,null,null,null,null,null,null,null,null,null,null,0,{"$f":"Раздел2!C207","v":0}]
[null,"Скит","200",0,0,null,null,null,null,null,null,null,null,null,null,null,null,null,null,null,null,null,null,null,null,null,null,null,null,null,null,null,0,{"$f":"Раздел2!C208","v":0}]
[null,"Дубль-трап","201",0,0,null,null,null,null,null,null,null,null,null,null,null,null,null,null,null,null,null,null,null,null,null,null,null,null,null,null,null,0,{"$f":"Раздел2!C209","v":0}]
[null,"Спортинг","202",0,0,null,null,null,null,null,null,null,null,null,null,null,null,null,null,null,null,null,null,null,null,null,null,null,null,null,null,null,0,{"$f":"Раздел2!C210","v":0}]
[null,"Страйкбол","203",0,0,null,null,null,null,null,null,null,null,null,null,null,null,null,null,null,null,null,null,null,null,null,null,null,null,null,null,null,0,{"$f":"Раздел2!C211","v":0}]
[null,"Стрельба из арбалета","204",0,0,null,null,null,null,null,null,null,null,null,null,null,null,null,null,null,null,null,null,null,null,null,null,null,null,null,null,null,0,{"$f":"Раздел2!C212","v":0}]
[null,"Стрельба из лука - всего","205",0,0,{"$f":"SUM(F215:F217)","v":0},{"$f":"SUM(G215:G217)","v":0},0,0,0,0,0,0,0,0,0,0,0,0,0,0,0,0,0,0,0,0,0,0,0,0,null,0,{"$f":"Раздел2!C213","v":0}]
[null,"в том числе:\nКлассический лук","206",0,0,null,null,null,null,null,null,null,null,null,null,null,null,null,null,null,null,null,null,null,null,null,null,null,null,null,null,null,0,{"$f":"Раздел2!C214","v":0}]
[null,"   Блочный лук","207",0,0,null,null,null,null,null,null,null,null,null,null,null,null,null,null,null,null,null,null,null,null,null,null,null,null,null,null,null,0,{"$f":"Раздел2!C215","v":0}]
[null,"   Ачери ","208",0,0,null,null,null,null,null,null,null,null,null,null,null,null,null,null,null,null,null,null,null,null,null,null,null,null,null,null,null,0,{"$f":"Раздел2!C216","v":0}]
[null,"Судомодельный спорт","209",0,0,null,null,null,null,null,null,null,null,null,null,null,null,null,null,null,null,null,null,null,null,null,null,null,null,null,null,null,0,{"$f":"Раздел2!C217","v":0}]
[null,"Сумо","210",0,0,null,null,null,null,null,null,null,null,null,null,null,null,null,null,null,null,null,null,null,null,null,null,null,null,null,null,null,0,{"$f":"Раздел2!C218","v":0}]
[null,"Таврели","211",0,0,null,null,null,null,null,null,null,null,null,null,null,null,null,null,null,null,null,null,null,null,null,null,null,null,null,null,null,0,{"$f":"Раздел2!C219","v":0}]
[null,"Тайский бокс","212",0,0,null,null,null,null,null,null,null,null,null,null,null,null,null,null,null,null,null,null,null,null,null,null,null,null,null,null,null,0,{"$f":"Раздел2!C220","v":0}]
[null,"Танцевальный спорт","213",0,0,null,null,null,null,null,null,null,null,null,null,null,null,null,null,null,null,null,null,null,null,null,null,null,null,null,null,null,0,{"$f":"Раздел2!C221","v":0}]
[null,"Теннис","214",0,0,null,null,null,null,null,null,null,null,null,null,null,null,null,null,null,null,null,null,null,null,null,null,null,null,null,null,null,0,{"$f":"Раздел2!C222","v":0}]
[null,"Триатлон","215",0,0,null,null,null,null,null,null,null,null,null,null,null,null,null,null,null,null,null,null,null,null,null,null,null,null,null,null,null,0,{"$f":"Раздел2!C223","v":0}]
[null,"Тхэквондо (ВТФ)","216",0,0,null,null,null,null,null,null,null,null,null,null,null,null,null,null,null,null,null,null,null,null,null,null,null,null,null,null,null,0,{"$f":"Раздел2!C224","v":0}]
[null,"Тхэквондо ГТФ","217",0,0,null,null,null,null,null,null,null,null,null,null,null,null,null,null,null,null,null,null,null,null,null,null,null,null,null,null,null,0,{"$f":"Раздел2!C225","v":0}]
[null,"Тхэквондо ИТФ","218",0,0,null,null,null,null,null,null,null,null,null,null,null,null,null,null,null,null,null,null,null,null,null,null,null,null,null,null,null,0,{"$f":"Раздел2!C226","v":0}]
[null,"Тхэквондо МФТ","219",0,0,null,null,null,null,null,null,null,null,null,null,null,null,null,null,null,null,null,null,null,null,null,null,null,null,null,null,null,0,{"$f":"Раздел2!C227","v":0}]
[null,"Тяжелая атлетика","220",0,0,null,null,null,null,null,null,null,null,null,null,null,null,null,null,null,null,null,null,null,null,null,null,null,null,null,null,null,0,{"$f":"Раздел2!C228","v":0}]
[null,"Универсальный бой","221",0,0,null,null,null,null,null,null,null,null,null,null,null,null,null,null,null,null,null,null,null,null,null,null,null,null,null,null,null,0,{"$f":"Раздел2!C229","v":0}]
[null,"Ушу","222",0,0,null,null,null,null,null,null,null,null,null,null,null,null,null,null,null,null,null,null,null,null,null,null,null,null,null,null,null,0,{"$f":"Раздел2!C230","v":0}]
[null,"Фехтование - всего","223",0,0,{"$f":"SUM(F233:F236)","v":0},{"$f":"SUM(G233:G236)","v":0},0,0,0,0,0,0,0,0,0,0,0,0,0,0,0,0,0,0,0,0,0,0,0,0,null,0,{"$f":"Раздел2!C231","v":0}]
[null,"в том числе:\nРапира","224",0,0,null,null,null,null,null,null,null,null,null,null,null,null,null,null,null,null,null,null,null,null,null,null,null,null,null,null,null,0,{"$f":"Раздел2!C232","v":0}]
[null,"Сабля","225",0,0,null,null,null,null,null,null,null,null,null,null,null,null,null,null,null,null,null,null,null,null,null,null,null,null,null,null,null,0,{"$f":"Раздел2!C233","v":0}]
[null,"Шпага","226",0,0,null,null,null,null,null,null,null,null,null,null,null,null,null,null,null,null,null,null,null,null,null,null,null,null,null,null,null,0,{"$f":"Раздел2!C234","v":0}]
[null,"Арт-фехтование","227",0,0,null,null,null,null,null,null,null,null,null,null,null,null,null,null,null,null,null,null,null,null,null,null,null,null,null,null,null,0,{"$f":"Раздел2!C235","v":0}]
[null,"Фигурное катание на коньках","228",0,0,null,null,null,null,null,null,null,null,null,null,null,null,null,null,null,null,null,null,null,null,null,null,null,null,null,null,null,0,{"$f":"Раздел2!C236","v":0}]
[null,"Фитнес-аэробика","229",1,1,1,1,1,null,1,null,null,null,null,1,null,null,null,null,null,null,null,null,null,null,1,null,null,null,null,null,null,0,{"$f":"Раздел2!C237","v":1}]
[null,"Флаинг диск","230",0,0,null,null,null,null,null,null,null,null,null,null,null,null,null,null,null,null,null,null,null,null,null,null,null,null,null,null,null,0,{"$f":"Раздел2!C238","v":0}]
[null,"Флорбол","231",0,0,null,null,null,null,null,null,null,null,null,null,null,null,null,null,null,null,null,null,null,null,null,null,null,null,null,null,null,0,{"$f":"Раздел2!C239","v":0}]
[null,"Фристайл - всего","232",0,0,{"$f":"SUM(F242:F247)","v":0},{"$f":"SUM(G242:G247)","v":0},0,0,0,0,0,0,0,0,0,0,0,0,0,0,0,0,0,0,0,0,0,0,0,0,null,0,{"$f":"Раздел2!C240","v":0}]
[null,"в том числе:\nАкробатика","233",0,0,null,null,null,null,null,null,null,null,null,null,null,null,null,null,null,null,null,null,null,null,null,null,null,null,null,null,null,0,{"$f":"Раздел2!C241","v":0}]
[null,"Биг-эйр","234",0,0,null,null,null,null,null,null,null,null,null,null,null,null,null,null,null,null,null,null,null,null,null,null,null,null,null,null,null,0,{"$f":"Раздел2!C242","v":0}]
[null,"Могул","235",0,0,null,null,null,null,null,null,null,null,null,null,null,null,null,null,null,null,null,null,null,null,null,null,null,null,null,null,null,0,{"$f":"Раздел2!C243","v":0}]
[null,"Ски-кросс","236",0,0,null,null,null,null,null,null,null,null,null,null,null,null,null,null,null,null,null,null,null,null,null,null,null,null,null,null,null,0,{"$f":"Раздел2!C244","v":0}]
[null,"Хаф-пайп","237",0,0,null,null,null,null,null,null,null,null,null,null,null,null,null,null,null,null,null,null,null,null,null,null,null,null,null,null,null,0,{"$f":"Раздел2!C245","v":0}]
[null,"Слоуп-стайл","238",0,0,null,null,null,null,null,null,null,null,null,null,null,null,null,null,null,null,null,null,null,null,null,null,null,null,null,null,null,0,{"$f":"Раздел2!C246","v":0}]
[null,"Функциональное многоборье","239",0,0,null,null,null,null,null,null,null,null,null,null,null,null,null,null,null,null,null,null,null,null,null,null,null,null,null,null,null,0,{"$f":"Раздел2!C247","v":0}]
[null,"Футбол - всего","240",3,3,{"$f":"SUM(F250:F255)","v":3},{"$f":"SUM(G250:G255)","v":3},2,1,2,1,0,1,2,0,1,0,0,0,0,0,0,0,0,0,1,2,0,0,0,0,null,0,{"$f":"Раздел2!C248","v":1}]
[null,"в том числе:\nФутбол (муж.)","241",0,0,null,null,null,null,null,null,null,null,null,null,null,null,null,null,null,null,null,null,null,null,null,null,null,null,null,null,null,0,{"$f":"Раздел2!C249","v":0}]
[null,"Футбол (жен.)","242",0,0,null,null,null,null,null,null,null,null,null,null,null,null,null,null,null,null,null,null,null,null,null,null,null,null,null,null,null,0,{"$f":"Раздел2!C250","v":0}]
[null,"Мини-футбол (футзал)","243",3,3,3,3,2,1,2,1,null,1,2,null,1,null,null,null,null,null,null,null,null,null,1,2,null,null,null,null,null,0,{"$f":"Раздел2!C251","v":1}]
[null,"Пляжный футбол","244",0,0,null,null,null,null,null,null,null,null,null,null,null,null,null,null,null,null,null,null,null,null,null,null,null,null,null,null,null,0,{"$f":"Раздел2!C252","v":0}]
[null,"Футбол 6х6, 7х7, 8х8","245",0,0,null,null,null,null,null,null,null,null,null,null,null,null,null,null,null,null,null,null,null,null,null,null,null,null,null,null,null,0,{"$f":"Раздел2!C253","v":0}]
[null,"Интерактивный футбол","246",0,0,null,null,null,null,null,null,null,null,null,null,null,null,null,null,null,null,null,null,null,null,null,null,null,null,null,null,null,0,{"$f":"Раздел2!C254","v":0}]
[null,"Футгольф","247",0,0,null,null,null,null,null,null,null,null,null,null,null,null,null,null,null,null,null,null,null,null,null,null,null,null,null,null,null,0,{"$f":"Раздел2!C255","v":0}]
[null,"Хапкидо","248",0,0,null,null,null,null,null,null,null,null,null,null,null,null,null,null,null,null,null,null,null,null,null,null,null,null,null,null,null,0,{"$f":"Раздел2!C256","v":0}]
[null,"Хапсагай","249",0,0,null,null,null,null,null,null,null,null,null,null,null,null,null,null,null,null,null,null,null,null,null,null,null,null,null,null,null,0,{"$f":"Раздел2!C257","v":0}]
[null,"Хоккей - всего","250",0,0,{"$f":"SUM(F260:F261)","v":0},{"$f":"SUM(G260:G261)","v":0},0,0,0,0,0,0,0,0,0,0,0,0,0,0,0,0,0,0,0,0,0,0,0,0,null,0,{"$f":"Раздел2!C258","v":0}]
[null,"в том числе:\nХоккей (муж.)","251",0,0,null,null,null,null,null,null,null,null,null,null,null,null,null,null,null,null,null,null,null,null,null,null,null,null,null,null,null,0,{"$f":"Раздел2!C259","v":0}]
[null,"Хоккей (жен.)","252",0,0,null,null,null,null,null,null,null,null,null,null,null,null,null,null,null,null,null,null,null,null,null,null,null,null,null,null,null,0,{"$f":"Раздел2!C260","v":0}]
[null,"Хоккей на траве - всего","253",0,0,{"$f":"SUM(F263:F265)","v":0},{"$f":"SUM(G263:G265)","v":0},0,0,0,0,0,0,0,0,0,0,0,0,0,0,0,0,0,0,0,0,0,0,0,0,null,0,{"$f":"Раздел2!C261","v":0}]
[null,"в том числе:\nХоккей на траве (муж.)","254",0,0,null,null,null,null,null,null,null,null,null,null,null,null,null,null,null,null,null,null,null,null,null,null,null,null,null,null,null,0,{"$f":"Раздел2!C262","v":0}]
[null,"Хоккей на траве (жен.)","255",0,0,null,null,null,null,null,null,null,null,null,null,null,null,null,null,null,null,null,null,null,null,null,null,null,null,null,null,null,0,{"$f":"Раздел2!C263","v":0}]
[null,"Индорхоккей","256",0,0,null,null,null,null,null,null,null,null,null,null,null,null,null,null,null,null,null,null,null,null,null,null,null,null,null,null,null,0,{"$f":"Раздел2!C264","v":0}]
[null,"Хоккей с мячом","257",0,0,null,null,null,null,null,null,null,null,null,null,null,null,null,null,null,null,null,null,null,null,null,null,null,null,null,null,null,0,{"$f":"Раздел2!C265","v":0}]
[null,"Художественная гимнастика","258",{"$f":"SUM(F267,AD267)","v":0},{"$f":"SUM(G267,AE267)","v":0},null,null,null,null,null,null,null,null,null,null,null,null,null,null,null,null,null,null,null,null,null,null,null,null,null,null,null,{"$f":"F267-G267","v":0},{"$f":"Раздел2!C266","v":0}]
[null,"Хуреш","259",0,0,null,null,null,null,null,null,null,null,null,null,null,null,null,null,null,null,null,null,null,null,null,null,null,null,null,null,null,0,{"$f":"Раздел2!C267","v":0}]
[null,"Чир спорт","260",0,0,null,null,null,null,null,null,null,null,null,null,null,null,null,null,null,null,null,null,null,null,null,null,null,null,null,null,null,0,{"$f":"Раздел2!C268","v":0}]
[null,"Шахматы","261",0,0,null,null,null,null,null,null,null,null,null,null,null,null,null,null,null,null,null,null,null,null,null,null,null,null,null,null,null,0,{"$f":"Раздел2!C269","v":0}]
[null,"Шашки","262",0,0,null,null,null,null,null,null,null,null,null,null,null,null,null,null,null,null,null,null,null,null,null,null,null,null,null,null,null,0,{"$f":"Раздел2!C270","v":0}]
[null,"Шодсанлат","263",0,0,null,null,null,null,null,null,null,null,null,null,null,null,null,null,null,null,null,null,null,null,null,null,null,null,null,null,null,0,{"$f":"Раздел2!C271","v":0}]
[null,"Эстетическая гимнастика","264",0,0,null,null,null,null,null,null,null,null,null,null,null,null,null,null,null,null,null,null,null,null,null,null,null,null,null,null,null,0,{"$f":"Раздел2!C272","v":0}]
[null,"Якутские национальные прыжки","265",0,0,null,null,null,null,null,null,null,null,null,null,null,null,null,null,null,null,null,null,null,null,null,null,null,null,null,null,null,0,{"$f":"Раздел2!C273","v":0}]
[null,"Тренеры ЦСП","266",0,0,null,null,null,null,null,null,null,null,null,null,null,null,null,null,null,null,null,null,null,null,null,null,null,null,null,null,null,0]
[null,"ИТОГО","267",{"$f":"SUM(F276,AD276)","v":16},9,{"$f":"SUM(F10:F22,F26:F29,F32:F37,F48:F53,F58:F60,F42:F45,F64:F74,F79:F88,F92:F98,F101:F106,F114:F119,F120:F128,F131:F136,F139,F144:F145,F151:F154,F160:F166,F167:F181,F182:F194,F200:F207,F212:F214,F218:F222,F223:F232,F237:F241,F248:F249,F256:F259,F262,F266:F275)","v":16},{"$f":"SUM(G10:G22,G26:G29,G32:G37,G48:G53,G58:G60,G42:G45,G64:G74,G79:G88,G92:G98,G101:G106,G114:G119,G120:G128,G131:G136,G139,G144:G145,G151:G154,G160:G166,G167:G181,G182:G194,G200:G207,G212:G214,G218:G222,G223:G232,G237:G241,G248:G249,G256:G259,G262,G266:G275)","v":9},8,1,8,1,0,2,5,1,3,7,0,7,0,0,0,1,0,1,4,5,0,0,0,0,null,7]

{"sheet":"Раздел10","index":10,"n_rows":29,"n_cols":14,"rows_kept":29,"cut":false,"hidden":false,"merged":[[0,0,0,8],[1,0,28,0],[3,1,6,1],[3,2,6,2],[3,3,4,4],[4,5,4,8],[5,3,6,3],[5,4,6,4],[5,5,6,5],[1,14,28,14],[2,11,2,13],[3,5,3,13],[4,12,4,13],[5,13,6,13],[5,6,6,6],[5,7,5,8],[5,9,6,9],[5,10,6,10],[1,1,1,13],[5,12,6,12],[4,9,4,11],[5,11,6,11]]}
[]
[null,"Раздел X. Административные работники и специалисты"]
[null,null,null,null,null,null,null,null,null,null,null,"Код по ОКЕИ: человек – 792"]
[null,"Наименование должности","№ строки","Число работников",null,"из них имеют (из гр. 4):"]
[null,null,null,null,null,"профессиональное образование",null,null,null,"квалификационную категорию",null,null,"почетные звания"]
[null,null,null,"Всего","в том числе штатные","высшее","среднее","в том числе\nфизкультурное",null,"высшую","первую","вторую","Заслужен-ный тренер России","Заслуженный работник физической культуры Российской Федерации"]
[null,null,null,null,null,null,null,"высшее","среднее"]
[null,1,2,3,4,5,6,7,8,9,10,11,12,13]
[null,"Директор (руководитель)","01",1,1,1,null,1]
[null,"Заместители директора, руководители структурных подразделений и их заместители","02",{"$f":"SUM(D11:D12)","v":4},{"$f":"SUM(E11:E12)","v":4},4,0,2,0,0,1,0,0,{"$f":"SUM(N11:N12)","v":0}]
[null,"      в том числе:\n   по спортивной работе","03",1,1,1,null,1]
[null,"   другие (в том числе  руководители структурных подразделений и их заместители)","04",3,3,3,null,1,null,null,1]
[null,"Главный бухгалтер","05"]
[null,"Инструкторы по спорту","06"]
[null,"Спортсмены, спортсмены-инструкторы","07"]
[null,"   в том числе:\n   проходящие спортивную подготовку в \n   организациях, осуществляющих спортивную \n   подготовку","08"]
[null,"Инструкторы – методисты (включая старшего)","09",2,2,2,null,2,null,null,1]
[null,"Техники (специалист) по эксплуатации и ремонту спортивной техники, инвентаря и снаряжения","10"]
[null,"Преподаватели","11"]
[null,"Воспитатели (включая старшего)","12"]
[null,"Методисты (включая старшего)","13"]
[null,"Педагоги – психологи","14"]
[null,"Медицинские работники:","15",{"$f":"SUM(D24:D26)","v":0},{"$f":"SUM(E24:E26)","v":0},0,0,0,0,0,0,0,0,0]
[null,"   в том числе:\n   врачи","16"]
[null,"   средний медицинский персонал","17"]
[null,"   младший медицинский персонал","18"]
[null,"Специалисты спортсооружений","19"]
[null,"Прочий персонал","20",35,33,5,5,1]
[null,"ИТОГО","21",{"$f":"SUM(D9:D10,D13:D15,D17:D23,D27:D28)","v":42},{"$f":"SUM(E9:E10,E13:E15,E17:E23,E27:E28)","v":40},12,5,6,0,0,2,0,0,0]

{"sheet":"Раздел11","index":11,"n_rows":42,"n_cols":18,"rows_kept":42,"cut":false,"hidden":false,"merged":[[0,0,0,8],[1,0,41,0],[1,1,1,14],[2,11,2,15],[3,1,5,1],[3,2,5,2],[3,3,5,3],[3,4,3,8],[3,9,3,13],[3,14,5,14],[3,15,5,15],[4,4,5,4],[4,5,4,8],[4,9,5,9],[4,10,4,13]]}
[]
[null,"Раздел XI. Спортивные сооружения"]
[null,null,null,null,null,null,null,null,null,null,null,"Код по ОКЕИ: единица – 642"]
[null,"Наименование спортивного сооружения","№ стро-ки","Число спортивных сооружений – всего","находящихся на балансе (из гр. 3)",null,null,null,null,"арендуемых (из гр. 3)",null,null,null,null,"используемых на безвозмездной основе\n(из гр. 3)","Количество спортсооружений, входящих во Всероссийский реестр объектов спорта (из гр. 3)"]
[null,null,null,null,"всего","в том числе по формам собственности:",null,null,null,"всего","в том числе по формам собственности:"]
[null,null,null,null,null,"федеральной","субъектов Российской Федерации","муници-пальной","другой",null,"федеральной","субъектов Российской Федерации","муници-пальной","другой"]
[null,1,2,3,4,5,6,7,8,9,10,11,12,13,14,15]
[null,"Стадионы с трибунами – всего","01",{"$f":"E8+J8+O8","v":0},{"$f":"SUM(F8:I8)","v":0},null,null,null,null,{"$f":"SUM(K8:N8)","v":0}]
[null,"в том числе на 1500 мест и более","02",{"$f":"E9+J9+O9","v":0},{"$f":"SUM(F9:I9)","v":0},null,null,null,null,{"$f":"SUM(K9:N9)","v":0}]
[null,"Плоскостные спортивные сооружения - всего","03",1,1,{"$f":"SUM(F11:F12)","v":0},{"$f":"SUM(G11:G12)","v":0},{"$f":"SUM(H11:H12)","v":1},{"$f":"SUM(I11:I12)","v":0},0,{"$f":"SUM(K11:K12)","v":0},{"$f":"SUM(L11:L12)","v":0},0,0,0,{"$f":"SUM(P11:P12)","v":0}]
[null,"в том числе:\nПлоскостные спортивные сооружения","04",1,1,null,null,1,null,0]
[null,"Футбольные поля","05",0,0,null,null,null,null,0]
[null,"Спортивные залы – всего","06",2,2,{"$f":"SUM(F14:F17)","v":0},{"$f":"SUM(G14:G17)","v":0},{"$f":"SUM(H14:H17)","v":2},0,0,{"$f":"SUM(K14:K17)","v":0},{"$f":"SUM(L14:L17)","v":0},0,0,0,{"$f":"SUM(P14:P17)","v":2}]
[null,"      в том числе размером:\n     (42 х 24 м)","07",1,1,null,null,1,null,0,null,null,null,null,null,1]
[null,"     (36 х 18 м); (30 х 18 м) и (30 х 15 м)","08",1,1,null,null,1,null,0,null,null,null,null,null,1]
[null,"     (24 х 12 м) и (18 х 9 м)","09",0,0,null,null,null,null,0]
[null,"     иных размеров",10,0,0,null,null,null,null,0]
[null,"Манежи легкоатлетические",11,0,0,null,null,null,null,0]
[null,"Манежи футбольные",12,0,0,null,null,null,null,0]
[null,"Велотреки",13,0,0,null,null,null,null,0]
[null,"Велодромы",14,0,0,null,null,null,null,0]
[null,"Бассейны – всего",15,0,0,{"$f":"SUM(F23:F26)","v":0},{"$f":"SUM(G23:G26)","v":0},{"$f":"SUM(H23:H26)","v":0},0,0,{"$f":"SUM(K23:K26)","v":0},{"$f":"SUM(L23:L26)","v":0},0,0,0,{"$f":"SUM(P23:P26)","v":0}]
[null,"     в том числе: \n     плавательные 50-метровые",16,0,0,null,null,null,null,0]
[null,"     плавательные 25-метровые",17,0,0,null,null,null,null,0]
[null,"     нестандартных размеров",18,0,0,null,null,null,null,0]
[null,"     для прыжков в воду",19,0,0,null,null,null,null,0]
[null,"         из строки 15 - крытые",20,0,0,null,null,null,null,0]
[null,"Гребные базы",21,0,0,null,null,null,null,0]
[null,"Гребные каналы",22,0,0,null,null,null,null,0]
[null,"Крытые спортивные объекты с искусственным льдом – всего",23,0,0,{"$f":"SUM(F31:F32)","v":0},{"$f":"SUM(G31:G32)","v":0},{"$f":"SUM(H31:H32)","v":0},0,0,{"$f":"SUM(K31:K32)","v":0},{"$f":"SUM(L31:L32)","v":0},0,0,0,{"$f":"SUM(P31:P32)","v":0}]
[null,"  в том числе:\n  крытые спортивные объекты с искусственным     льдом ",24,0,0,null,null,null,null,0]
[null,"     конькобежные",25,0,0,null,null,null,null,0]
[null,"Лыжные базы",26,1,1,null,null,1,null,0]
[null,"Лыжные стадионы",27,0,0,null,null,null,null,0]
[null,"Биатлонные комплексы",28,0,0,null,null,null,null,0]
[null,"Сооружения для стрелковых видов спорта – всего",29,0,0,{"$f":"SUM(F37:F40)","v":0},{"$f":"SUM(G37:G40)","v":0},{"$f":"SUM(H37:H40)","v":0},0,0,{"$f":"SUM(K37:K40)","v":0},{"$f":"SUM(L37:L40)","v":0},{"$f":"SUM(M37:M40)","v":0},0,0,{"$f":"SUM(P37:P40)","v":0}]
[null,"     в том числе: \n     тиры",30,0,0,null,null,null,null,{"$f":"SUM(K37:N37)","v":0}]
[null,"     стрельбища",31,0,0,null,null,null,null,0]
[null,"     стенды",32,0,0,null,null,null,null,0]
[null,"     лукодромы",33,0,0,null,null,null,null,0]
[null,"Другие спортивные сооружения",34,4,{"$f":"SUM(F41:I41)","v":4},null,null,4,null,{"$f":"SUM(K41:N41)","v":0}]
[null,"ИТОГО",35,{"$f":"SUM(D8,D10,D13,D18:D22,D28:D30,D33:D36,D41)","v":8},8,0,{"$f":"SUM(G8,G10,G13,G18:G22,G28:G30,G33:G36,G41)","v":0},{"$f":"SUM(H8,H10,H13,H18:H22,H28:H30,H33:H36,H41)","v":8},0,0,{"$f":"SUM(K8,K10,K13,K18:K22,K28:K30,K33:K36,K41)","v":0},{"$f":"SUM(L8,L10,L13,L18:L22,L28:L30,L33:L36,L41)","v":0},{"$f":"SUM(M8,M10,M13,M18:M22,M28:M30,M33:M36,M41)","v":0},0,{"$f":"SUM(O8,O10,O13,O18:O22,O28:O30,O33:O36,O41)","v":0},{"$f":"SUM(P8,P10,P13,P18:P22,P28:P30,P33:P36,P41)","v":2},null,{"$f":"SUM(Раздел13!D23)","v":0}]

{"sheet":"Раздел12","index":12,"n_rows":31,"n_cols":31,"rows_kept":31,"cut":false,"hidden":false,"merged":[[0,0,0,19],[1,0,28,0],[1,1,1,28],[5,24,5,28],[6,28,8,28],[6,7,6,10],[6,11,6,14],[6,19,8,19],[6,20,8,20],[6,21,8,21],[6,22,8,22],[7,7,7,18],[3,1,8,1],[3,2,8,2],[3,3,4,4],[3,5,4,6],[5,3,8,3],[5,4,8,4],[5,5,8,5],[6,27,8,27],[5,7,5,14],[6,24,8,24],[5,19,5,23],[5,6,8,6],[6,26,8,26],[5,15,6,18],[6,23,8,23],[6,25,8,25],[1,29,28,29],[2,23,2,28],[3,7,3,28],[4,7,4,18],[4,19,4,28]]}
[]
[null,"Раздел XII. Сведения о численности и оплате труда работников"]
[null,null,null,null,null,null,null,null,null,null,null,null,null,null,null,null,null,null,null,null,null,null,null,"Коды по ОКЕИ: человек – 792; единица – 642; тысяча рублей – 384"]
[null,"Наименование должности","№ строки","Количество ставок, единиц",null,"Средняя численность работников, человек",null,"Фонд начисленной заработной платы работников, тыс. руб."]
[null,null,null,null,null,null,null,"всего",null,null,null,null,null,null,null,null,null,null,null,"по источникам финансирования"]
[null,null,null,"всего (без внешних совместителей)","внешних совме-стителей","списочного состава\n(без внеш-них совме-стителей)\n","внешних совме-стителей","списочного состава (без внешних совместителей)",null,null,null,null,null,null,null,"внешних совместителей",null,null,null,"списочного состава\n(без внешних совместителей)",null,null,null,null,"внешних совместителей"]
[null,null,null,null,null,null,null,"всего",null,null,null,"внутренних совместителей",null,null,null,null,null,null,null,"итого","федеральный бюджет","бюджет субъекта РФ","муниципальный бюджет","ПДД","итого","федеральный бюджет","бюджет субъекта РФ","муниципальный бюджет","ПДД"]
[null,null,null,null,null,null,null,"по разделам функциональной классификации расходов бюджета и средства от приносящей доход деятельности (ПДД)"]
[null,null,null,null,null,null,null,"Итого","07",11,"ПДД","Итого","07",11,"ПДД","Итого","07",11,"ПДД"]
[null,1,2,3,4,5,6,7,8,9,10,11,12,13,14,15,16,17,18,19,20,21,22,23,24,25,26,27,28,null,"13 5"]
[null,"Директор","01",1,null,1,null,{"$f":"SUM(I11:K11)","v":1884.1},null,1884.1,null,{"$f":"SUM(M11:O11)","v":0},null,null,null,{"$f":"SUM(Q11:S11)","v":0},null,null,null,{"$f":"SUM(U11:X11)","v":1884.1},null,null,1884.1,null,{"$f":"SUM(Z11:AC11)","v":0},null,null,null,null,null,{"$f":"Раздел13!E9+Раздел13!F9","v":0}]
[null,"Заместители директора, руководители структурных подразделений и их заместители","02",8,null,4,null,{"$f":"SUM(I12:K12)","v":6687.6},null,6687.6,null,{"$f":"SUM(M12:O12)","v":0},null,null,null,{"$f":"SUM(Q12:S12)","v":0},null,null,null,{"$f":"SUM(U12:X12)","v":6687.6},null,null,6687.6,null,{"$f":"SUM(Z12:AC12)","v":0},null,null,null,null,null,{"$f":"Раздел13!G9+Раздел13!H9","v":83.2}]
[null,"Работники учреждений, осуществляющие спортивную подготовку:","03",{"$f":"SUM(D20,D14,D23)","v":16.3},{"$f":"SUM(E20,E14,E23)","v":2.4},12,3,16568,0,16471.400000000001,96.6,747.69999999999993,0,747.69999999999993,0,1415.9,0,1415.9,0,16568,0,0,16471.400000000001,96.6,1415.9,0,0,1415.9,{"$f":"SUM(AC20,AC14,AC23)","v":0},null,{"$f":"Раздел13!I9+Раздел13!J9","v":44378.2}]
[null,"     тренерский персонал - всего:","04",{"$f":"SUM(D15:D17)","v":13.700000000000001},{"$f":"SUM(E15:E17)","v":2.4},10,3,14072.900000000001,0,{"$f":"SUM(J15:J17)","v":14072.900000000001},0,647.29999999999995,0,647.29999999999995,0,1415.9,0,1415.9,0,14072.900000000001,0,0,14072.900000000001,0,{"$f":"SUM(Z14:AC14)","v":1415.9},0,0,1415.9,{"$f":"SUM(AC15:AC17)","v":0},null,{"$f":"Раздел13!K9","v":968.6}]
[null,"   в том числе:\n   главные тренеры по видам спорта;","05",null,null,null,null,0,null,null,null,0,null,null,null,0,null,null,null,0,null,null,null,null,0]
[null,"     старшие тренеры по видам спорта; ","06",1.4,null,1,null,2553.6999999999998,null,2553.6999999999998,null,0,null,null,null,0,null,null,null,2553.6999999999998,null,null,2553.6999999999998,null,0]
[null,"     тренеры по видам спорта - всего:","07",{"$f":"SUM(D18:D19)","v":12.3},{"$f":"SUM(E18:E19)","v":2.4},9,3,11519.2,0,11519.2,0,647.29999999999995,0,647.29999999999995,0,1415.9,0,{"$f":"SUM(R18:R19)","v":1415.9},0,11519.2,0,0,11519.2,0,1415.9,0,0,1415.9,0]
[null,"       в том числе:\n       тренеры","08",12.3,2.4,9,3,11519.2,null,11519.2,null,647.29999999999995,null,647.29999999999995,null,1415.9,null,1415.9,null,11519.2,null,null,11519.2,null,1415.9,null,null,1415.9]
[null,"         тренеры-преподаватели","09",null,null,null,null,0,null,null,null,0,null,null,null,0,null,null,null,0,null,null,null,null,0]
[null,"      методический персонал:",10,{"$f":"SUM(D21:D22)","v":2.6},{"$f":"SUM(E21:E22)","v":0},2,0,2495.1,0,2398.5,96.6,100.4,0,100.4,0,0,0,0,0,2495.1,0,0,2398.5,96.6,0,0,0,0,{"$f":"SUM(AC21:AC22)","v":0}]
[null,"      в том числе:\n      инструкторы-методисты;",11,1.6,null,1,null,984.4,null,984.4,null,100.4,null,100.4,null,0,null,null,null,984.4,null,null,984.4,null,0]
[null,"      старшие инструкторы-методисты",12,1,null,1,null,1510.6999999999998,null,1414.1,96.6,0,null,null,null,0,null,null,null,1510.6999999999998,null,null,1414.1,96.6,0]
[null,"     спортсмены, спортсмены-инструкторы",13,null,null,null,null,0,null,null,null,0,null,null,null,0,null,null,null,0,null,null,null,null,0]
[null,"Тренеры спортивных сборных команд:",14,{"$f":"SUM(D25:D27)","v":0},{"$f":"SUM(E25:E27)","v":0},0,0,0,0,0,0,0,0,0,0,0,0,0,0,0,0,0,0,0,0,0,0,0,0]
[null,"    в том числе:    \n    главные тренеры спортивных сборных команд;",15,null,null,null,null,0,null,null,null,0,null,null,null,0,null,null,null,0,null,null,null,null,0]
[null,"   старшие тренеры спортивных сборных команд",16,null,null,null,null,0,null,null,null,0,null,null,null,0,null,null,null,0,null,null,null,null,0]
[null,"    старшие тренеры по резерву сборных команд",17,null,null,null,null,0,null,null,null,0,null,null,null,0,null,null,null,0,null,null,null,null,{"$f":"SUM(Z27:AC27)","v":0}]
[null,"Тренеры-консультанты",18,null,null,null,null,0,null,null,null,0,null,null,null,0,null,null,null,{"$f":"SUM(U28:X28)","v":0},null,null,null,null,0]
[null,"Медицинские работники",19,null,null,null,null,0,null,null,null,0,null,null,null,0,null,null,null,0,null,null,null,null,0]
[null,"Прочий персонал",20,29.2,1,35,1,{"$f":"SUM(I30:K30)","v":18408.900000000001},null,17536.900000000001,872,{"$f":"SUM(M30:O30)","v":737.2},null,737.2,null,{"$f":"SUM(Q30:S30)","v":465.5},null,465.5,null,{"$f":"SUM(U30:X30)","v":18408.900000000001},null,83.2,17453.7,872,{"$f":"SUM(Z30:AC30)","v":465.5},null,null,465.5]
[null,"ИТОГО",21,{"$f":"SUM(D11:D13,D24,D28:D30)","v":54.5},{"$f":"SUM(E11:E13,E24,E28:E30)","v":3.4},{"$f":"SUM(F11:F13,F24,F28:F30)","v":52},4,{"$f":"SUM(H11:H13,H24,H28:H30)","v":43548.600000000006},0,42580,968.6,1484.9,0,1484.9,0,1881.4,0,1881.4,0,43548.600000000006,0,83.2,42496.800000000003,968.6,1881.4,0,0,1881.4,0]

{"sheet":"Раздел13","index":13,"n_rows":35,"n_cols":22,"rows_kept":35,"cut":false,"hidden":false,"merged":[[0,0,38,0],[0,1,0,14],[1,8,1,10],[2,1,5,1],[2,2,5,2],[2,3,5,3],[2,4,3,10],[4,4,4,5],[4,6,4,7],[4,8,4,9],[35,13,35,15],[4,10,5,10],[27,3,27,4],[28,5,28,9],[31,2,31,4],[33,2,33,4],[34,2,34,3]]}
[null,"Раздел XIII. Финансовая деятельность организаций"]
[null,null,null,null,null,null,null,null,"Код по ОКЕИ: тысяча рублей - 384"]
[null,"Расходы на содержание организаций\n","№ строки","ВСЕГО","в том числе по источникам финансирования и \nразделам функциональной классификации расходов бюджета:"]
[]
[null,null,null,null,"федеральный бюджет",null,"бюджет субъекта Российской Федерации ",null,"муниципальный бюджет ",null,"внебюджетные источники "]
[null,null,null,null,"07","11","07","11","07","11",null,null,null,null,null,null,null,null,null,null,"11р","12 Р"]
[null,1,"2",3,4,5,6,7,8,9,"10",null,null,null,null,null,null,null,null,null,{"$f":"Раздел11!J42","v":0},{"$f":"SUM(Раздел12!U31,Раздел12!Z31)","v":0}]
[null,"Всего расходов","01",{"$f":"SUM(E8:K8)","v":66303.899999999994},{"$f":"SUM(E9:E13,E16,E21:E22,E26)","v":0},{"$f":"SUM(F9:F13,F16,F21:F22,F26)","v":0},0,2698.5,0,61304.4,2301,null,null,null,null,null,null,null,null,null,null,{"$f":"SUM(Раздел12!V31,Раздел12!AA31)","v":83.2}]
[null,"в том числе: \nЗаработная плата","02",{"$f":"SUM(E9:K9)","v":45429.999999999993},null,null,null,83.2,null,44378.2,968.6,null,null,null,null,null,null,null,null,null,null,{"$f":"SUM(Раздел12!W31,Раздел12!AB31)","v":44378.200000000004}]
[null,"Организация и проведение спортивных мероприятий","03",108.89999999999999,null,null,null,95.8,null,13.1,null,null,null,null,null,null,null,null,null,null,null,{"$f":"SUM(Раздел12!X31,Раздел12!AC31)","v":968.6}]
[null,"Участие в соревнованиях и\nтренировочных сборах","04",1546.4,null,null,null,975.5,null,570.9,null,null,null,null,null,null,null,null,null,null,null,{"$f":"Раздел12!I31+Раздел12!Q31","v":0}]
[null,"Медико-восстановительные мероприятия","05",0,null,null,null,null,null,null,null,null,null,null,null,null,null,null,null,null,null,{"$f":"Раздел12!J31+Раздел12!R31","v":44461.4}]
[null,"Материально-техническое обеспечение - всего:","06",4991.8,{"$f":"SUM(E14:E15)","v":0},{"$f":"SUM(F14:F15)","v":0},0,1499.1999999999998,{"$f":"SUM(I14:I15)","v":0},2437.4,1055.2,null,null,null,null,null,null,null,null,null,null,{"$f":"Раздел12!K31+Раздел12!S31","v":968.6}]
[null,"   в том числе: \n   экипировка, спортивное оборудование, \n   инвентарь;","07",2478.1999999999998,null,null,null,1045.8,null,1432.4,null,null,null,null,null,null,null,null,null,null,null,{"$f":"Раздел1!G29","v":1}]
[null,"   прочее","08",2513.6000000000004,null,null,null,453.4,null,1005,1055.2]
[null,"Профессиональная переподготовка и повышение квалификации  специалистов, осуществляющих деятельность в области физической культуры и спорта - всего:","09",77.3,{"$f":"SUM(E17:E20)","v":0},{"$f":"SUM(F17:F20)","v":0},0,0,0,77.3,0]
[null,"  в том числе: \n  тренеры;","10",0]
[null,"  тренеры-преподаватели;","11",0]
[null,"  инструкторы-методисты;","12",0]
[null,"  другие специалисты","13",77.3,null,null,null,null,null,77.3,null,null,null,null,null,null,null,null,null,null,{"$f":"Раздел11!E42","v":8}]
[null,"Предоставление  доступа к объекту спорта","14",0]
[null,"Содержание спортивных сооружений - всего:","15",9917.6,{"$f":"SUM(E23:E25)","v":0},{"$f":"SUM(F23:F25)","v":0},0,0,0,9917.6,0]
[null,"   в том числе: \n   аренда (услуги спортсооружений);","16",0,null,null,null,null,null,null,null,null,null,null,null,null,null,null,null,null,null,{"$f":"Раздел11!J42","v":0}]
[null,"   собственные спортсооружения;","17",6299.2,null,null,null,null,null,6299.2]
[null,"   другие расходы на содержание","18",3618.4,null,null,null,null,null,3618.4]
[null,"Прочие расходы","19",4231.9000000000005,null,null,null,44.8,null,3909.9,277.2]
[null,null,null,{"$error":"#REF!"}]
[null,"Поступило средств от приносящей доход детельности, тысяча рублей:",null,2461.6]
[]
[]
[null,"Должностное лицо, ответственное за предоставление первичных статистических данных (лицо, уполномоченное предоставлять первичные статистические данные \nот имени юридического лица)"]
[null,"Директор","Антон Сергеевич Вагин"]
[null,"             (должность)",null,"        (ФИО)",null,"  ","       (подпись)"]
[null,"8 (3463) 42-43-74","dyssh.pyt-yah@mail.ru"]
[null,"     (номер контактного телефона)","                   (e-mail)",null,null,null,"(дата составления документа)"]